BEGIN:VCALENDAR
VERSION:2.0
PRODID:-//IDC - ECPv6.15.20//NONSGML v1.0//EN
CALSCALE:GREGORIAN
METHOD:PUBLISH
X-ORIGINAL-URL:https://idcanada.org/fr/
X-WR-CALDESC:Évènements pour IDC
REFRESH-INTERVAL;VALUE=DURATION:PT1H
X-Robots-Tag:noindex
X-PUBLISHED-TTL:PT1H
BEGIN:VTIMEZONE
TZID:America/Edmonton
BEGIN:DAYLIGHT
TZOFFSETFROM:-0700
TZOFFSETTO:-0600
TZNAME:MDT
DTSTART:20240310T090000
END:DAYLIGHT
BEGIN:STANDARD
TZOFFSETFROM:-0600
TZOFFSETTO:-0700
TZNAME:MST
DTSTART:20241103T080000
END:STANDARD
BEGIN:DAYLIGHT
TZOFFSETFROM:-0700
TZOFFSETTO:-0600
TZNAME:MDT
DTSTART:20250309T090000
END:DAYLIGHT
BEGIN:STANDARD
TZOFFSETFROM:-0600
TZOFFSETTO:-0700
TZNAME:MST
DTSTART:20251102T080000
END:STANDARD
BEGIN:DAYLIGHT
TZOFFSETFROM:-0700
TZOFFSETTO:-0600
TZNAME:MDT
DTSTART:20260308T090000
END:DAYLIGHT
BEGIN:STANDARD
TZOFFSETFROM:-0600
TZOFFSETTO:-0700
TZNAME:MST
DTSTART:20261101T080000
END:STANDARD
END:VTIMEZONE
BEGIN:VTIMEZONE
TZID:America/Toronto
BEGIN:DAYLIGHT
TZOFFSETFROM:-0500
TZOFFSETTO:-0400
TZNAME:EDT
DTSTART:20240310T070000
END:DAYLIGHT
BEGIN:STANDARD
TZOFFSETFROM:-0400
TZOFFSETTO:-0500
TZNAME:EST
DTSTART:20241103T060000
END:STANDARD
BEGIN:DAYLIGHT
TZOFFSETFROM:-0500
TZOFFSETTO:-0400
TZNAME:EDT
DTSTART:20250309T070000
END:DAYLIGHT
BEGIN:STANDARD
TZOFFSETFROM:-0400
TZOFFSETTO:-0500
TZNAME:EST
DTSTART:20251102T060000
END:STANDARD
BEGIN:DAYLIGHT
TZOFFSETFROM:-0500
TZOFFSETTO:-0400
TZNAME:EDT
DTSTART:20260308T070000
END:DAYLIGHT
BEGIN:STANDARD
TZOFFSETFROM:-0400
TZOFFSETTO:-0500
TZNAME:EST
DTSTART:20261101T060000
END:STANDARD
END:VTIMEZONE
BEGIN:VTIMEZONE
TZID:America/Winnipeg
BEGIN:DAYLIGHT
TZOFFSETFROM:-0600
TZOFFSETTO:-0500
TZNAME:CDT
DTSTART:20240310T080000
END:DAYLIGHT
BEGIN:STANDARD
TZOFFSETFROM:-0500
TZOFFSETTO:-0600
TZNAME:CST
DTSTART:20241103T070000
END:STANDARD
BEGIN:DAYLIGHT
TZOFFSETFROM:-0600
TZOFFSETTO:-0500
TZNAME:CDT
DTSTART:20250309T080000
END:DAYLIGHT
BEGIN:STANDARD
TZOFFSETFROM:-0500
TZOFFSETTO:-0600
TZNAME:CST
DTSTART:20251102T070000
END:STANDARD
BEGIN:DAYLIGHT
TZOFFSETFROM:-0600
TZOFFSETTO:-0500
TZNAME:CDT
DTSTART:20260308T080000
END:DAYLIGHT
BEGIN:STANDARD
TZOFFSETFROM:-0500
TZOFFSETTO:-0600
TZNAME:CST
DTSTART:20261101T070000
END:STANDARD
END:VTIMEZONE
BEGIN:VTIMEZONE
TZID:America/Vancouver
BEGIN:DAYLIGHT
TZOFFSETFROM:-0800
TZOFFSETTO:-0700
TZNAME:PDT
DTSTART:20240310T100000
END:DAYLIGHT
BEGIN:STANDARD
TZOFFSETFROM:-0700
TZOFFSETTO:-0800
TZNAME:PST
DTSTART:20241103T090000
END:STANDARD
BEGIN:DAYLIGHT
TZOFFSETFROM:-0800
TZOFFSETTO:-0700
TZNAME:PDT
DTSTART:20250309T100000
END:DAYLIGHT
BEGIN:STANDARD
TZOFFSETFROM:-0700
TZOFFSETTO:-0800
TZNAME:PST
DTSTART:20251102T090000
END:STANDARD
BEGIN:DAYLIGHT
TZOFFSETFROM:-0800
TZOFFSETTO:-0700
TZNAME:PDT
DTSTART:20260308T100000
END:DAYLIGHT
BEGIN:STANDARD
TZOFFSETFROM:-0700
TZOFFSETTO:-0800
TZNAME:PST
DTSTART:20261101T090000
END:STANDARD
END:VTIMEZONE
BEGIN:VEVENT
DTSTART;VALUE=DATE:20250314
DTEND;VALUE=DATE:20250622
DTSTAMP:20260419T084610
CREATED:20250417T145956Z
LAST-MODIFIED:20250422T171249Z
UID:21306-1741910400-1750550399@idcanada.org
SUMMARY:UNCEDED: Voices of the Land
DESCRIPTION:Led by the world renowned “Contemporary Master of Architecture” and traditional Elder Douglas Cardinal\, UNCEDED showcases the works and worldview of 18 prominent Indigenous architects and designers from across Turtle Island who share an Indigenous vision for the future of our human family. \nThis unprecedented exhibition and once-in-a-lifetime experience of Indigenous architecture\, creation\, joy\, and resilience – now open in Edmonton until June 21\, 2025! \nIDA Members get a 15% discount by using the PROMO code IDA15 \nView the website and buy tickets
URL:https://idcanada.org/fr/event/unceded-voices-of-the-land/
LOCATION:Edmonton City Centre (Main Floor)\, West End 10200 102 Ave NW\, Edmonton\, AB\, T5J 0W9\, Canada
CATEGORIES:Third Party Event
END:VEVENT
BEGIN:VEVENT
DTSTART;VALUE=DATE:20250401
DTEND;VALUE=DATE:20250405
DTSTAMP:20260419T084610
CREATED:20250318T182021Z
LAST-MODIFIED:20250318T182247Z
UID:21110-1743465600-1743811199@idcanada.org
SUMMARY:Complètement Design
DESCRIPTION:Get inspired\, expand your network\, deepen your knowledge\, and celebrate quality design \nThe Complètement Design event\, presented by Tafisa\, brings together a community of architecture and design professionals under one roof to experience a dynamic program featuring exhibition spaces\, networking opportunities\, and distinguished guests. \nExplore Complètement Design\, the third Edition of a distinctive event in Montreal\, crafted by Index-Design and presented by Tafisa\, for Architecture and Design professionals. Immerse yourself in an exceptional experience where harmony\, interdisciplinarity\, collaboration\, and innovation converge\, shaping a truly unique annual gathering.\n‍\nDiscover the exhibition spaces and be inspired by the creators\, experts\, and carefully curated products and brands. Attend captivating conferences led by prominent figures from both the local and international design communities. \nView program \nBook your ticket
URL:https://idcanada.org/fr/event/completement-design/
LOCATION:ON
CATEGORIES:Third Party Event
END:VEVENT
BEGIN:VEVENT
DTSTART;TZID=America/Toronto:20250416T170000
DTEND;TZID=America/Toronto:20250416T190000
DTSTAMP:20260419T084610
CREATED:20250321T172304Z
LAST-MODIFIED:20250417T151315Z
UID:21135-1744822800-1744830000@idcanada.org
SUMMARY:Georgian College - Elevate
DESCRIPTION:Celebrate emerging talent\, innovation the pursuit of excellence in design and the transformative power of creativity. \nApril 16th 2025 \n5 – 7 pm \n1 Georgian Drive\, Barrie Ontario N-Building\, 3rd \nFloor\, ABSC Space \nElevate showcases the creativity\, innovation\, and growth of Georgian College’s Honours Bachelor of Interior Design students (2024-2025).  From early explorations to advanced concepts\, witness their journey as they shape the future of design. Celebrate their progress and engage with their work! \nRSVP to attend \n 
URL:https://idcanada.org/fr/event/elevate/
LOCATION:ON
END:VEVENT
BEGIN:VEVENT
DTSTART;TZID=America/Toronto:20250423T170000
DTEND;TZID=America/Toronto:20250423T203000
DTSTAMP:20260419T084610
CREATED:20250417T151227Z
LAST-MODIFIED:20250417T151228Z
UID:21310-1745427600-1745440200@idcanada.org
SUMMARY:Algonquin College - BID Grad Show 2025
DESCRIPTION:Visit the website to learn more and RSVP to attend.
URL:https://idcanada.org/fr/event/algonquin-college-bid-grad-show-2025/
LOCATION:Algonquin College\, 1385 Woodroffe Ave\, Ottawa\, Ontario\, K2G 1V8\, Canada
CATEGORIES:Third Party Event
END:VEVENT
BEGIN:VEVENT
DTSTART;VALUE=DATE:20250424
DTEND;VALUE=DATE:20250428
DTSTAMP:20260419T084610
CREATED:20250417T152856Z
LAST-MODIFIED:20250417T153000Z
UID:21321-1745452800-1745798399@idcanada.org
SUMMARY:TMU 2025 School of Interior Design Year-End Show
DESCRIPTION:See website for details.
URL:https://idcanada.org/fr/event/tmu-2025-school-of-interior-design-year-end-show/
LOCATION:Toronto Metropolitan University\, 350 Victoria Street\, Toronto\, Ontario\, M5B 2K3\, Canada
END:VEVENT
BEGIN:VEVENT
DTSTART;TZID=America/Winnipeg:20250424T113000
DTEND;TZID=America/Winnipeg:20250424T170000
DTSTAMP:20260419T084610
CREATED:20250123T201505Z
LAST-MODIFIED:20250423T174413Z
UID:20663-1745494200-1745514000@idcanada.org
SUMMARY:Industry Sales Professionals Course Winnipeg
DESCRIPTION:On Thursday\, April 24\, IDC returns to Winnipeg to continue offering the celebrated Industry Sales Professionals Course (ISPC)\, a custom course tailored exclusively to meet the needs of architecture and design industry sales professionals. \nBuilding on the success of last year’s ISPC Winnipeg and the 2023 offering\, and hosted this year by Teknion\, the event will feature three practically oriented and engaging panels and Q&A sessions with leading local design professionals! Additionally\, opportunities for networking and building connections will be provided throughout the afternoon\, including a delicious networking lunch\, refreshing coffee breaks\, and a happy hour with delectable drinks and bites. \nInterior designers are invited to join for free to hear insights for developing their practice and networking with industry reps. \nIndustry and designers are also invited to attend IDC’s Impact Award Winnipeg on the following day (Friday\, April 25) for a celebratory plated networking breakfast celebrating accomplished interior designer and IDC Past President Jennifer Wiwchar-Fast. See registration options below. \nPlease see our registration options:\nIDC and PIDIM designer members RSVP for the ISPC for free. \nRegister for the ISPC event as a single Industry representative attendee or group. \nRegister for an individual ticket to attend both the ISPC and Impact Award. \nRegister for the Impact Award Winnipeg on April 25 or purchase a half or full table to the event. \nEvent Schedule: \n\n11:30 – 12:00 p.m. | Networking Lunch\n12:00 – 1:00 p.m. | Sustainability Panel\n1:00 – 1:30 p.m. | Coffee Break\n1:30 – 2:30 p.m. | Universal Design Panel\n2:30 – 3:00 p.m. | Coffee Break\n3:00 – 4:00 p.m. | Lighting Panel\n4:00 – 5:00 p.m. | Networking Cocktail Hour*\n\n*The cocktail happy hour will be held at the Teknion showroom in suite 1580 of the same building as the rest of the event. \nSustainability Panel \nMelanie Chatfield\nEnergy Analyst\, City of Winnipeg\nBiography \nRobin Lalonde\nInterior Designer\, Number TEN Architectural Group\nBiography\n \nStacey Pediny\nTerritory Sales Manager\, Teknion\nBiography \nUniversal Design Panel \nBrian Everton\nPresident and Owner\, Design For All Inc.\nBiography \nDonna Sharpe\nPresident\, PIDIM\nBiography \nJudy Redmond\nAccessibility Consultant\, J. Redmond Consulting\nBiography \nLighting Panel \nPaul Shack\nVice President Operations\, Nor-Tec Group Ltd\nBiography \nSebastien Lagasse\nPrincipal – Electrical\, Tower Engineering Group \nTyler Cook\nOutside Sales\, R.D Sales \nBenefits of participating: \n\nExpanded network of registered interior designers and architects\, drawn from boutique and large design firms\nTwo-way conversations with registered designers\, architects\, and other sales professionals\nHelpful tips on how their studios operate as well as how to join their network of trusted industry resources\nCertificate of completion\n\nSee answers to frequently asked questions. \nTestimonials\n“Our connections and communications with the product rep community are an essential part of how we as designers work. We would be very lost without them.” – Joanne McFadden\, Principal\, ft3 Architecture Landscape Interior Design \n“Incredible engaging opportunity to have an open and candid conversation on how we (manufacturers\, distributors) can better support and work alongside our industry customers both in the design and architectural fields. » – Dallas Klassen\, Regional Sales Director\, Canada West\, Interface \n“The ISPC was a great event to have for the A&D Representative community – to remind us how to navigate this difficult boundary between the rep and designer. It was confirmed to me in this course that it’s all about timing and persistence. Building trust and partnership in the design community. It is a great course for new A&D Representatives and companies to invest in. Teaching the basics of relationship building between the rep and designer.” – Katrina Ozerkevich\, Architecture and Design Specification Representative\, Julian Tile \nEvent details: \nLocation: 201 Portage Avenue\, Conference Centre\nWinnipeg\, MB R3B 3K6\nDate: Thursday\, April 24\, 2025 \nEvent contact: bkrsiakova@idcanada.org \nSpecial thanks to our event host\,\nTeknion
URL:https://idcanada.org/fr/event/industry-sales-professionals-course-winnipeg-2025/
LOCATION:201 Portage\, 201 Portage Ave.\, Winnipeg\, MB\, R3C 0B9\, Canada
CATEGORIES:Industry Course
END:VEVENT
BEGIN:VEVENT
DTSTART;TZID=America/Vancouver:20250424T160000
DTEND;TZID=America/Vancouver:20250424T200000
DTSTAMP:20260419T084610
CREATED:20250417T151741Z
LAST-MODIFIED:20250417T151742Z
UID:21314-1745510400-1745524800@idcanada.org
SUMMARY:KPU Wilson 2025 Grad Show
DESCRIPTION:See website for details.
URL:https://idcanada.org/fr/event/kpu-wilson-2025-grad-show/
LOCATION:KPU Wilson School of Design Campus\, 5600 Kwantlen St\, Richmond\, British Columbia\, Canada
CATEGORIES:Third Party Event
END:VEVENT
BEGIN:VEVENT
DTSTART;TZID=America/Toronto:20250424T170000
DTEND;TZID=America/Toronto:20250424T200000
DTSTAMP:20260419T084610
CREATED:20250409T203011Z
LAST-MODIFIED:20250409T203210Z
UID:21266-1745514000-1745524800@idcanada.org
SUMMARY:Designers In Bloom - Conestoga BID Grad Gala 2025
DESCRIPTION:
URL:https://idcanada.org/fr/event/designers-in-bloom/
LOCATION:Quartz Co Waterloo Showroom\, 620 Colby Dr\, Waterloo\, Ontario\, Canada
CATEGORIES:Third Party Event
END:VEVENT
BEGIN:VEVENT
DTSTART;TZID=America/Toronto:20250424T180000
DTEND;TZID=America/Toronto:20250424T200000
DTSTAMP:20260419T084610
CREATED:20250417T152200Z
LAST-MODIFIED:20250417T152201Z
UID:21318-1745517600-1745524800@idcanada.org
SUMMARY:Fanshawe College Honours BID Year-End Show
DESCRIPTION:See website for more details.
URL:https://idcanada.org/fr/event/fanshawe-college-honours-bid-year-end-show/
LOCATION:Fanshawe College\, 1011 Fanshawe College Blvd.\, London\, ON\, Canada
CATEGORIES:Third Party Event
END:VEVENT
BEGIN:VEVENT
DTSTART;TZID=America/Winnipeg:20250425T080000
DTEND;TZID=America/Winnipeg:20250425T110000
DTSTAMP:20260419T084610
CREATED:20250123T210153Z
LAST-MODIFIED:20250409T161006Z
UID:20688-1745568000-1745578800@idcanada.org
SUMMARY:2025 IDC Impact Award Winnipeg
DESCRIPTION:The IDC Impact Award\, presented by ShawContract\, celebrates the significant contributions of Canadian design professionals and the impact their legacy continues to have on the interior design community. \nIDC and The Professional Interior Designers Institute of Manitoba (PIDIM) council are collaborating to recognize this year’s honouree IDC Past President\, Jennifer Wiwchar-Fast\, Professional Interior Designer\, Senior Accommodations Planner\, City of Winnipeg\, Planning Property and Development. \nJennifer will be live on stage in conversation with Laney Stewart\, Executive Director of The Professional Interior Designers Institute of Manitoba (PIDIM)\, Jason Kasper\, IDC Past President\, and Founder and Principal at IDEATE Design Consulting Inc.\, and Trevor Kruse\, IDC CEO. \nIndustry and designers are also invited to attend IDC’s Industry Sales Professionals Course (ISPC) the day before the Impact Award\, featuring three practically oriented and engaging panels and Q&A sessions with leading local design professionals. See registration options below. \nPlease see our registration options:\nRegister here for the Impact Award only or purchase a half or full table at the event. \nRegister here for an individual ticket to attend both the Impact Award and ISPC. \nRegister here for the ISPC event on the day prior (April 24) as a single attendee or as a group. \nHonouree: \n \nJennifer Wiwchar-Fast\nProfessional Interior Designer\, Senior Accommodations Planner\nCity of Winnipeg\, Planning Property and Development\nLearn more \n  \nIn conversation: \n \nLaney Stewart\nExecutive Director\nThe Professional Interior Designers Institute of Manitoba (PIDIM)\nLearn more \n \nJason Kasper\nIDC Past President\, Founder and Principal \nIDEATE Design Consulting Inc. \nLearn more \n \nTrevor Kruse\nCEO\nInterior Designers of Canada \nLearn more \nThis event will count toward 1 IDCEC hour. \nSee recaps of last year’s Impact Award events in Calgary\, Toronto\, and Vancouver. \nEvent Details: \nLocation: Manitoba Club\n194 Broadway\, Winnipeg\, MB R3C 0R2\nDate: Friday\, April 25\, 2025\nTime: 8 – 11 a.m. CT \nTable Opportunities for Partners — 4 tables remain! \n\n\n\nChampion Table – $5\,000  \nSOLD to ShawContract\n\n\n2 x VIP table location for 10 (20 seats)\nYour company’s name included on table signage\nYour company’s logo added to IDC’s event web page\nYour company’s logo included on IDC communications tools (IDC newsletter\, email event notices\, social media\, etc.)\nYour company’s logo included in the Impact Award event presentation\nOpportunity to place your company’s promotional item on seat (approximately 300 items required)\nYour company mentioned as a sponsor in the event announcement\n\n\n\n\nPatron –\n$3\,000\n\n\nPreferred table location for 10\nYour company’s name included on table signage\nYour company’s logo added to IDC’s event web page\nYour company’s logo included on email event notices to all IDC members\nYour company’s logo included in the Impact Award event presentation\n\n\n\n\nTable of Ten – \n$2\,000\n\n\nSelect table location for 10\nYour company’s name included on table signage\nYour company’s logo added to IDC’s event web page\nYour company’s logo included on email event notices to all IDC members\nYour company’s logo included in the Impact Award event presentation\n\n\n\n\n\nPresented by:\n\n\n\n\n\n\n\n\nTable Sponsor:\n\n\n\n\n\n\n\n  \nPURCHASE YOUR TABLE!\nFor questions and to secure a table without attendee names\, please contact: \nBarbora Krsiakova\, IDC Director\, Business Development at bkrsiakova@idcanada.org
URL:https://idcanada.org/fr/event/idc-impact-award-winnipeg-2025/
LOCATION:Manitoba Club\, 194 Broadway\, Winnipeg\, MB\, R3C 0R2\, Canada
END:VEVENT
BEGIN:VEVENT
DTSTART;TZID=America/Vancouver:20250425T170000
DTEND;TZID=America/Vancouver:20250425T190000
DTSTAMP:20260419T084610
CREATED:20250130T172601Z
LAST-MODIFIED:20250417T153337Z
UID:20752-1745600400-1745607600@idcanada.org
SUMMARY:BCIT 2025 Graduation Exhibition
DESCRIPTION:The British Columbia Institute of Technology 2025 Graduation Exhibition will show work from both the Bachelor of Architectural Science and the Bachelor of Interior Design programs. \nDate: Friday\, April 25\, 2025\nTime: 5 pm to 7:00 pm\nLocation: BCIT Downtown Campus\n555 Seymour St.\, 2nd-floor\nVancouver BC \nIndustry and Alumni\nLight refreshments will be served! \nNote: Registration is needed for this event. Link will be posted end of March. \n 
URL:https://idcanada.org/fr/event/bcit-2025-graduation-exhibition/
LOCATION:BCIT Downtown Campus\, 555 Seymour St.\, Vancouver\, BC\, V6B 3H6\, Canada
CATEGORIES:Third Party Event
END:VEVENT
BEGIN:VEVENT
DTSTART;TZID=America/Toronto:20250425T170000
DTEND;TZID=America/Toronto:20250425T200000
DTSTAMP:20260419T084610
CREATED:20250417T153734Z
LAST-MODIFIED:20250417T153735Z
UID:21326-1745600400-1745611200@idcanada.org
SUMMARY:Humber College - Design DNA
DESCRIPTION:TOGETHER is the 2025 Humber Design Showcase\, featuring work by graduating Designers\, including: Industrial\, Interior\, Graphic and friends. \nSee website for details.
URL:https://idcanada.org/fr/event/humber-college-design-dna/
LOCATION:Humber International Graduate School\, 59 Hayden Street #Unit 400\, Toronto\, ON\, M4Y 0E7\, Canada
CATEGORIES:Third Party Event
END:VEVENT
BEGIN:VEVENT
DTSTART;TZID=America/Toronto:20250426T130000
DTEND;TZID=America/Toronto:20250426T170000
DTSTAMP:20260419T084610
CREATED:20250409T204131Z
LAST-MODIFIED:20250409T205136Z
UID:21273-1745672400-1745686800@idcanada.org
SUMMARY:VIU Year-End Showcase 2025
DESCRIPTION:This Year-End showcase will proudly feature the work of students in all years of the Bachelor of Interior Design program at Vancouver Island University. Join us in celebrating our students! \nGeneral Public\, Industry and Alumni are welcome. \nLight refreshments and appetizers will be served\, with an optional cash bar available.
URL:https://idcanada.org/fr/event/viu-year-end-showcase-2025/
LOCATION:Vancouver Island Conference Centre\, 101 Gordon Street\, Nanaimo\, British Columbia\, V9R 5J8\, Canada
CATEGORIES:Third Party Event
END:VEVENT
BEGIN:VEVENT
DTSTART;TZID=America/Toronto:20250427T133000
DTEND;TZID=America/Toronto:20250427T143000
DTSTAMP:20260419T084610
CREATED:20250313T172348Z
LAST-MODIFIED:20250422T145358Z
UID:21078-1745760600-1745764200@idcanada.org
SUMMARY:IDC Panel Discussion at 2025 Living Luxe Design Show
DESCRIPTION:Experience Luxury Unveiled. \nMark your calendar for the 2025 Living Luxe Design Show\, happening April 25–27 at the Toronto Congress Centre. Join us for an inspiring celebration of design\, décor\, and lifestyle. Spanning 120\,000 sq ft of curated elegance\, this three-day luxury experience is where Living Luxe Magazine comes to life. Expect dazzling showcases\, captivating runway moments\, and thought-provoking talks from industry experts. Whether you’re a design professional or a luxury enthusiast\, it’s your chance to immerse yourself in creativity\, connection\, and chic sophistication. Don’t just admire luxury—experience it. \nDon’t miss The Value of Design Competitions\, Case studies of an award-winning project – a panel discussion presented by IDC on Sunday\, April 27 at 1:30 p.m. \n‘Garden Avenue Laneway Home’ is a much-awarded project collaboration of the clients\, Interior Designer Suzanne Wilkinson & Builder Jeff Wilkinson along with their Architect Betsy Williamson of Williamson Williamson. The Garden Laneway House is set between garages that face a service lane. It is a lyrical collection of modern lines\, authentic materials\, and intentional views. Clad in a rotated brick facade\, it brings beauty to the laneway and reimagines the possibilities for small-scale urban densification. \nThis case study will be a discussion with Suzanne Wilkinson and Jeff Wilkinson moderated by Trevor Kruse\, IDC CEO\, (FARIDO). \nSpeakers:  \nSuzanne Wilkinson – Partner\, Figure3 \nWith over 30 years in the interior design industry\, Suzanne Wilkinson is a seasoned design leader known for her ability to create environments that balance strategic function with refined\, luxurious aesthetics. \nSuzanne began her career in Ottawa as the first employee at 2H Interior Design. In 1997\, she moved to Toronto following the recession\, where her career quickly accelerated through high-profile commercial and government work. Her early projects included the headquarters relocation for Petro Canada\, the renovation of the Canadian Department of Justice\, and the design of the Rogers Communications headquarters. \nIn 2006\, Suzanne joined Figure3\, one of Canada’s leading interior design firms\, where she continued to lead innovative corporate workplace projects for clients such as McCarthy Tétrault\, The Globe and Mail\, the NHL Players’ Association\, and Coca-Cola Canada. \nAfter the 2011 economic downturn\, Suzanne guided a new chapter for Figure3\, leading the firm’s first multi-family luxury residential condominium project. This shift not only redefined the firm’s portfolio but also drove significant business growth\, with residential design quickly becoming over 50% of the company’s revenue. \nIn 2013\, Suzanne became a Partner at Figure3. Today\, she plays a key role in leading the firm’s continued success nationally and internationally. Most recently\, she and her husband received a Governor General’s Award for their custom-designed Laneway House\, a project that exemplifies their shared commitment to innovation\, sustainability\, and high design. \nSuzanne brings a thoughtful and sophisticated design perspective to every project\, with a focus on how people live\, work\, and connect in spaces that are both functional and deeply inspiring. \n  \nJeff Wilkinson – President\, CB Wilkinson \nJeff Wilkinson brings over 20 years of construction industry experience with a focus on strategic growth\, operational excellence\, and residential development. A licensed civil engineer with a master’s degree in construction management\, Jeff has a proven track record of leading complex projects and scaling construction businesses. \nJeff spent a decade at Wilkinson Construction Services Inc.\, including five years as President\, where he oversaw the company’s expansion into mid-rise residential developments and significantly increased both project volume and scale of work in the GTA. His leadership was central to building a reputation for quality\, performance\, and client trust. \nJeff’s early career included senior roles at The Rockport Group and Concord Adex Developments\, where he managed several complex urban projects\, including the $280 million Parade condominium—a 1\,700-unit mixed-use development featuring a retail podium and the landmark Skybridge. \nAs President of CB Wilkinson\, Jeff leads the strategic direction of the company\, driving growth through excellence in execution\, strong stakeholder relationships\, and a commitment to delivering high-performing projects that align with market demand and investor expectations. \n  \nModerator:  \n \nTrevor Kruse\, CEO for the Interior Designers of Canada (IDC)\, the national association for the interior design profession. As the national advocacy body\, IDC represents more than 5\,000 interior designers and related professionals. In addition\, IDC works with over 200 manufacturers and suppliers who provide products and services for interior design projects and firms. \nTrevor has a 40-year career as a professional interior designer along with nearly four decades of volunteer service on provincial\, national\, and international boards\, including the Association of Registered Interior Designers of Ontario (ARIDO)\, the Council for Interior Design Accreditation (CIDA)\, the Society of British Interior Designers (SBID)\, and the International Federation of Interior Architects/Designers (IFI). \n  \nPurchase tickets!
URL:https://idcanada.org/fr/event/living-luxe-design-show-2025/
LOCATION:Toronto Congress Center
END:VEVENT
BEGIN:VEVENT
DTSTART;TZID=America/Winnipeg:20250428T180000
DTEND;TZID=America/Winnipeg:20250428T220000
DTSTAMP:20260419T084610
CREATED:20250417T154122Z
LAST-MODIFIED:20250417T154242Z
UID:21325-1745863200-1745877600@idcanada.org
SUMMARY:University of Manitoba Year End Exhibition
DESCRIPTION:The Year End Exhibition is an exhibition of work of over 500 undergraduate and graduate students from the Faculty of Architecture. The work is displayed in classrooms\, studio spaces\, hallways\, entrance foyers and lounges. Descriptions of assignments are posted\, and both students and professors are on hand to meet and discuss the nature of the work. \nFriday\, April 28\, 2023\n6:00 – 10:00 PM \nMay 1 + 2\, 2023\n10:00 am – 3:00 PM* \nJohn A. Russell Building &\nArchitecture 2 Building\nUniversity of Manitoba \n*school groups can contact brandy.oreilly@umanitoba.ca to coordinate a tour
URL:https://idcanada.org/fr/event/university-of-manitoba-year-end-exhibition/
LOCATION:John A. Russell Building & Architecture 2 Building University of Manitoba\, 84 Curry Pl\, Winnipeg\, MB\, R3T 2M6\, Canada
CATEGORIES:Third Party Event
END:VEVENT
END:VCALENDAR