BEGIN:VCALENDAR
VERSION:2.0
PRODID:-//IDC - ECPv6.15.20//NONSGML v1.0//EN
CALSCALE:GREGORIAN
METHOD:PUBLISH
X-ORIGINAL-URL:https://idcanada.org/fr/
X-WR-CALDESC:Évènements pour IDC
REFRESH-INTERVAL;VALUE=DURATION:PT1H
X-Robots-Tag:noindex
X-PUBLISHED-TTL:PT1H
BEGIN:VTIMEZONE
TZID:America/Vancouver
BEGIN:DAYLIGHT
TZOFFSETFROM:-0800
TZOFFSETTO:-0700
TZNAME:PDT
DTSTART:20230312T100000
END:DAYLIGHT
BEGIN:STANDARD
TZOFFSETFROM:-0700
TZOFFSETTO:-0800
TZNAME:PST
DTSTART:20231105T090000
END:STANDARD
BEGIN:DAYLIGHT
TZOFFSETFROM:-0800
TZOFFSETTO:-0700
TZNAME:PDT
DTSTART:20240310T100000
END:DAYLIGHT
BEGIN:STANDARD
TZOFFSETFROM:-0700
TZOFFSETTO:-0800
TZNAME:PST
DTSTART:20241103T090000
END:STANDARD
BEGIN:DAYLIGHT
TZOFFSETFROM:-0800
TZOFFSETTO:-0700
TZNAME:PDT
DTSTART:20250309T100000
END:DAYLIGHT
BEGIN:STANDARD
TZOFFSETFROM:-0700
TZOFFSETTO:-0800
TZNAME:PST
DTSTART:20251102T090000
END:STANDARD
END:VTIMEZONE
BEGIN:VTIMEZONE
TZID:America/Edmonton
BEGIN:DAYLIGHT
TZOFFSETFROM:-0700
TZOFFSETTO:-0600
TZNAME:MDT
DTSTART:20230312T090000
END:DAYLIGHT
BEGIN:STANDARD
TZOFFSETFROM:-0600
TZOFFSETTO:-0700
TZNAME:MST
DTSTART:20231105T080000
END:STANDARD
BEGIN:DAYLIGHT
TZOFFSETFROM:-0700
TZOFFSETTO:-0600
TZNAME:MDT
DTSTART:20240310T090000
END:DAYLIGHT
BEGIN:STANDARD
TZOFFSETFROM:-0600
TZOFFSETTO:-0700
TZNAME:MST
DTSTART:20241103T080000
END:STANDARD
BEGIN:DAYLIGHT
TZOFFSETFROM:-0700
TZOFFSETTO:-0600
TZNAME:MDT
DTSTART:20250309T090000
END:DAYLIGHT
BEGIN:STANDARD
TZOFFSETFROM:-0600
TZOFFSETTO:-0700
TZNAME:MST
DTSTART:20251102T080000
END:STANDARD
END:VTIMEZONE
BEGIN:VTIMEZONE
TZID:America/Toronto
BEGIN:DAYLIGHT
TZOFFSETFROM:-0500
TZOFFSETTO:-0400
TZNAME:EDT
DTSTART:20230312T070000
END:DAYLIGHT
BEGIN:STANDARD
TZOFFSETFROM:-0400
TZOFFSETTO:-0500
TZNAME:EST
DTSTART:20231105T060000
END:STANDARD
BEGIN:DAYLIGHT
TZOFFSETFROM:-0500
TZOFFSETTO:-0400
TZNAME:EDT
DTSTART:20240310T070000
END:DAYLIGHT
BEGIN:STANDARD
TZOFFSETFROM:-0400
TZOFFSETTO:-0500
TZNAME:EST
DTSTART:20241103T060000
END:STANDARD
BEGIN:DAYLIGHT
TZOFFSETFROM:-0500
TZOFFSETTO:-0400
TZNAME:EDT
DTSTART:20250309T070000
END:DAYLIGHT
BEGIN:STANDARD
TZOFFSETFROM:-0400
TZOFFSETTO:-0500
TZNAME:EST
DTSTART:20251102T060000
END:STANDARD
END:VTIMEZONE
BEGIN:VEVENT
DTSTART;TZID=America/Vancouver:20241206T093000
DTEND;TZID=America/Vancouver:20241206T103000
DTSTAMP:20260419T140646
CREATED:20241105T172311Z
LAST-MODIFIED:20241206T170323Z
UID:19520-1733477400-1733481000@idcanada.org
SUMMARY:Salmon Arm School District 83 Seminar
DESCRIPTION:Finishing school and looking to find your dream career? Join Interior Designers of Canada (IDC) and School District 83 for a virtual seminar to learn more about the interior design profession! Hear from leading design professionals about what interior designers do\, the value of good design\, and what the next steps you can take are. \nThe townhall will run from 9:20 to 10:35 a.m. PT. After registering\, you will receive a confirmation email containing information about joining the webinar. \nClick to join the webinar  \nLearn more about panelists and moderator\, and their respective companies\, by clicking on the hyperlinked text below. \nPanelists: \nTrevor Kruse \nChief Executive Officer \nInterior Designers of Canada (IDC) \n  \nJulianna Kaiser \nFounder and Registered Interior Designer \nStudio Kaiser \n  \nTony Tu \nAssociate | Sr Interior Designer \nGensler \n  \nDora Anderson \nPartner \nEcotecture \n  \nJennifer Yeo \nDepartment Head\, Interior Design \nCentre for Arts and Technology \n  \nModerator: \nGeorge Richard \nTeacher \nSchool District 83 \n 
URL:https://idcanada.org/fr/event/salmon-arms-school-district-83-seminar/
LOCATION:ON
END:VEVENT
BEGIN:VEVENT
DTSTART;TZID=America/Edmonton:20241211T120000
DTEND;TZID=America/Edmonton:20241211T133000
DTSTAMP:20260419T140646
CREATED:20241125T210715Z
LAST-MODIFIED:20241125T211031Z
UID:20106-1733918400-1733923800@idcanada.org
SUMMARY:IDA CEU: Fire Separations – National Building Code 2023 Alberta Edition
DESCRIPTION:Join Interior Designers of Alberta (IDA) for an IDCEC-approved 1.5 General CEU webinar! Attend an educational session with Kim Karns to learn about the most recent developments around fire separation. \nKim brings over 21 years of experience working with Provincial\, National & International Building Codes. Kim refined her skills as a Code Consultant in Ontario and Alberta with Larden Muniak Consulting Inc. She then provided in-house consulting for Riddell Kurcazba Architecture Engineering Interior Design Ltd. before incorporating her own consulting firm in 2015. \nWith her knowledge\, Kim has provided Code analyzes for many existing and proposed buildings\, focusing on life- and fire-safety. Kim has performed Code reviews\, developed alternative solutions\, and conducted audits for various projects including arenas\, exhibition halls\, high rises\, multi-family residential\, hospitals and industrial buildings. \nKim has presented continuing education seminars related to Building Codes and life safety subject matter since 2004. She has presented accredited seminars for Alberta WoodWorks!/Canadian Wood Council\, BuildEx\, Canadian Home Builders Association (Alberta)\, IIDEX\, Interior Designers of Canada\, Safety Codes Council\, and various architectural and design firms. \nREGISTER NOW! \n\nTwo-Step Registration Process: \nRegistration Confirmation: After completing your initial registration\, you will receive a confirmation email within 72 hours. This email will contain a link to sign in to Zoom. Please keep an eye on your inbox for this confirmation\, and be sure to check your spam folder if you do not receive it within the specified timeframe. \nZoom Webinar Access: Once you’ve received the confirmation email\, click on the provided link to sign in to Zoom. Please note that the name you use during the Zoom registration will be the name on your certificate of attendance.
URL:https://idcanada.org/fr/event/ida-ceu-fire-separations-national-building-code-2023-alberta-edition/
LOCATION:ON
END:VEVENT
BEGIN:VEVENT
DTSTART;TZID=America/Toronto:20241219T120000
DTEND;TZID=America/Toronto:20241219T130000
DTSTAMP:20260419T140646
CREATED:20241125T210004Z
LAST-MODIFIED:20241125T210050Z
UID:20101-1734609600-1734613200@idcanada.org
SUMMARY:BIFMA Accredited Webinar: Clarifying Sustainability Standards Through Furniture
DESCRIPTION:What do you wonder about furniture? This course compares and explains various sustainability rating tools used in the built environment including building rating systems\, programs that provide information transparency\, and certifications used for materials and products. LEVEL® by BIFMA’s furniture certification program is overlayed throughout to understand the contribution of sustainable furniture in creating spaces with a comprehensive vision for environmental sustainability and human health and wellness. \nLEARNING OBJECTIVES\n\nYou will gain knowledge of sustainability standards and programs currently in the market and the key features of each.\nYou will understand LEVEL by BIFMA sustainability certification program and its role in defining sustainability for furniture to convey value to clients and colleagues.\nYou will be able to compare the features of sustainability programs and standards in use and how LEVEL relates to each.\nYou will gain insight to the trends that are influencing the ever-evolving conversation surrounding sustainability to anticipate what is driving the future.\n\nWho Should Attend\n\nA&D Professionals\nLEED and WELL accredited professionals\nSales/Marketing Professionals\nFacility Managers\, Owners & CEOs (satisfies IFMA CFM maintenance requirements and CoreNet Global QPCR designation)\nInstructors and Students\nManufacturers of Commercial Furniture and Accessories\nSuppliers to the Commercial Furniture Industry\n\nProgram Credits\nIDCEC– 1.0 HSW designation\nAIA– 1.0 LU/HSW\nGBCI– 1.0 General Education\, WELL AP & LEED AP \nPresenter\nStacey Pediny\, DID\, WELL AP\, Teknion Territory Manager\, Manitoba\nStacey has an education in interior design and over 30 years in the interior projects and renovation industry; including kitchen & bath\, flooring\, window covering\, and both residential and contract furniture sectors.  In her 10 years with Teknion\, she has become a Certified CEU provider and a WELL AP™\, supporting both clients and the A&D community with education around workplace trends\, strategy\, and sustainability.  Stacey is based in Winnipeg\, Manitoba\, gateway to the Canadian Prairies. \n  \nThis event is part of the BIFMA Monthly Learning Series. There is no cost to attend. \nREGISTER TODAY!
URL:https://idcanada.org/fr/event/bifma-accredited-webinar-clarifying-sustainability-standards-through-furniture/
LOCATION:ON
END:VEVENT
END:VCALENDAR