BEGIN:VCALENDAR
VERSION:2.0
PRODID:-//IDC - ECPv6.15.20//NONSGML v1.0//EN
CALSCALE:GREGORIAN
METHOD:PUBLISH
X-ORIGINAL-URL:https://idcanada.org/fr/
X-WR-CALDESC:Évènements pour IDC
REFRESH-INTERVAL;VALUE=DURATION:PT1H
X-Robots-Tag:noindex
X-PUBLISHED-TTL:PT1H
BEGIN:VTIMEZONE
TZID:America/Toronto
BEGIN:DAYLIGHT
TZOFFSETFROM:-0500
TZOFFSETTO:-0400
TZNAME:EDT
DTSTART:20230312T070000
END:DAYLIGHT
BEGIN:STANDARD
TZOFFSETFROM:-0400
TZOFFSETTO:-0500
TZNAME:EST
DTSTART:20231105T060000
END:STANDARD
BEGIN:DAYLIGHT
TZOFFSETFROM:-0500
TZOFFSETTO:-0400
TZNAME:EDT
DTSTART:20240310T070000
END:DAYLIGHT
BEGIN:STANDARD
TZOFFSETFROM:-0400
TZOFFSETTO:-0500
TZNAME:EST
DTSTART:20241103T060000
END:STANDARD
BEGIN:DAYLIGHT
TZOFFSETFROM:-0500
TZOFFSETTO:-0400
TZNAME:EDT
DTSTART:20250309T070000
END:DAYLIGHT
BEGIN:STANDARD
TZOFFSETFROM:-0400
TZOFFSETTO:-0500
TZNAME:EST
DTSTART:20251102T060000
END:STANDARD
END:VTIMEZONE
BEGIN:VTIMEZONE
TZID:America/Regina
BEGIN:STANDARD
TZOFFSETFROM:-0600
TZOFFSETTO:-0600
TZNAME:CST
DTSTART:20230101T000000
END:STANDARD
END:VTIMEZONE
BEGIN:VEVENT
DTSTART;VALUE=DATE:20240929
DTEND;VALUE=DATE:20241006
DTSTAMP:20260419T170634
CREATED:20240723T134848Z
LAST-MODIFIED:20240723T134848Z
UID:19002-1727568000-1728172799@idcanada.org
SUMMARY:IDC Trade Mission to the Czech Republic
DESCRIPTION:IDC invites members to apply to attend the Trade Mission to the Czech Republic: Furniture Industry and Design in Prague and Brno. \nThis trade mission is organized in collaboration with the Cluster of Czech Furniture Manufacturers\, the Ministry of Foreign Affairs of the Czech Republic and the Ministry of Industry and Trade of the Czech Republic. It will provide an insight into contemporary trends and traditions in Czech furniture manufacturing (esp. millwork)\, furniture for commercial and residential use\, current Czech design trends including Czech glass\, as well as insights into Czech architecture. \nLearn more about this trade mission and SUBMIT YOUR APPLICATON by July 31\, 2024.
URL:https://idcanada.org/fr/event/idc-trade-mission-to-the-czech-republic/
LOCATION:ON
CATEGORIES:Trade Mission
END:VEVENT
BEGIN:VEVENT
DTSTART;VALUE=DATE:20241016
DTEND;VALUE=DATE:20241017
DTSTAMP:20260419T170634
CREATED:20241001T135354Z
LAST-MODIFIED:20241001T135354Z
UID:19423-1729036800-1729123199@idcanada.org
SUMMARY:Manitoba Design Exposition (MDE)
DESCRIPTION:Location: Victoria Inn \nDate: Wednesday October 16th\, 2024 \nLINK TO REGISTER TO EXHIBIT HERE \nLINK TO ATTEND THE MDE HERE
URL:https://idcanada.org/fr/event/manitoba-design-exposition-mde/
LOCATION:ON
END:VEVENT
BEGIN:VEVENT
DTSTART;VALUE=DATE:20241023
DTEND;VALUE=DATE:20241025
DTSTAMP:20260419T170634
CREATED:20240617T140804Z
LAST-MODIFIED:20240617T141625Z
UID:18763-1729641600-1729814399@idcanada.org
SUMMARY:masi Design Awards & Urban Encounters tradeshow
DESCRIPTION:Each year\, the Interior Designers of Alberta (IDA)\, Interior Designers Association of Saskatchewan (IDAS)\, and Professional Interior Designers Institute of Manitoba (PIDM) celebrate those setting new standards of creativity and skill in interior design with the masi Design Awards. The winners are celebrated at the annual awards gala hosted by one of the three provinces. \nThe masi Design Awards Gala | October 23\, 2024 | 5-11 p.m. | The Junior Ballroom\, BMO Centre\, Stampede Park\, Calgary \nView the 2023 masi Design Awards Winners. \nThe day after the Awards\, be sure to IDA’s Urban Encounters tradeshow\, the premier event for showcasing the latest products and services to the Alberta Interior Design community each year attracts hundreds of designers\, architects\, students\, and design enthusiasts. \nThe IDA Annual Tradeshow (Urban Encounters) | October 24\, 2024 | 2-7 p.m. | The Palomino Room\, BMO Centre\, Stampede Park\, Calgary \nRegister Now!
URL:https://idcanada.org/fr/event/masi-design-awards-gala-2024/
LOCATION:ON
END:VEVENT
BEGIN:VEVENT
DTSTART;VALUE=DATE:20241024
DTEND;VALUE=DATE:20241026
DTSTAMP:20260419T170634
CREATED:20240827T212427Z
LAST-MODIFIED:20240828T143544Z
UID:19200-1729728000-1729900799@idcanada.org
SUMMARY:AZURE's Human/Nature Conference
DESCRIPTION:The inaugural Human/Nature conference\, presented by AZURE\, brings together a multidisciplinary and international array of perspectives on best practices for climate action design. Taking place at George Brown Waterfront Campus on October 24 and 25\, 2024\, Human/Nature features an ambitious lineup of CEU-accredited talks\, including keynotes\, panels\, and workshops. \nRounded out by social gatherings and networking opportunities\, immersive field trips to Toronto’s latest waterfront developments in partnership with the Toronto Society of Architects\, and exciting co-programming with the Architecture and Design Film Festival\, this two-day event boasts a full roster of inspiration and information – and opportunities for collaboration among design professionals. This is a must-attend event for architects and interior designers who want to share and gain insights into proven approaches to climate change mitigation through design. \nSpace is limited. See the full program here and save your seats now. \nUse code IDC for a $100 discount. \nTickets include attendance to all sessions and to the end-of-day cocktail reception\, plus breakfast and lunch on both days.
URL:https://idcanada.org/fr/event/azures-human-nature-conference/
LOCATION:ON
END:VEVENT
BEGIN:VEVENT
DTSTART;TZID=America/Toronto:20241024T120000
DTEND;TZID=America/Toronto:20241024T130000
DTSTAMP:20260419T170634
CREATED:20241008T195921Z
LAST-MODIFIED:20241008T195945Z
UID:19492-1729771200-1729774800@idcanada.org
SUMMARY:BIFMA Webinar: Future-Proofing Your Business
DESCRIPTION:Future-Proofing Your Business – Insights on Designing for a Life-Regenerative Future with Chad Lefevre!\nWe are currently experiencing an unprecedented scale of change and human brains are wired to see change as a threat to be resisted. The cascade of resistance begins with individuals within the company or the organization and spreads to whole sectors and industries. But take heart! Creators will be the ones who thrive in this moment of change\, and it begins with the individual. \nJoin us as business visionary\, Chad Lefevre\, shares his transformational leadership expertise with furniture and brand strategist\, Tracy Hazzard\, for an inspirational discussion at the intersection of furniture\, the built environment\, and human potential. \nWHO SHOULD ATTEND\n\nA&D Professionals\nSales/Marketing Professionals\nFacility Managers\, Owners & CEOs\nInstructors and Students\nManufacturers of Commercial Furniture and Accessories\nSuppliers to the Commercial Furniture Industry\n\nSecure Your Free Spot Until Oct. 24! \nChad Lefevre\, Founder\, The Most Important Conversations\nFor 18+ years Chad has served as an executive and senior strategist across various industries\, including tech\, energy\, education\, health and wellness\, entertainment\, personal growth and self-help\, and hospitality. Chad is Founder of The Most Important Conversations\, a creativity think tank and community advocating for reconnecting to our innate creativity as a superpower to transform the systems and structures that constitute our society. Chad is committed to working with leaders of industries and the organizations they lead to transform themselves and their companies according to his creativity-centric Life Regenerative approach. As a Design-Thinker\, he has led and collaborated with corporate executives and senior managers to architect business strategies and transformative solutions in the areas of business operations\, leadership development\, culture and team building\, investor relations\, branding and marketing communications\, crisis communications and public relations\, and sales. His areas of study and expertise supporting his work include game theory\, neuroscience and behavioral psychology\, complexity theory\, change management\, and systems-thinking. \nTracy Hazzard\, CEO & Co-Founder\, Podetize\nTracy is the CEO and Co-Founder of Podetize\, the largest (and only female-owned and led) podcast production technology company in the industry serving independent podcasters and networks. For three decades\, the Rhode Island School of Design alum has been applying design principles and process to everything she touches: designing mass market textiles\, products\, and furniture\, as well as\, creating collaborative Human-Guided AI workflows that honor the voices of thought leaders and original creators while innovating social and mass media content syndication technologies. As Brand & Product Strategist working with recognized retail brands like Costco\, Staples\, Target\, Better Homes & Gardens\, and Martha Stewart Living\, Tracy Hazzard has designed\, sourced\, and launched 250+ consumer products and co-invented 40 patents generating over $2 Billion for her own companies and her clients. Her bionomic designs and sustainable material research for contract furnishing design-leader\, Herman Miller led to the first color\, material\, and finish line overhaul since Alexander Girard created the CMF program in the 1970s.
URL:https://idcanada.org/fr/event/bifma-webinar-future-proofing-your-business/
LOCATION:ON
END:VEVENT
BEGIN:VEVENT
DTSTART;VALUE=DATE:20241025
DTEND;VALUE=DATE:20241031
DTSTAMP:20260419T170634
CREATED:20240815T171506Z
LAST-MODIFIED:20240815T173515Z
UID:19077-1729814400-1730332799@idcanada.org
SUMMARY:High Point  Market
DESCRIPTION:Don’t miss the IDC members’ meet up Oct. 25\, organized by Linda Kafka\, Principal\, Livable Environment Inc.\, Science in Design Academy. \nFor more information\, contact lindakafka@gmail.com.
URL:https://idcanada.org/fr/event/high-point-market/
LOCATION:High Point Market Authority\, 164 South Main Street\, Suite 700\, High Point\, NC\, 27260\, United States
END:VEVENT
BEGIN:VEVENT
DTSTART;TZID=America/Toronto:20241026T100000
DTEND;TZID=America/Toronto:20241026T160000
DTSTAMP:20260419T170634
CREATED:20240409T160425Z
LAST-MODIFIED:20240409T161616Z
UID:17942-1729936800-1729958400@idcanada.org
SUMMARY:20/20 Vision | Celebrating 20 Years of Business of Design® at High Point Market
DESCRIPTION:Join Kimberley and Team BOD™ at High Point Market on Saturday\, October 26th to celebrate 20 years of Business of Design®. We have a full day of learning and laughing in partnership with Andmore\, High Point Market\, and Daniel House Club. \nSave the date! You don’t want to miss out. Secure your spot! \nSeminar series presented by Daniel House Club\n10:00 a.m. | Business of Design® Growing Profitability with Vendors \n11:00 a.m. | Business of Design® Ignore the Budget. Specify Better Products. \n 12:00 p.m. | Business of Design® Design Fees are Not Enough  \n*Showroom locations will be announced soon. \nBusiness of Design® 20/20 Vision. Be the Expert.\nKeynote Presentation presented by Andmore at the Suites at Market Square\n3:00 p.m. | Kimberley Seldon  \nYes\, you can run a wildly successful and profitable business. It’s easier today than it’s ever been. In this one-hour seminar\, Kimberley Seldon will celebrate 20 years of Business of Design® by sharing 20 MUSTS for your business. You’ll learn what it takes to be the expert and how that benefits your clients. Attendees will leave with specific strategies to implement\, and the motivation required to boost themselves to the next level. Stay for the party afterward. We’ve got champagne and prizes. Not to be missed. \n4:00 p.m. | Business of Design® is 20  \nIt’s a party! So\, stick around and celebrate. There’ll be drinks and prizes. Bring a friend\, or make a new one. \nRSVP today!
URL:https://idcanada.org/fr/event/20-20-vision-celebrating-20-years-of-business-of-design-at-high-point-market/
LOCATION:High Point Market\, High Point Market Authority 164 South Main Street\, High Point\, NC\, 27260\, United States
END:VEVENT
END:VCALENDAR