BEGIN:VCALENDAR
VERSION:2.0
PRODID:-//IDC - ECPv6.15.20//NONSGML v1.0//EN
CALSCALE:GREGORIAN
METHOD:PUBLISH
X-WR-CALNAME:IDC
X-ORIGINAL-URL:https://idcanada.org/fr/
X-WR-CALDESC:Évènements pour IDC
REFRESH-INTERVAL;VALUE=DURATION:PT1H
X-Robots-Tag:noindex
X-PUBLISHED-TTL:PT1H
BEGIN:VTIMEZONE
TZID:America/Toronto
BEGIN:DAYLIGHT
TZOFFSETFROM:-0500
TZOFFSETTO:-0400
TZNAME:EDT
DTSTART:20230312T070000
END:DAYLIGHT
BEGIN:STANDARD
TZOFFSETFROM:-0400
TZOFFSETTO:-0500
TZNAME:EST
DTSTART:20231105T060000
END:STANDARD
BEGIN:DAYLIGHT
TZOFFSETFROM:-0500
TZOFFSETTO:-0400
TZNAME:EDT
DTSTART:20240310T070000
END:DAYLIGHT
BEGIN:STANDARD
TZOFFSETFROM:-0400
TZOFFSETTO:-0500
TZNAME:EST
DTSTART:20241103T060000
END:STANDARD
BEGIN:DAYLIGHT
TZOFFSETFROM:-0500
TZOFFSETTO:-0400
TZNAME:EDT
DTSTART:20250309T070000
END:DAYLIGHT
BEGIN:STANDARD
TZOFFSETFROM:-0400
TZOFFSETTO:-0500
TZNAME:EST
DTSTART:20251102T060000
END:STANDARD
END:VTIMEZONE
BEGIN:VEVENT
DTSTART;TZID=America/Toronto:20240813T120000
DTEND;TZID=America/Toronto:20240813T130000
DTSTAMP:20260419T200736
CREATED:20240426T203633Z
LAST-MODIFIED:20240501T141301Z
UID:18171-1723550400-1723554000@idcanada.org
SUMMARY:CEU Webinar: Discovering the possibilities of multi surfaces from Natural Stone to Quartz to Porcelain
DESCRIPTION:Presentation Summary:   \nThis presentation will provide a comprehensive review of Mother Earth’s natural stones and minerals\, with references to type and class with a comparison of man-made stones like quartz and porcelain. \nLearning Objectives:   \n\nSustainability and performance of various classes and types of stones.  \nUnderstanding of manmade stone vs natural\, the similarity and environmental impact of both. \nA better understanding of natural minerals and stones\, with a clear understanding of how the manmade stones present many equal if not superior benefits with a sustainable element as they present less of an environmental impact to produce.\n\nSecure your spot.\nPresenter:  \n \nTheresa Schoustal   \nBusiness Development Manager\nCaesarstone Canada \nTheresa Schoustal has worked in Product Sales and Development for over 25 years and has a passion for educating on sustainable material for design. She has comprehensive knowledge of the stone industry from natural harvesting to international productions and helps provide insight on how designers’ selection can make a meaningful purpose.   \nThis webinar is brought to you by: 
URL:https://idcanada.org/fr/event/ceu-webinar-discovering-the-possibilities-of-multi-surfaces-from-natural-stone-to-quartz-to-porcelain/
LOCATION:ON
END:VEVENT
BEGIN:VEVENT
DTSTART;TZID=America/Toronto:20240822T130000
DTEND;TZID=America/Toronto:20240822T140000
DTSTAMP:20260419T200736
CREATED:20240807T151413Z
LAST-MODIFIED:20240807T151930Z
UID:19034-1724331600-1724335200@idcanada.org
SUMMARY:BIFMA + ACT CEU Webinar: Fits Like a Glove: The Perfect Pairing of Textiles and Furniture
DESCRIPTION:Join the Business and Institutional Furniture Manufacturers Association (BIFMA) and the Association of Contract Textiles (ACT) as they bring you this moderated discussion among industry textile and furniture trend-setters focusing on textiles’ influential role in furniture product design and performance. Topics will include textile design inspiration; innovations in materials\, technology\, and sustainability; application considerations and challenges; and incorporating client expectations into the development process. \nWHO SHOULD ATTEND\n\nA&D Professionals\nSales/Marketing Professionals\nFacility Managers\, Owners & CEOs\nInstructors and Students\nManufacturers of Commercial Furniture and Accessories\nSuppliers to the Commercial Furniture Industry\n\nSECURE YOUR FREE SPOT!\nSPEAKERS\nAndrea Nelson; Principal Designer | Colors\, Materials\, and Finishes\, Industrial Design Studio; Haworth\nAndrea Nelson\, Principal Designer of Colors\, Materials\, and Finishes (CMF) at Haworth\, has more than a decade of experience in the commercial furniture industry. Throughout her career\, Andrea has applied her interior architecture and industrial design knowledge to approach material\, application\, and product integration on a holistic level. With her keen eye for details\, trends\, sustainable practices\, and her deep understanding of materials’ tactile and visual impact\, she curates finishes that not only meet functional and performance requirements but also evoke a sensorial response. Whether designing fabrics with tactile allure\, championing sustainable sourcing\, or crafting designs that embody a timeless and engaging aesthetic\, Andrea creates work that is a testament to the transformative power of conscientious CMF design in commercial spaces. \nShantel McGowan; VP of Design\, Textiles; Momentum Textiles & Wallcovering\nShantel McGowan\, Vice President of Design for Momentum Textiles & Wallcovering\, is passionate about designing textiles for commercial interiors. With a career dedicated to creating innovative and sustainable textiles\, she has significantly influenced the industry by pushing boundaries with new materials. Shantel’s leadership has garnered accolades\, including multiple products in the permanent collection of the Cooper Hewitt\, Smithsonian Design Museum. The award-winning design team under her guidance has achieved distinctions such as the Best of Neocon and Interior Design’s Best of Year Award. \n  \nMaggie Keilhauer; Product Manager; Keilhauer\nMaggie Keilhauer is the Product Manager at Keilhauer\, where she currently oversees the launch and management of the company’s product and textile offerings. Since joining Keilhauer in 2017\, she has managed the launches of many award-winning products\, Keilhauer’s new branding\, and countless textiles and partner cards. Before becoming Product Manager\, she managed the marketing for all of Keilhauer’s brands\, overseeing showrooms\, media\, and marketing materials. Maggie has a passion for design through collaboration and creativity. \n\n  \n  \nMODERATOR\nDeborah Nemeth; Principal\, Interior Design Discipline Leader; SmithGroup\nDeborah Nemeth is a Principal and the Interior Design Leader at SmithGroup in Chicago. She is passionate about creating environments that are aesthetically pleasing\, strategic\, and purposeful. She is a versatile designer\, team leader and business developer. Deborah has designed over one million square feet of corporate office and commercial building space in the last decade with a portfolio of clients including workplace\, higher education\, science and technology\, and health care organizations. Deborah provides her clients with design solutions tailored to their unique culture and business goals. She is committed to the advancement of the Interior Design profession and currently serves as the President of the Illinois Chapter of the International Interior Design Association (IIDA). \n\n  \n  \nREGISTER TODAY!
URL:https://idcanada.org/fr/event/bifma-ceu-series-fits-like-a-glove-the-perfect-pairing-of-textiles-and-furniture/
LOCATION:ON
END:VEVENT
END:VCALENDAR