BEGIN:VCALENDAR
VERSION:2.0
PRODID:-//IDC - ECPv6.15.20//NONSGML v1.0//EN
CALSCALE:GREGORIAN
METHOD:PUBLISH
X-WR-CALNAME:IDC
X-ORIGINAL-URL:https://idcanada.org/fr/
X-WR-CALDESC:Évènements pour IDC
REFRESH-INTERVAL;VALUE=DURATION:PT1H
X-Robots-Tag:noindex
X-PUBLISHED-TTL:PT1H
BEGIN:VTIMEZONE
TZID:America/Toronto
BEGIN:DAYLIGHT
TZOFFSETFROM:-0500
TZOFFSETTO:-0400
TZNAME:EDT
DTSTART:20230312T070000
END:DAYLIGHT
BEGIN:STANDARD
TZOFFSETFROM:-0400
TZOFFSETTO:-0500
TZNAME:EST
DTSTART:20231105T060000
END:STANDARD
BEGIN:DAYLIGHT
TZOFFSETFROM:-0500
TZOFFSETTO:-0400
TZNAME:EDT
DTSTART:20240310T070000
END:DAYLIGHT
BEGIN:STANDARD
TZOFFSETFROM:-0400
TZOFFSETTO:-0500
TZNAME:EST
DTSTART:20241103T060000
END:STANDARD
BEGIN:DAYLIGHT
TZOFFSETFROM:-0500
TZOFFSETTO:-0400
TZNAME:EDT
DTSTART:20250309T070000
END:DAYLIGHT
BEGIN:STANDARD
TZOFFSETFROM:-0400
TZOFFSETTO:-0500
TZNAME:EST
DTSTART:20251102T060000
END:STANDARD
END:VTIMEZONE
BEGIN:VTIMEZONE
TZID:America/Vancouver
BEGIN:DAYLIGHT
TZOFFSETFROM:-0800
TZOFFSETTO:-0700
TZNAME:PDT
DTSTART:20230312T100000
END:DAYLIGHT
BEGIN:STANDARD
TZOFFSETFROM:-0700
TZOFFSETTO:-0800
TZNAME:PST
DTSTART:20231105T090000
END:STANDARD
BEGIN:DAYLIGHT
TZOFFSETFROM:-0800
TZOFFSETTO:-0700
TZNAME:PDT
DTSTART:20240310T100000
END:DAYLIGHT
BEGIN:STANDARD
TZOFFSETFROM:-0700
TZOFFSETTO:-0800
TZNAME:PST
DTSTART:20241103T090000
END:STANDARD
BEGIN:DAYLIGHT
TZOFFSETFROM:-0800
TZOFFSETTO:-0700
TZNAME:PDT
DTSTART:20250309T100000
END:DAYLIGHT
BEGIN:STANDARD
TZOFFSETFROM:-0700
TZOFFSETTO:-0800
TZNAME:PST
DTSTART:20251102T090000
END:STANDARD
END:VTIMEZONE
BEGIN:VEVENT
DTSTART;TZID=America/Toronto:20240507T120000
DTEND;TZID=America/Toronto:20240507T130000
DTSTAMP:20260420T003356
CREATED:20240426T175905Z
LAST-MODIFIED:20240501T140039Z
UID:18132-1715083200-1715086800@idcanada.org
SUMMARY:CEU Webinar: Business of Design® | Be the Expert with Kimberley Seldon
DESCRIPTION:Presentation Summary:   \nConfidence in your expertise is the first step in creating the successful interior design business you deserve and desire. By building confidence\, you’ll be able to honor your value\, charge appropriate fees and generate profit year after year. From the position of expert\, you can confidently offer your talents and skills to the clients you serve and earn a robust living.  \nIn this seminar you will learn:   \n\nwhat your fee says about you \nyour design fees will attract one client\, and repel another \ncommodities are interchangeable\, but expertise is difficult to replace \nyour ideal client has a unique set of needs\, which you can solve \na well-defined position attracts your ideal client \nyou do your best work when you are the expert  \n\nAll the above learnings provide attendees with actionable business advice they can implement immediately following the webinar. \nSecure your spot.\nPresenter:  \n \nKimberley Seldon  \nAdvocate in Chief  \nBusiness of Design®  \nKimberley Seldon Design Group is a thriving interior design firm with offices in Toronto and Los Angeles. Parallel to her design career\, Kimberley is also an in-demand TV personality-hosting three of her own shows for HGTV Canada and currently appearing nationally on Cityline\, City TV. Kimberley was the decorating editor of Style at Home magazine for 18 years. In 2004\, Kimberley launched Business of Design®\, an online learning platform for independent designers from more than 50 countries around the world. Today\, Business of Design® is a beacon of hope and the best resource for design professionals looking to satisfy clients and run profitable\, successful interior design firms.    \nThis webinar is brought to you by:  \n \n 
URL:https://idcanada.org/fr/event/ceu-webinar-business-of-design-be-the-expert-with-kimberley-seldon/
LOCATION:ON
END:VEVENT
BEGIN:VEVENT
DTSTART;TZID=America/Vancouver:20240509T080000
DTEND;TZID=America/Vancouver:20240509T173000
DTSTAMP:20260420T003356
CREATED:20240108T152219Z
LAST-MODIFIED:20240408T230418Z
UID:16397-1715241600-1715275800@idcanada.org
SUMMARY:Okanagan Design Expo (ODEX)
DESCRIPTION:OSID’s next Okanagan Design Expo (ODEX) will be taking place on Thursday\, May 9\, 2024\, at the Okanagan Golf Club. \nThis exposition of design will bring together OSID members\, manufacturers\, suppliers\, and industry representatives in BC. The event venue is hosted at the Okanagan Golf Club this year where attendees spent the day discovering new products\, networking\, collecting IDCEC hours\, and enjoying lunch on the sunny patio overlooking the golf course. The full-day event will feature seminars for ODC members to participate in that is IDCEC accredited towards Continuing Education Units for Registered and Intern Members of IDIBC. \n Schedule of Events (subject to revisions) \n\nSign-in/Registration & Breakfast Bar: 8:00 a.m. – 8:20 a.m.\nOSID Welcome: 8:20 a.m. – 8:30 a.m.\nBreakfast Industry Panel Discussion#1: Topic TBD: 8:30 a.m. – 10:00 a.m.\nWC Break & Transition: 10:00 a.m. – 10:10 a.m.\nCEU Seminar #2: TBC (Group Green): 10:10 a.m. – 11:10 a.m.\nCEU Seminar #3: ​TBC (Group Blue): 10:10 a.m. – 11:10 a.m.\nWC Break & Transition: 11:10 a.m. – 11:20 a.m.\nCEU Seminar #2: TBC (Group Blue): 11:20 a.m. – 12:20 a.m.\nCEU Seminar #3: TBC (Group Green): 11:20 a.m. – 12:20 a.m.\nWC Break & Transition: 12:20 a.m. – 12:30 a.m.\nPlatinum Sponsor Designer Lunch & Prize on the Patio: 12:30 p.m. – 1:30 p.m.\nTabletop Trade Show & Bar Open: 1:30 p.m. – 5:30 p.m.\nLight Appetizer Service during show: 3:30 p.m. – 5:30 p.m.\nDoor Prizes: 4:30 p.m. – 5:30 p.m.\n\nThe tabletop tradeshow portion is the highlight of the afternoon/eve\, featuring all OSID’s BC product manufacturers on hand to share new products and network and even a prize draw is held where attendees can win door prizes. Okanagan hosted over 100 attendees and 42 showcase tabletops at the last event. \n​Learn more\, explore ticket options\, and secure your spot!
URL:https://idcanada.org/fr/event/okanagan-design-expo-odex-2024/
LOCATION:The Okanagan Golf Club\, 3200 Via Centrale\, Kelowna\, BC\, V1V 2A4\, Canada
END:VEVENT
BEGIN:VEVENT
DTSTART;TZID=America/Toronto:20240515T093000
DTEND;TZID=America/Toronto:20240515T180000
DTSTAMP:20260420T003356
CREATED:20240227T174928Z
LAST-MODIFIED:20240625T191256Z
UID:16967-1715765400-1715796000@idcanada.org
SUMMARY:DesignEx Ottawa 2024 | Mill Street Brew Pub
DESCRIPTION:Event Details for Designers || Event Details for Exhibitors & Sponsors  \nEvent Date: Wednesday\, May 15\, 2024 \nLocation: Ottawa Mill Street Brew Pub 555 Wellington Street\, Ottawa\, ON K1R 1C5 \nLearn about last year’s successful DesignEx Ottawa. \nDesigners\nJoin IDC in our nation’s capital\, Ottawa\, for a day of IDCEC-accredited professional development offerings\, connecting with the local design community\, and an exhibition of IDC’s Industry Partners’ featured products! This year’s brand-new location\, the Ottawa Mill Street Brew Pub\, offers a unique setting for connecting with your design peers as you experience the 177-year-old building’s rich heritage. During the Beer Tasting Workshop\, join a small group of lucky beer fans for a guided tasting of the brewery’s array of exclusive on-site seasonal and specialty beers\, learn about the site’s rich history\, and learn about the Brew Pub’s small-batch brewing system and its new foeder system. \n\n9:30 – 10 a.m. | Registration open\n10 – 11 a.m. | Feeling Good to Feeling WELL by Teknion (1 IDCEC hour)\n11 a.m. – 1 p.m. | 2024 Ontario Building Code – What is the Same and What has Changed? by Stantec (2 IDCEC hours)\n1 – 2 p.m. | Networking lunch\n2 – 3 p.m. | Beer Tasting Workshop\n3 – 6 p.m. | DesignEx Tabletop Show (1 non-IDCEC hour)\n\n \nExhibitors & Sponsors\nThe highly anticipated return of DesignEx Ottawa is the perfect way to connect your business with the local market! Enjoy a day of networking at this year’s brand-new DesignEx location\, the Ottawa Mill Street Brew Pub\, a charming heritage brewpub setting the perfect scene for an enjoyable day of connecting with the Ottawa design community during lunch and at our tabletop show. The guest list will include interior designers\, architects\, engineers\, technologists\, contractors\, project managers\, facility managers\, and others working in the design and construction industry. \nExhibitor Schedule and Move-in/out Schedule \n\n1 – 2 p.m. | Networking lunch with designers\n2 – 3 p.m. | Move-in and set-up/Beer Tasting workshop (multiple reps required)\n3 – 6 p.m. | DesignEx Show\n6 – 7 p.m. | Move-out and tear-down\n\nReview the Exhibitor Guidelines\nSee the exhibition room layout\n\n\n\nSponsorship Levels\n\n\nPlatinum Sponsorship $5\,000\nStand out in the community! Only 1 opportunity available\, for IDC members only; exhibit space is customizable. \n\nFirst choice of exhibitor space\nRecognition as ‘Platinum Sponsor’\nYour company’s logo on all event signage\nYour company’s logo and website link on IDC’s website\nYour company’s logo and website link on DesignEx notices and invitations\nOpportunity to provide standalone CEU\nSocial media announcement of platinum sponsorship\nOpportunity to include a handout for every registrant\nComplimentary admission for four company representatives\nEight (8) complimentary cocktail tickets\nOpportunity to participate in door prizes\n\n\n\n\nGold Sponsorship $2\,500\nExhibit space is one table\, typically 5ft wide x 3ft deep \n\nSecond choice of exhibitor space (after platinum sponsors)\nRecognition as ‘Gold Sponsor’\nYour company’s logo on event signage\nYour company’s logo and website link on IDC’s website\nYour company’s logo and website link on event notices\nOpportunity to include a handout for every registrant\nComplimentary admission for two (2) company representatives\nFive (5) complimentary cocktail tickets\nOpportunity to participate in door prize\n\n\n\n\nSilver Sponsorship $1\,250\nExhibit space is one table\, typically 5ft wide x 3ft deep \n\nThird choice of exhibitor space\nYour company’s name on event signage\nYour company’s name with link on IDC website\nYour company’s name with link on DesignEx notices\nOpportunity to include a handout for every registrant\nComplimentary admission for two company representatives\nTwo (2) complimentary cocktail tickets\nOpportunity to participate in the door prize draw\n\n\n\n\nExhibitor $950\nExhibit space is one table\, typically 5ft wide x 3ft deep \n\nYour company’s name and website link included in exhibitor list on IDC’s website\nYour company’s name and website link on DesignEx notices\nOpportunity to include a handout for every registrant\nComplimentary admission for one (1) company representative\nOpportunity to participate in door prizes\n\nNon-IDC Industry Partner Table Top Sponsor: $1\,250 Non-IDC Industry Partner Table Top Silver Sponsor: $2\,000 Non-IDC Industry Partner Table Top Gold Sponsor: $3\,000 Will receive same benefits listed above.\n\n\nAdditional Rep $95\n\n\nAdmission for one company representative (available only for table purchasers)\n\n\n\n\n\nFor any questions\, please contact bkrsiakova@idcanada.org. \nGold Sponsor:\n\n\n\n\n\n\n\nSilver Sponsors:\n\n\n\n\n\n\n\n\n\n  \nExhibitors:\n\n\n\n\n\n\n\n\n\n\n\n\n\n\n\n\n\n\n\n 
URL:https://idcanada.org/fr/event/designex-2024-ottawa/
LOCATION:Ottawa Mill Street Brew Pub\, 555 Wellington Street\, Ottawa\, ON\, K1R 1C5\, Canada
CATEGORIES:DesignEx
END:VEVENT
BEGIN:VEVENT
DTSTART;TZID=America/Toronto:20240521T120000
DTEND;TZID=America/Toronto:20240521T130000
DTSTAMP:20260420T003356
CREATED:20240426T182122Z
LAST-MODIFIED:20240515T164521Z
UID:18142-1716292800-1716296400@idcanada.org
SUMMARY:CEU Webinar: Small Space Design
DESCRIPTION:Presentation Summary:   \nThis presentation will show product solutions that maximize every square inch of space when it comes to functional hardware and cabinetry. This will be illustrated through examples of three scenarios/sizes of homes – from 300 square feet to 600 square feet. \nIn this seminar you will learn:   \n\nHow functional hardware that is typically used in areas like the kitchen and bathroom can be integrated into all living spaces in the home. \nClever cabinet solutions that maximize space and improve quality of living.  \nHow to enhance designs and improve quality of living in the home of their clients.   \nHow to apply will these solutions to all age groups as they focus on functionality and ergonomics.\n\nSecure your spot.\nPresenter:  \n \nLucy Traetto\nSenior Sales & Marketing Representative\nBlum Canada Ltd. \nLucy Traetto\, (CAPS CLIPP) is a seasoned professional\, currently holding the position of Senior Sales & Marketing Representative at Blum Canada Ltd. With a career spanning 24 years\, Lucy has demonstrated a remarkable ability to educate customers in all segments of the market about how functional hardware can improve quality of living. Her success has allowed her to foster strong relationships with clients and partners alike. Her accreditations of CAPS and CLIPP provide insight into how to implement the principles of Universal Design when designing cabinetry to ensure optimal functionality\, ergonomics\, and safety in the home.    \nThis webinar is brought to you by: 
URL:https://idcanada.org/fr/event/ceu-webinar-small-space-design/
LOCATION:ON
END:VEVENT
BEGIN:VEVENT
DTSTART;TZID=America/Toronto:20240523T120000
DTEND;TZID=America/Toronto:20240523T130000
DTSTAMP:20260420T003356
CREATED:20240502T213224Z
LAST-MODIFIED:20240502T215046Z
UID:18269-1716465600-1716469200@idcanada.org
SUMMARY:BIFMA Webinar: 2024 Sustainability Trends in Interior Design with ASID
DESCRIPTION:The Business and Institutional Furniture Manufacturers Association (BIFMA) and the American Society of Interior Designers (ASID) continue their collaboration to bring you valuable insights from industry experts with the 2024 Sustainability Trends in Interior Design. This moderated panel discussion will explore findings from Design Research by ASID featured in the ASID 2024 Trends Outlook and ASID Impact of Design Brief: Climate\, Building Resiliency\, & Human Health. \nAlmost two-thirds of Americans report experiencing an extreme weather event in the past year\, and most Americans support making changes to reduce the effects of climate change\, but not at the expense of altering American life. Beyond extreme weather events\, interior designers now need to consider designing for warmer summers and everyday thunderstorms. Meeting client expectations while also incorporating more resilient strategies can be complex\, however\, the design process should adapt to respond to changes in our climate. Hear from design\, research\, and furniture leaders as they share strategies on how designers\, manufacturers\, and facility managers can address the implications of these issues. \nPart of the BIFMA Learning Monthly Series\, this free live virtual learning opportunity is open for all to attend including BIFMA and ASID members\, designers\, buyers\, educators\, and anyone interested in sustainability in the built environment. There is no fee to attend. \nSecure your spot before May 23\, 2024.\nWHO SHOULD ATTEND\n\nA&D Professionals\nSales/Marketing Professionals\nFacility Managers\, Owners & CEOs\nInstructors and Students\nManufacturers of Commercial Furniture and Accessories\nSuppliers to the Commercial Furniture Industry\n\n\nPANELISTS\nMary Ellen Mika;  Director of Sustainability; Steelcase \nMary Ellen Mika is Director of Sustainability at Steelcase Inc.\, where she leads a global team of over thirty people working in six countries. Her responsibilities include the company’s sustainability programs\, its environmental strategy for ESG\, and reporting progress to the Steelcase Board of Directors. Her team’s responsibilities span renewable energy procurement\, setting science-based targets for greenhouse gas reduction\, managing all compliance with environmental regulations\, tracking and reporting waste\, water\, and energy usage\, and proposing sustainability targets for product development. Her team implements the company’s ISO 14001 environmental management system and pursues product certifications for sustainability and indoor air quality. \nMary Ellen is a LEED-accredited professional and recently served on the Materials and Resources Technical Advisory Group for U.S. Green Building Council. She lends her time and expertise to initiatives at the state and local level on energy and environmental issues. She has a B.S. in Biochemistry\, an M.A. in Counseling Psychology\, and over thirty years of experience in environmental consulting and industry. \nDavid Cordell\, ASID Fellow\, NCIDQ\, LEED AP\, WELL AP\, Fitwel Ambassador; Practice Leader\, Associate Principal; Perkins&Will \nDavid Cordell is an associate principal at Perkins&Will. With over 20 years of experience as a project designer and technical coordinator on ground-breaking projects\, Cordell brings a particular focus on interior environments and their interaction with occupant health wellness\, and sustainability. Cordell’s experience includes a variety of corporate\, nonprofit\, healthcare\, and science and technology projects for clients of various sizes. For more than ten years he has been the sustainability leader for the interiors practice in Perkins&Will’s Washington\, D.C. office. Cordell has worked on numerous LEED projects\, several of which earned Platinum certification\, including ASID’s headquarters\, the first project in the world to also earn Platinum certification under the WELL Building Standard. He speaks regularly on topics related to healthy interior environments\, diversity and inclusion\, and sustainability. \nMODERATOR\nHolley Henderson\, LEED Fellow; Director of Strategic Partnerships and Education; Chemical Insights Research Institute \nHolley Henderson is the Director of Strategic Partnerships and Education for the Chemical Insights Research Institute of UL Research Institutes. Her background includes interior design\, sustainability consulting\, and providing education for the built environment community. A frequent speaker on sustainable design issues\, she has presented for many groups including Greenbuild International Conference & Expo\, IFMA World Workplaces\, NeoCon\, Greenguard Summit\, Hospitality & Design (HD) Conference\, CBRE World Conference\, the International Convention Center Conference\, as well as\, numerous professional associations\, academic institutions and corporate audiences. Holley is the author of the book Becoming a Green Building Professional. \nRegister here.
URL:https://idcanada.org/fr/event/2024-sustainability-trends-in-interior-design-with-asid/
LOCATION:ON
END:VEVENT
BEGIN:VEVENT
DTSTART;TZID=America/Toronto:20240529T160000
DTEND;TZID=America/Toronto:20240529T173000
DTSTAMP:20260420T003356
CREATED:20240522T164415Z
LAST-MODIFIED:20240522T164618Z
UID:18505-1716998400-1717003800@idcanada.org
SUMMARY:IDA CEU Event: Updates to the National Building Code 2023 Alberta Edition
DESCRIPTION:The new Alberta Edition 2023 of the National Building Code of Canada is now in force. Join IDA with Kim Karns as she provides the updates to the building code. If you are working in the industry\, looking to upgrade your code-related knowledge and/or collecting CEUs\, IDA has you covered! \nRegister today! Learn about and register for IDA’s Annual General Meeting on the same day. \nFacilitator |  Kim Karn\, Principal; Kim brings over 21 years of experience working with Provincial\, National & International Building Codes.  Kim refined her skills as a Code consultant in Ontario and Alberta with Larden Muniak Consulting Inc.  She then provided in-house consulting for Riddell Kurcazba Architecture Engineering Interior Design Ltd. before incorporating her own consulting firm in 2015.\nWith her knowledge\, Kim has provided Code analyzes for many existing and proposed buildings\, focusing on life- and fire-safety.  Kim has performed Code reviews\, developed alternative solutions\, and conducted audits for various projects including arenas\, exhibition halls\, high rises\, multi-family residential\, hospitals\, and industrial buildings.\nKim has presented continuing education seminars related to Building Codes and life safety subject matter since 2004.  She has presented accredited seminars for Alberta WoodWorks!/Canadian Wood Council\, BuildEx\, Canadian Home Builders Association (Alberta)\, IIDEX\, Interior Designers of Canada\, Safety Codes Council\, and various architectural and design firms.
URL:https://idcanada.org/fr/event/ida-ceu-event-updates-to-the-national-building-code-2023-alberta-edition/
LOCATION:ON
END:VEVENT
BEGIN:VEVENT
DTSTART;TZID=America/Toronto:20240529T180000
DTEND;TZID=America/Toronto:20240529T200000
DTSTAMP:20260420T003356
CREATED:20240522T163624Z
LAST-MODIFIED:20240522T164451Z
UID:18494-1717005600-1717012800@idcanada.org
SUMMARY:IDA Annual General Meeting
DESCRIPTION:  \n  \n  \nLocation: McCrum’s Office – in person \nVirtual attendance option (link to be provided after registration) \nRegister now! Learn about IDA’s CEU event taking place the same day. \nThe AGM is complimentary for members.\nLight refreshments will be provided if you attend the event in person. \nAgenda: \n1.0 Call to Order \n2.0 Adoption of the Agenda \n3.0 Adoption of May 31\, 2023 Annual General Meeting Minutes \n4.0 Treasurer’s Report \ni. Motion to approve of the December 31\, 2023 Audited financials \nii. Motion to engage Murray Hunter Prof Corp as auditor for December 31\, 2024 \n5.0 Reports \ni. President’s Report \nii. Registrar Committee Report \niii. Special Events Committee Report \niv. Marketing & Communications Report \nv. Nominations Committee Report \nvi. 2024/2025 Council Elections \n6.0 CIDQ Committee Report \n7.0 Old Business \n8.0 New Business \n9.0 Adjournment \nRegister now! \nRegister in advance for this meeting. After registering\, you will receive a confirmation email containing information about joining the meeting.
URL:https://idcanada.org/fr/event/ida-annual-general-meeting-2024/
LOCATION:ON
END:VEVENT
END:VCALENDAR