BEGIN:VCALENDAR
VERSION:2.0
PRODID:-//IDC - ECPv6.15.20//NONSGML v1.0//EN
CALSCALE:GREGORIAN
METHOD:PUBLISH
X-WR-CALNAME:IDC
X-ORIGINAL-URL:https://idcanada.org/fr/
X-WR-CALDESC:Évènements pour IDC
REFRESH-INTERVAL;VALUE=DURATION:PT1H
X-Robots-Tag:noindex
X-PUBLISHED-TTL:PT1H
BEGIN:VTIMEZONE
TZID:America/Toronto
BEGIN:DAYLIGHT
TZOFFSETFROM:-0500
TZOFFSETTO:-0400
TZNAME:EDT
DTSTART:20230312T070000
END:DAYLIGHT
BEGIN:STANDARD
TZOFFSETFROM:-0400
TZOFFSETTO:-0500
TZNAME:EST
DTSTART:20231105T060000
END:STANDARD
BEGIN:DAYLIGHT
TZOFFSETFROM:-0500
TZOFFSETTO:-0400
TZNAME:EDT
DTSTART:20240310T070000
END:DAYLIGHT
BEGIN:STANDARD
TZOFFSETFROM:-0400
TZOFFSETTO:-0500
TZNAME:EST
DTSTART:20241103T060000
END:STANDARD
BEGIN:DAYLIGHT
TZOFFSETFROM:-0500
TZOFFSETTO:-0400
TZNAME:EDT
DTSTART:20250309T070000
END:DAYLIGHT
BEGIN:STANDARD
TZOFFSETFROM:-0400
TZOFFSETTO:-0500
TZNAME:EST
DTSTART:20251102T060000
END:STANDARD
END:VTIMEZONE
BEGIN:VTIMEZONE
TZID:Asia/Singapore
BEGIN:STANDARD
TZOFFSETFROM:+0800
TZOFFSETTO:+0800
TZNAME:+08
DTSTART:20230101T000000
END:STANDARD
END:VTIMEZONE
BEGIN:VEVENT
DTSTART;VALUE=DATE:20240229
DTEND;VALUE=DATE:20240304
DTSTAMP:20260420T033909
CREATED:20231128T145916Z
LAST-MODIFIED:20231129T192525Z
UID:16043-1709164800-1709510399@idcanada.org
SUMMARY:IDC Trade Mission to IFEX–2024
DESCRIPTION:IFEX 2024 marks the show’s 9th edition. As the largest and finest furniture and craft exhibition in Indonesia\, IFEX presents infinite innovation\, inspiration\, and creativity. \nExpanding the idea of Redefine\, Inspire\, and Innovation\, IFEX is ready to create something R.E.A.L. \nReflection of the Culture. \nExperience the Comfort. \nAdapt to Sustainability. \nLeading the Innovation. \nWith the additional space of Gambir Expo Area\, buyers will see the launch of a new area within the exhibition where they can find new beautifully curated products. Having a crucial role in directly connecting Indonesia’s local furniture and craft companies with buyers from around the world\, IFEX continues to be the platform for the perfect momentum of local manufacturers displaying their wide range of products to global buyers. \nIFEX invites attendees to be part of making the R.E.A.L journey to experience the growth of IFEX\, with the best hospitality and well-organized execution. \nSUBMIT YOUR APPLICATION to attend the IDC Trade Mission to IFEX. \nLearn more about IDC Trade Missions.
URL:https://idcanada.org/fr/event/idc-trade-mission-to-ifex-2024/
LOCATION:Jakarta International Expo\, East Pademangan\, Pademangan\, Central Jakarta City\, Jakarta\, 14410\, Indonesia
CATEGORIES:Trade Mission
END:VEVENT
BEGIN:VEVENT
DTSTART;VALUE=DATE:20240301
DTEND;VALUE=DATE:20240305
DTSTAMP:20260420T033909
CREATED:20231122T172311Z
LAST-MODIFIED:20231122T173954Z
UID:15957-1709251200-1709596799@idcanada.org
SUMMARY:IDC Trade Mission to MIFF –2024
DESCRIPTION:Being the No. 1 furniture fair in Southeast Asia\, and consistently ranked amongst the top 10 worldwide\, MIFF has spearheaded the furniture trade scene for years. Every year\, quality exhibitors and buyers from all over the world converge on this global stage. \nSince its inception in 1995\, MIFF has created fantastic business and networking opportunities for hundreds of thousands of participants. MIFF’s commitment to professionalism\, innovation and dynamism is backed by a dedicated team of bright individuals; it is no wonder MIFF is always a sought-after destination and the ideal business platform for trade professionals. \nTruly a global B2B trade show\, MIFF takes you right into the heart of the furniture industry in the thriving ASEAN economic ecosystem\, connecting you with important contacts in your own industry and uncover new ways to prosper your business. \nSubmit your application to attend the IDC Trade Mission to MIFF. \nLearn more about IDC Trade Missions.
URL:https://idcanada.org/fr/event/idc-trade-mission-to-miff-2024/
LOCATION:MIFF\, Putra World Trade Centre\, Jalan Tun Ismail\, Kuala Lumpur\, Federal Territory of Kuala Lumpur\, 50480\, Malaysia
CATEGORIES:Trade Mission
END:VEVENT
BEGIN:VEVENT
DTSTART;VALUE=DATE:20240306
DTEND;VALUE=DATE:20240310
DTSTAMP:20260420T033909
CREATED:20240209T182733Z
LAST-MODIFIED:20240209T182750Z
UID:17031-1709683200-1710028799@idcanada.org
SUMMARY:IDEC Annual Conference 2024
DESCRIPTION:Join the Interior Design Educators Council’s (IDEC) Annual Conference\, March 6-9\, 2024\, in New York City! \nEnjoy a multi-day schedule filled with dynamic speakers\, lively events\, captivating exhibitions\, and an opportunity to connect with peers from the interior design community. \nPeruse the multi-day schedule. \nRead about the events’ featured keynote speakers. \nLearn more about the event and secure your spot!
URL:https://idcanada.org/fr/event/idec-annual-conference-2024/
LOCATION:ON
END:VEVENT
BEGIN:VEVENT
DTSTART;TZID=America/Toronto:20240315T073000
DTEND;TZID=America/Toronto:20240315T170000
DTSTAMP:20260420T033909
CREATED:20240119T181957Z
LAST-MODIFIED:20240130T171746Z
UID:16721-1710487800-1710522000@idcanada.org
SUMMARY:VIDEX 2024
DESCRIPTION:The Vancouver Island Society of Interior Designers (VISID)  once again reconnects designers and related professionals for a day of educational offerings at the ever-popular trade show\, VIDEX! \nThe event will feature table tops\, providing an opportunity for hands-on experience with industry products and services\, and three engaging CEUs! Tickets also include breakfast\, lunch\, and a cocktail party. \nLocation: Delta Hotels Victoria Ocean Pointe Resort\, Victoria\, BC \nDate: March 15\, 2024 \nSee the full agenda and purchase your ticket!
URL:https://idcanada.org/fr/event/videx-2024/
LOCATION:Delta Hotel Victoria\, 100 Harbour Road\, Victoria\, BC\, V9A 0G1\, Canada
END:VEVENT
BEGIN:VEVENT
DTSTART;TZID=America/Toronto:20240321T120000
DTEND;TZID=America/Toronto:20240321T130000
DTSTAMP:20260420T033909
CREATED:20240124T123106Z
LAST-MODIFIED:20240124T123606Z
UID:16735-1711022400-1711026000@idcanada.org
SUMMARY:Webinar: Marketing 101 - Marketing Your Design Firm
DESCRIPTION:On March 21\, join a free webinar for an expert-led presentation by Melissa Van Loon\, Co-Founder and Marketing & Operations Specialist at WORKBENCH\, a company that specializes in providing expertise in marketing and operations within the interior design and architecture industries. \nMarketing your Interior Design firm is crucial to your success but we seldom have the time to do this. In this presentation\, Melissa will speak about the basics of marketing and how to manage it day-to-day. Discussing project launches\, exposure for older work\, and the best way to get in front of the media\, she will also touch on creating project-winning proposals and the best ways to respond to RFPs. \nRegister now!\nPresenter:\nWith 25 years of experience in these fields\, Melissa has held senior management positions with notable firms such as II BY IV Design and Powell & Bonnell\, among others. \nMelissa’s career journey began in the travel industry in the 1990s when she opened the first stores for Flight Centre in Canada. Over nearly a decade\, she played a crucial role in expanding Flight Centre’s global presence. During her time there\, she gained valuable experience in business operations\, marketing\, and new business development. \nFollowing her successful career in the travel industry\, Melissa shifted her focus to the field of interior design. While she is not a designer herself\, Melissa possesses expertise in marketing and operations\, offering a unique perspective to creative businesses. She leveraged her experience from running and marketing retail businesses and applied those successes to the world of interior design. \nMelissa Van Loon’s career trajectory demonstrates her adaptability and her ability to contribute to various industries by providing strategic insights and expertise in marketing and operations. Her role as a co-founder of WORKBENCH further underscores her commitment to helping creative businesses thrive in the competitive marketplace.
URL:https://idcanada.org/fr/event/webinar-marketing-101-marketing-your-design-firm/
LOCATION:ON
END:VEVENT
END:VCALENDAR