BEGIN:VCALENDAR
VERSION:2.0
PRODID:-//IDC - ECPv6.15.20//NONSGML v1.0//EN
CALSCALE:GREGORIAN
METHOD:PUBLISH
X-WR-CALNAME:IDC
X-ORIGINAL-URL:https://idcanada.org/fr/
X-WR-CALDESC:Évènements pour IDC
REFRESH-INTERVAL;VALUE=DURATION:PT1H
X-Robots-Tag:noindex
X-PUBLISHED-TTL:PT1H
BEGIN:VTIMEZONE
TZID:America/Toronto
BEGIN:DAYLIGHT
TZOFFSETFROM:-0500
TZOFFSETTO:-0400
TZNAME:EDT
DTSTART:20220313T070000
END:DAYLIGHT
BEGIN:STANDARD
TZOFFSETFROM:-0400
TZOFFSETTO:-0500
TZNAME:EST
DTSTART:20221106T060000
END:STANDARD
BEGIN:DAYLIGHT
TZOFFSETFROM:-0500
TZOFFSETTO:-0400
TZNAME:EDT
DTSTART:20230312T070000
END:DAYLIGHT
BEGIN:STANDARD
TZOFFSETFROM:-0400
TZOFFSETTO:-0500
TZNAME:EST
DTSTART:20231105T060000
END:STANDARD
BEGIN:DAYLIGHT
TZOFFSETFROM:-0500
TZOFFSETTO:-0400
TZNAME:EDT
DTSTART:20240310T070000
END:DAYLIGHT
BEGIN:STANDARD
TZOFFSETFROM:-0400
TZOFFSETTO:-0500
TZNAME:EST
DTSTART:20241103T060000
END:STANDARD
END:VTIMEZONE
BEGIN:VEVENT
DTSTART;TZID=America/Toronto:20231221T120000
DTEND;TZID=America/Toronto:20231221T130000
DTSTAMP:20260422T072103
CREATED:20231205T170551Z
LAST-MODIFIED:20231205T170941Z
UID:16145-1703160000-1703163600@idcanada.org
SUMMARY:BIFMA CEU Series: Demystifying Furniture's Role in Sustainability
DESCRIPTION:Part of the BIFMA Learning Monthly Series\, this is an accredited and live virtual learning opportunity for our members\, designers\, buyers\, educators\, and anyone interested in furniture for the built environment. Best of all\, this event is offered for free! \nSecure your spot!\nEvent Details\nThis course deepens understanding of the role furniture plays in the sustainable built environment. Navigating industry sustainability programs and trends can be overwhelming. This course compares and explains the approach to sustainability between building rating systems\, transparency protocols\, and product certifications. It defines key sustainability attributes relating to furniture and how LEVEL® by BIFMA—as a comprehensive third-party multi-attribute furniture sustainability standard—can support sustainability goals. \nWho Should Attend\n\nA&D Professionals\nSales/Marketing Professionals\nFacility Managers\, Owners & CEOs\nInstructors and Students\nManufacturers of Commercial Furniture and Accessories\nSuppliers to the Commercial Furniture Industry\n\nProgram Credits\nIDCEC– 1.0 HSW designation\nAIA– 1.0 LU/HSW\nGBCI– 1.0 General Education\, WELL AP & LEED AP \nPresenter\nKevin Johnson\, Vice President of Sales\, GMi Companies \nKevin has been with Ghent for 5 years\, however\, he took a 3-year break in the middle to work for the local MillerKnoll dealer in Cincinnati\, leading their sales office. He has more than 15 years of customer experience\, sales\, and leadership experience\, 8 of which are in the commercial furniture world. He is currently the Vice President of sales\, focused on growing sales\, developing the sales and customer experience teams\, continuing the Ghent brand’s growth\, and collaborating with cross-functional departments. When he’s not working\, Kevin enjoys spending time with his family and staying active.
URL:https://idcanada.org/fr/event/bifma-learning-series-demystifying-furnitures-role-in-sustainability-accredited-ceu/
END:VEVENT
END:VCALENDAR