BEGIN:VCALENDAR
VERSION:2.0
PRODID:-//IDC - ECPv6.15.20//NONSGML v1.0//EN
CALSCALE:GREGORIAN
METHOD:PUBLISH
X-WR-CALNAME:IDC
X-ORIGINAL-URL:https://idcanada.org/fr/
X-WR-CALDESC:Évènements pour IDC
REFRESH-INTERVAL;VALUE=DURATION:PT1H
X-Robots-Tag:noindex
X-PUBLISHED-TTL:PT1H
BEGIN:VTIMEZONE
TZID:America/Toronto
BEGIN:DAYLIGHT
TZOFFSETFROM:-0500
TZOFFSETTO:-0400
TZNAME:EDT
DTSTART:20220313T070000
END:DAYLIGHT
BEGIN:STANDARD
TZOFFSETFROM:-0400
TZOFFSETTO:-0500
TZNAME:EST
DTSTART:20221106T060000
END:STANDARD
BEGIN:DAYLIGHT
TZOFFSETFROM:-0500
TZOFFSETTO:-0400
TZNAME:EDT
DTSTART:20230312T070000
END:DAYLIGHT
BEGIN:STANDARD
TZOFFSETFROM:-0400
TZOFFSETTO:-0500
TZNAME:EST
DTSTART:20231105T060000
END:STANDARD
BEGIN:DAYLIGHT
TZOFFSETFROM:-0500
TZOFFSETTO:-0400
TZNAME:EDT
DTSTART:20240310T070000
END:DAYLIGHT
BEGIN:STANDARD
TZOFFSETFROM:-0400
TZOFFSETTO:-0500
TZNAME:EST
DTSTART:20241103T060000
END:STANDARD
BEGIN:DAYLIGHT
TZOFFSETFROM:-0500
TZOFFSETTO:-0400
TZNAME:EDT
DTSTART:20250309T070000
END:DAYLIGHT
BEGIN:STANDARD
TZOFFSETFROM:-0400
TZOFFSETTO:-0500
TZNAME:EST
DTSTART:20251102T060000
END:STANDARD
BEGIN:DAYLIGHT
TZOFFSETFROM:-0500
TZOFFSETTO:-0400
TZNAME:EDT
DTSTART:20260308T070000
END:DAYLIGHT
BEGIN:STANDARD
TZOFFSETFROM:-0400
TZOFFSETTO:-0500
TZNAME:EST
DTSTART:20261101T060000
END:STANDARD
END:VTIMEZONE
BEGIN:VTIMEZONE
TZID:America/Regina
BEGIN:STANDARD
TZOFFSETFROM:-0600
TZOFFSETTO:-0600
TZNAME:CST
DTSTART:20220101T000000
END:STANDARD
END:VTIMEZONE
BEGIN:VEVENT
DTSTART;VALUE=DATE:20231002
DTEND;VALUE=DATE:20231004
DTSTAMP:20260422T102810
CREATED:20230817T173732Z
LAST-MODIFIED:20230914T202041Z
UID:14880-1696204800-1696377599@idcanada.org
SUMMARY:RAIC 2023 Congress on Architecture
DESCRIPTION:Ignite\, Create\, and Share: Climate Action and Architecture \nThe Royal Architecture Institute of Canada (RAIC) 2023 Congress on Architecture is a two-day event that takes place in early October on World Architecture Day (the first Monday of October). As in 2020 and 2021\, the theme continues to be Climate Action and Architecture. \nIGNITE action and learning to improve architecture \nCREATE and strengthen connections and collaborations \nSHARE ideas\, strategies\, and leading practices \nThe Congress on Architecture is a forum for important discussions focused on climate action within the context of social justice\, equality\, and diversity in the profession. The Congress brings professionals together to ignite action\, strengthen connections\, and share ideas on a single issue of importance to the profession. \nThe RAIC acknowledges that the 2023 Congress on Architecture will gather on the unceded shared territory of the Squamish Nation and Lil’wat Nation. We are deeply grateful for their stewardship of the land and resources. \nOctober 2\, 2023 | 9:00 a.m. to 4:30 p.m  \nSquamish Lil’wat Cultural Centre \n4584 Blackcomb Way\, Whistler BC V0N 1B4 \nLearn more and register.
URL:https://idcanada.org/fr/event/raic-2023-congress-on-architecture/
CATEGORIES:Third Party Event
END:VEVENT
BEGIN:VEVENT
DTSTART;VALUE=DATE:20231003
DTEND;VALUE=DATE:20231006
DTSTAMP:20260422T102810
CREATED:20230905T203219Z
LAST-MODIFIED:20230905T203219Z
UID:15094-1696291200-1696550399@idcanada.org
SUMMARY:IDA Annual Tradeshow\, Urban Encounters
DESCRIPTION:OCTOBER 3\, 2023\nBMO Centre\, Stampede Park\, Calgary\n\n\nOCTOBER 5\, 2023\nEdmonton EXPO Centre\, Northlands Park\, Edmonton\n\n\n\n\nStep right into the world of design and immerse yourself in the ultimate encounter of creativity and innovation at the 2023 IDA Annual Tradeshow\, Urban Encounters\, this October. \nBack in the Fall calendar by popular demand\, Urban Encounters is a must-attend event for interior designers and suppliers in Alberta. We’re excited to incorporate CEU-credited educational programs into the event this year. It’s not just about networking or discovering the latest products and trends in design; it’s about expanding your knowledge and pushing the boundaries of what’s possible. \nMark your calendars for October 3 at the BMO Centre in Calgary and October 5 at the EXPO Centre in Edmonton! \nSecure Your Tickets Here\nRegistration to attend the 2023 IDA Annual Tradeshow\, Urban Encounters\, is now OPEN! Join us in Calgary or Edmonton for an evening of inspiration and networking. \n\nRegular Ticket: $80 ($30 for tradeshow only)\nIDA Member: $60 ($10 for tradeshow only)\nNon-member Student: $65 ($15 for tradeshow only)\n\nEarn 1.0 CEU at the show!\nBesides the tradeshow\, make sure to also sign up for the building code workshop on accessibility\, presented by the building codes expert Kim Karn. \nWho would you see on the show floor this year?\nMany companies and organizations have already committed to showcasing their latest products and services at this year’s tradeshows. This is your one-stop shop to check out the newest paint products and the hottest trends in textiles\, window coverings\, and more! \n\n\n\nAmes Tile\nAWMAC\nBehrends\nBlanco\n\n\nBodaq Finishes / Nelcos Distribution\nBuckwold Western\nCentura Western\nCF Interiors\n\n\nCGC Inc.\nCloverdale Paint\nDal-Tile\nForbo Flooring Systems\n\n\nFuzion Flooring\nGO Resilient Canada\nJulian TIle\nKadin Sales\n\n\nLongbow Sales\nLSI Floors\nMaxwell Fabrics\nMcKenna Agencies\n\n\nMckillican\nMetro Wallcoverings\nMetropolitan Hardwood Floors.\nOdyssey Wallcoverings\n\n\nPorcelanosa Calgary\nPremium Surfaces\nPrima Stone\nRainbow Draperies\n\n\nRichelieu Hardware Canada Ltd.\nRJF Net\nT2 Inc.\nTaymor Industries Ltd\n\n\nVicostone Canada.\n\n\n\n\nQuestions about the event?\nMore event information will be announced soon. If you have any questions or inquiries about the event\, please contact us via urbanencounters@idalberta.ca. \nSponsorship and Exhibitions\nWe understand the importance of showcasing your products and services to the interior design community. That’s why this year’s sponsorship and exhibition package will include many exciting new opportunities and benefits. \nPlease click here to download this year’s prospectus\, and SIGN UP TODAY to secure the best price and package. \nIf you like to discuss a custom partnership or have new ideas\, please feel free to contact us at urbanencounters@idalberta.ca. \nWant to ensure you are the first to receive this year’s details? Send us a quick email via urbanencounters@idalberta.ca!
URL:https://idcanada.org/fr/event/ida-annual-tradeshow-urban-encounters/
END:VEVENT
BEGIN:VEVENT
DTSTART;TZID=America/Toronto:20231003T170000
DTEND;TZID=America/Toronto:20231003T180000
DTSTAMP:20260422T102810
CREATED:20230828T151852Z
LAST-MODIFIED:20230828T212603Z
UID:15001-1696352400-1696356000@idcanada.org
SUMMARY:Ottawa Presentation of Sherwin-Williams Colour Forecast 2024 | Anthology Volume 1
DESCRIPTION:This course will take the participant on a visual journey with stimulating imagery\, factual statistics and perceptive research that supports the Residential 2024 forecast for colour and design trends. Join Sherwin-Williams for an exploration of the drivers influencing future colour and design trends that include global\, technological\, historical\, psychological\, and economic factors with specific insights into colour family directions for 2024 and beyond. \nNote: This session has been submitted for AIBC and IDCEC accreditation. \nEvent details:\nLocation: Dala Decor Centre\, 1790 Woodward Dr Ottawa\, ON K2C 0P7\nDate: Tuesday\, October 3\, 2023\nTime: 5:00 p.m. – 6:00 p.m. ET\n\n\n\n.\n\n\nRSVP: Victoria Young\, Designer Account Executive\nSherwin-Williams Canada\n905-741-2638\nvictoria.a.young@sherwin.com
URL:https://idcanada.org/fr/event/ottawa-presentation-of-sherwin-williams-colour-forecast-2024-anthology-volume-1/
LOCATION:Dala Decor Centre\, 1790 Woodward Dr\, Ottawa\, ON\, Canada
END:VEVENT
BEGIN:VEVENT
DTSTART;VALUE=DATE:20231005
DTEND;VALUE=DATE:20231006
DTSTAMP:20260422T102810
CREATED:20230823T174558Z
LAST-MODIFIED:20230829T204508Z
UID:14928-1696464000-1696550399@idcanada.org
SUMMARY:ARIDO Awards Gala
DESCRIPTION:The ARIDO Awards Gala returns to an in-person format this year on October 5\, 2023! \nSince 1982\, ARIDO has held an annual awards program for all Registered members. The ARIDO Awards recognizes outstanding interior design projects completed by Registered Interior Designers and is one of the most highly regarded honours in the interior design community. \nTaking place at the Fairmont Royal York Hotel in Toronto\, the 40th edition of the ARIDO Awards will recognize projects in the categories CARE\, EAT + STAY\, LEARN\, WORK\, and the annual categories of CRAFT\, DISTINCT\, and PRESERVE + RESTORE. \nTicket sales are now open!
URL:https://idcanada.org/fr/event/arido-awards-gala/
LOCATION:Fairmont Royal York Hotel\, 100 Front St W\, Toronto\, ON\, M5J 1E3\, Canada
CATEGORIES:Third Party Event
END:VEVENT
BEGIN:VEVENT
DTSTART;VALUE=DATE:20231011
DTEND;VALUE=DATE:20231012
DTSTAMP:20260422T102810
CREATED:20230524T175042Z
LAST-MODIFIED:20230531T211608Z
UID:13974-1696982400-1697068799@idcanada.org
SUMMARY:Manitoba Design Exposition (MDE)
DESCRIPTION:Welcome to the 12th PIDIM MDE \nThe Manitoba Design Expo (MDE) is an annual\, one-day trade show for the design community of Manitoba presented by the Professional Interior Designers Institute of Manitoba (PIDIM). This event provides an informal and informative atmosphere designed to offer a snapshot of the latest products and services. The MDE also serves as an excellent networking opportunity – bringing the design and vendor communities together. Enjoy refreshments\, hors d’oeuvres and the chance to walk away with one of the many sponsored door prizes! Previous years have included almost 90 exhibitor spots! \nThis year you can also join PIDIM in celebrating the best of prairie interior design as they host the Manitoba\, Alberta\, Saskatchewan Interior Design (MASI) awards in Winnipeg! The awards gala is being held Thursday\, October 12th\, 2023 at The Leaf. \n\n\n\n\n\n\n\n\n\n\n\n\n\n\n\n\n\n\n\nFrequently Asked Questions – Attendees\n\n  \n\n\n\n\n\n\n\n\n\nWho can attend the MDE?\n\nThe MDE is an event for design professionals including interior designers\, architects\, facility managers\, contractors\, estimators\, and design students. It is a professional\, licensed event – attendees must be over 18.\n \n\n\n\n\n\n\nIs there a fee to attend the MDE?\n\nThere is no charge to attend the MDE!\n \n\n\n\n\n\n\nHow do I register?\n\nIf you are a member of PIDIM you will be getting an invitation in early September. Click on the « Register Now » in your invitation and fill in your details. If you’re not already a member of PIDIM and you’re a designer or interior design student\, contact PIDIM for more information on how you can become a member. \n\n\n\n\n\n\nCan I get CEUs by attending?\n\nYes! You can claim your attendance at the tradeshow by submitting your name badge as proof of attendance. You can also sign up for the Catch Up On CEU’s day sessions offered during the day of the tradeshow. A separate registration is required for the Catch Up CEUs – look for the link in your MDE invitation to sign up for these as well.\n \n\n\n\n\n\n\nHow can I get more involved?\n\nThe MDE is put together by a committee of volunteers made up of interior designers and industry representatives. If you’re interested in helping out\, contact us at mde@pidim.ca and we’ll be happy to add you to our team! \n\n\n\n\n\n\n\n\n\nLearn more.
URL:https://idcanada.org/fr/event/manitoba-design-expo-mde/
END:VEVENT
BEGIN:VEVENT
DTSTART;VALUE=DATE:20231012
DTEND;VALUE=DATE:20231013
DTSTAMP:20260422T102810
CREATED:20230505T195353Z
LAST-MODIFIED:20230623T180034Z
UID:13727-1697068800-1697155199@idcanada.org
SUMMARY:2023 masi Design Awards Gala
DESCRIPTION:The 2023 masi Design Awards Gala will be held in Winnipeg\, Manitoba on Thursday\, October 12\, 2023. \nEach year\, the Interior Designers of Alberta (IDA)\, Interior Designers Association of Saskatchewan (IDAS)\, and Professional Interior Designers Institute of Manitoba (PIDM) celebrate those setting new standards of creativity and skill in interior design with the masi Design Awards. The winners are celebrated at the annual awards gala hosted by one of the three provinces. \nMake sure to check out PIDIM’s Manitoba Design Exposition (MDE) the day before in Winnipeg on Wednesday\, October 11. \nClick here for Awards submission information. \nView the 2022 masi Design Awards Winners.
URL:https://idcanada.org/fr/event/2023-masi-design-awards/
END:VEVENT
BEGIN:VEVENT
DTSTART;VALUE=DATE:20231013
DTEND;VALUE=DATE:20231018
DTSTAMP:20260422T102810
CREATED:20230630T161545Z
LAST-MODIFIED:20230630T161545Z
UID:14358-1697155200-1697587199@idcanada.org
SUMMARY:IDC Trade Mission to Italy - Host Milano 2023
DESCRIPTION:Host Milano is the world exhibition dedicated to the foodservice and hospitality sector\, a global event for the Ho.re.ca and foodservice industry from October 13th to 17th. \nWith over 2\, 000 exhibitors\, Host features the best and most innovative international suppliers of machines\, equipment\, furnishings\, contract\, complements\, semi-finished products and technologies for these sectors: \n– Foodservice equipment\, Bakery\, Pizza\, Pasta \n– Coffe\, Tea\, Bar\, coffee machines\, vending\, gelato\, pastry\, bakery. \n– Furniture\, technology\, tableware. \nThe show is visited by 200\,000 professionals in the industry from 171 countries. \nIDC trade missions are funded by international trade agencies and often sponsored in part by manufacturers and suppliers in host countries. In most cases\, all or most of the expenses are covered for participating IDC members of the association. \nDo you have experience in the hospitality industry? \nSubmit your application for an opportunity to explore business ventures and forge new partnerships with interior designers and manufacturers across the globe. \nQualified applicants will be selected and approved by Fiera Milano and invited to attend the trade mission. \nParticipants receive: \n\nFlight (economy class or low cost) booked through Fiera Milano travel agency\nHotel accommodation for 4 nights in a 4*hotel\nTransportation from the hotel to the fairground in the morning and back in the evening\nVIP Buyer badge for the entrance to the fair\nAccess to the VIP Buyers Lounge with free Wi-Fi\nBreakfast\, lunch & snacks at Fiera Milano in the Buyers Lounge\n\nParticipants will need to cover their own travel insurance\, extra nights of accommodation\, accompanying guests\, transfers from and to the airport\, dinners\, etc.  \nFor more information about this event\, visit: https://host.fieramilano.it/en \nPlease contact communications@idcanada.org with any questions. \n 
URL:https://idcanada.org/fr/event/idc-trade-mission-to-italy-host-milano-2023/
LOCATION:Fiera Milano S.p.A.\, Strada Statale del Sempione 28\, Milan\, Lombardi\, 20017\, Italy
CATEGORIES:Third Party Event,Trade Mission
END:VEVENT
BEGIN:VEVENT
DTSTART;TZID=America/Toronto:20231019T180000
DTEND;TZID=America/Toronto:20231019T200000
DTSTAMP:20260422T102810
CREATED:20230912T174925Z
LAST-MODIFIED:20230915T205507Z
UID:15164-1697738400-1697745600@idcanada.org
SUMMARY:Euro Tile & Stone Unveiled
DESCRIPTION:You’re invited to immerse yourself in an unforgettable\, grand event that promises to tantalize your senses and ignite your curiosity. \nBOLD MEETS INNOVATION  \nBrace yourself for a journey of culinary delight as we present a spread of delectable treats and a selection of refreshing beverages that will leave your taste buds dancing. \nBut that’s just the tip of the iceberg! Be prepared for a series of captivating and interactive experiences that are designed to leave you absolutely amazed. Witness the showroom and product collection undergo a transformative experience unlike anything you’ve ever witnessed before. \nWe’ve curated an array of thrilling moments that will engage your senses and challenge your expectations\, ensuring that every second of the evening is filled with wonder and excitement. \nSECURE YOUR SPOT! \nWin a trip to Italy! One fortunate guest will have the chance to embark on a fully paid trip to the picturesque streets of Italy\, the birthplace of many of our exquisite products. More info to follow on how you can increase your chances. The first step is to be sure you RSVP before September 27. \nEvent details:\nLocation: Euro Tile & Stone – 80 Dufflaw Road\, Toronto\, ON M6A 2W4\nDate: Thursday\, October 19\, 2023\nTime: 6:00 p.m.
URL:https://idcanada.org/fr/event/euro-tile-stone-unveiled/
LOCATION:Euro Tile & Stone showroom\, 80 Dufflaw Rd\, Toronto\, ON\, M6A 2W4\, Canada
END:VEVENT
BEGIN:VEVENT
DTSTART;TZID=America/Toronto:20231019T180000
DTEND;TZID=America/Toronto:20231019T220000
DTSTAMP:20260422T102810
CREATED:20230809T192011Z
LAST-MODIFIED:20230809T192410Z
UID:14789-1697738400-1697752800@idcanada.org
SUMMARY:AWMAC Ontario Annual Project Awards Dinner
DESCRIPTION:AWMAC Ontario is pleased to once again hold the Annual Project Awards for our Manufacturing and Design Members. This year the event will be held at the Royal York Hotel in Toronto on Thursday\, October 19\, 2023. \n \nSchedule:\n6:00 p.m. – 7:00 p.m. – Cocktail Reception\, Ballroom Foyer\n7:00 p.m. – 8:30 p.m. – Full Sit-Down Dinner\, Ballroom\n8:30 p.m. – Project Awards Ceremony \nTickets:\nWMAC Member Price per Person – $150.00\nNon-AWMAC Member Price per Person – $185.00\n*Includes Valet Parking* \nTo RSVP please contact Laurie Suikki at\n844 ON AWMAC (844-662-9622)\nor email laurie@awmacontario.com
URL:https://idcanada.org/fr/event/awmac-ontario-annual-project-awards-dinner/
LOCATION:Fairmont Royal York Hotel\, 100 Front St W\, Toronto\, ON\, M5J 1E3\, Canada
END:VEVENT
BEGIN:VEVENT
DTSTART;VALUE=DATE:20231025
DTEND;VALUE=DATE:20231028
DTSTAMP:20260422T102810
CREATED:20230328T143240Z
LAST-MODIFIED:20231018T191102Z
UID:13122-1698192000-1698451199@idcanada.org
SUMMARY:IDC Design Symposium 2023
DESCRIPTION:Interior Designers of Canada (IDC) is preparing its sixth Design Symposium this fall. Participants from the design and architecture community across Canada are invited to the Teknion showroom in downtown Toronto\, to learn together\, connect and network. Learn more about the event from our Symposium title sponsors. \nParticipants can expect to attend design tours of notable member projects\, connect and network with peers\, collect IDCEC credits through panel discussions\, hear from incredible speakers\, participate in workshops\, and celebrate the best of interior design at the IDC awards presentation\, featuring the prestigious Value of Design Awards (VODA). \nSee the full lineup of events and programming – earn up to 14 IDCEC credits! \nLOCATION: \nTEKNION\n120 Bremner Blvd.\, Suite 2010\nToronto\, ON\nM5J 0A8 \nSecure Your Early Bird Ticket \nPresented by: \n\n\n\n\n\n\n\n\n\n\n\n\n  \nProgram Sponsors: \n\n\n\n\n\n\n\n\n\n\n\n\n\n\n\n\n\n\n\n\n\n\n\n\n\n\n\n\n\n  \nDesign Firm Sponsors: \n\n\n\n\n\n\n\n\n\n\n\n\n  \nSupported by: \n\n\n\n\n\n\n\n\n\n\n\n\n\n\n  \nMedia Partner:
URL:https://idcanada.org/fr/event/design-symposium-2023/
LOCATION:Teknion\, 120 Bremner Blvd\, Toronto\, ON\, M5J 0A1\, Canada
END:VEVENT
BEGIN:VEVENT
DTSTART;VALUE=DATE:20251029
DTEND;VALUE=DATE:20251031
DTSTAMP:20260422T102810
CREATED:20250514T180227Z
LAST-MODIFIED:20250516T153346Z
UID:21460-1761696000-1761868799@idcanada.org
SUMMARY:IDC Design Symposium 2025
DESCRIPTION:Save the date for Interior Designers of Canada’s (IDC) eight Design Symposium this fall! Canada’s design and architecture community is invited to come together to learn\, connect\, and network. \nParticipants can expect to attend design tours of notable member projects\, connect and network with peers\, collect IDCEC credits through panel discussions\, hear from incredible speakers\, participate in workshops\, and celebrate the best of interior design at the IDC Awards Celebration\, featuring the prestigious Value of Design Awards (VODA). \nMore information coming soon! \nDates: Oct. 29 and 30\, 2025\nLocation: Clio 600 King Street West\, Toronto\, ON M5V 1M3 \nPresented by: \n\n\n\n\n\n\n\n  \n\n  \n\n\n\n\n  \nProgram Sponsors: \n\n\n\n\n\n\n\n\n 
URL:https://idcanada.org/fr/event/idc-design-symposium-2025-1/
LOCATION:clio\, 600 King Street West\, Toronto\, ON\, M5V 1M3\, Canada
CATEGORIES:Social Event
END:VEVENT
BEGIN:VEVENT
DTSTART;VALUE=DATE:20231026
DTEND;VALUE=DATE:20231027
DTSTAMP:20260422T102810
CREATED:20230324T182253Z
LAST-MODIFIED:20231005T163626Z
UID:13127-1698278400-1698364799@idcanada.org
SUMMARY:IDC Awards Celebration 2023
DESCRIPTION:Join IDC on Thursday\, Oct. 26 at 7 p.m. ET at Aria in Toronto\, Ont. to celebrate and honour our members’ achievements at this year’s live and in-person awards celebration. The event will celebrate winners of the 2023 Value of Design Awards (VODA)\, winners of the Industry Partners-exclusive Innovation Awards\, recognize participants of the PROpel Emerging Leaders program\, winners of the Innovation in Design Thinking Student Competition\, and recipient of the Legacy Award for Distinguished Service. \nIDC awards will be presented during a sit-down dinner. Dress code is business attire. \nSecure your tickets or table today! \nPresented by: \n\n\n\n\n\n\n\n\n\n\n\n\n  \nProgram Sponsors: \n\n\n\n\n\n\n\n\n\n\n\n\n\n\n\n\n\n\n\n\n\n\n\n\n\n\n\n\n\n  \nDesign Firm Sponsors: \n\n\n\n\n\n\n\n\n\n\n\n\n\n\n  \nSupported by: \n\n\n\n\n\n\n\n\n\n\n\n\n\n\n  \nMedia Partner:
URL:https://idcanada.org/fr/event/idc-awards-celebration-2023/
END:VEVENT
BEGIN:VEVENT
DTSTART;TZID=America/Toronto:20231027T150000
DTEND;TZID=America/Toronto:20231027T160000
DTSTAMP:20260422T102811
CREATED:20230829T203715Z
LAST-MODIFIED:20241030T140703Z
UID:14970-1698418800-1698422400@idcanada.org
SUMMARY:IDC Annual Meeting
DESCRIPTION:The 51st Annual Meeting for Interior Designers of Canada will be held on October 27\, 2023 at 3 p.m. ET. \nJoin fellow members from across Canada and hear a report on IDC’s activities over the past year. This is your chance to connect with IDC CEO\, Trevor Kruse\, and the 2023-24 Board of Directors. \nIf you are planning to attend the Annual Meeting in person\, please RSVP to communications@idcanada.org. \nIf you will be joining remotely\, please register here. \nAGENDA ITEMS: \n\nApproval of Minutes from the 2022 Annual Meeting\nApproval of Financial Statements\nApproval of Bylaw Amendment\nAppointment of Auditor\nNominations Committee Report\nApproval of a slate of five new Directors\n\nWe look forward to seeing you at the meeting. \nPlease contact communications@idcanada.org for all questions or concerns. \nLOCATION: \nTEKNION \n120 Bremner Blvd.\, Suite 2010 \nToronto\, ON \nM5J 0A8 \n  \nIDC thanks the ongoing support of our National Partners: \n\n\n\n\n\n\n\n\n\n\n\n\n\n\n\n\n\n\n\n\n\n\n\n\n\n\n\n\n\n\n\n\n\n\n 
URL:https://idcanada.org/fr/event/idc-annual-meeting/
LOCATION:Teknion\, 120 Bremner Blvd\, Toronto\, ON\, M5J 0A1\, Canada
END:VEVENT
END:VCALENDAR