BEGIN:VCALENDAR
VERSION:2.0
PRODID:-//IDC - ECPv6.15.20//NONSGML v1.0//EN
CALSCALE:GREGORIAN
METHOD:PUBLISH
X-WR-CALNAME:IDC
X-ORIGINAL-URL:https://idcanada.org/fr/
X-WR-CALDESC:Évènements pour IDC
REFRESH-INTERVAL;VALUE=DURATION:PT1H
X-Robots-Tag:noindex
X-PUBLISHED-TTL:PT1H
BEGIN:VTIMEZONE
TZID:America/Toronto
BEGIN:DAYLIGHT
TZOFFSETFROM:-0500
TZOFFSETTO:-0400
TZNAME:EDT
DTSTART:20220313T070000
END:DAYLIGHT
BEGIN:STANDARD
TZOFFSETFROM:-0400
TZOFFSETTO:-0500
TZNAME:EST
DTSTART:20221106T060000
END:STANDARD
BEGIN:DAYLIGHT
TZOFFSETFROM:-0500
TZOFFSETTO:-0400
TZNAME:EDT
DTSTART:20230312T070000
END:DAYLIGHT
BEGIN:STANDARD
TZOFFSETFROM:-0400
TZOFFSETTO:-0500
TZNAME:EST
DTSTART:20231105T060000
END:STANDARD
BEGIN:DAYLIGHT
TZOFFSETFROM:-0500
TZOFFSETTO:-0400
TZNAME:EDT
DTSTART:20240310T070000
END:DAYLIGHT
BEGIN:STANDARD
TZOFFSETFROM:-0400
TZOFFSETTO:-0500
TZNAME:EST
DTSTART:20241103T060000
END:STANDARD
END:VTIMEZONE
BEGIN:VTIMEZONE
TZID:America/Regina
BEGIN:STANDARD
TZOFFSETFROM:-0600
TZOFFSETTO:-0600
TZNAME:CST
DTSTART:20220101T000000
END:STANDARD
END:VTIMEZONE
BEGIN:VEVENT
DTSTART;TZID=America/Toronto:20230920T120000
DTEND;TZID=America/Toronto:20230920T130000
DTSTAMP:20260422T132456
CREATED:20230911T135330Z
LAST-MODIFIED:20230911T141403Z
UID:15091-1695211200-1695214800@idcanada.org
SUMMARY:Webinar: How to Get the Maximum Revenue from Your Projects
DESCRIPTION:Presentation Summary:\nContract Management is not the fun part of any Interior Design project but it is crucial for the success of your practice. \nIn this webinar presentation\, Melissa Van Loon\, a marketing and business operations expert who is the Co-Founder and Owner of WORKBENCH Design Consulting\, will speak about the process of a project and how to ensure that you are earning the maximum revenues from your contract. The webinar will cover everything from your kickoff meeting to managing the client’s expectations and having difficult conversations to\, most importantly\, how to keep the project on time and budget. \nPlease note that this webinar is not IDCEC accredited.  \nSecure Your Spot\nPresenter: \nMelissa Van Loon is a co-founder and marketing & operations specialist at WORKBENCH\, a company that specializes in providing expertise in marketing and operations within the Interior Design + Architecture industries. With 25 years of experience in these fields\, Melissa has held senior management positions with notable firms such as II BY IV Design and Powell & Bonnell\, among others. \nMelissa’s career journey began in the travel industry in the 1990s when she opened the first stores for Flight Centre in Canada. Over nearly a decade\, she played a crucial role in expanding Flight Centre’s global presence. During her time there\, she gained valuable experience in business operations\, marketing\, and new business development. \nFollowing her successful career in the travel industry\, Melissa shifted her focus to the field of interior design. While she is not a designer herself\, Melissa possesses expertise in marketing and operations\, offering a unique perspective to creative businesses. She leveraged her experience from running and marketing retail businesses and applied those successes to the world of interior design. \nMelissa Van Loon’s career trajectory demonstrates her adaptability and her ability to contribute to various industries by providing strategic insights and expertise in marketing and operations. Her role as a co-founder of WORKBENCH further underscores her commitment to helping creative businesses thrive in the competitive marketplace.
URL:https://idcanada.org/fr/event/workbench-how-to-get-the-maximum-revenue-from-your-projects/
END:VEVENT
BEGIN:VEVENT
DTSTART;VALUE=DATE:20230922
DTEND;VALUE=DATE:20230923
DTSTAMP:20260422T132456
CREATED:20230822T203742Z
LAST-MODIFIED:20230822T204521Z
UID:14893-1695340800-1695427199@idcanada.org
SUMMARY:The Americas Property Awards
DESCRIPTION:The Americas Property Awards is bringing its IPAX Networking Summit to Toronto \n \nMake contact with key decision makers from the region’s leading companies and earn a free entry into the awards! \nReceive a free entry to the Americas Property Awards 2024-2025 worth $1\,000 * when you purchase a ticket for IPAX and the Americas Property Awards\, taking place at the Marriott Down Town CF Toronto Eaton Centre on September 22nd. \nBringing together winners of the world-renowned International Property Awards with industry suppliers and professionals from across the region\, IPAX USA & Americas is an exclusive networking summit that attracts the finest companies and individuals from across the fields of architecture\, interior design\, development\, real estate and beyond. \nHosted by Chairman of Judges\, Lord Waverley\, and awards founder Stuart Shield\, IPAX USA & Americas attracts the top members of the world’s leading property companies – owners\, managing directors\, CEOs\, partners\, founders and presidents. These high-level decision makers attend to collect their Property Awards and network with fellow winners and associated companies. \nThis is your chance to make contacts and develop your business in new and exciting ways. \nIPAX is a complete platform for business professionals in the property industry to meet\, network\, learn and connect with each other. \nIPAX Talks Hear from our experts discussing trending topics from across the property industry in moderated panel discussions. \nShowcase Space is available to present your products or services to this unique captive audience. This is the most effective way to engage with attendees and demonstrate your projects\, products or specialisations. \nNetworking The show is a full business-to-business networking environment for all sectors of the property and real estate industry. IPAX gives all attendees the opportunity to showcase themselves to some of the finest companies to make connections\, form alliances and generate new business. \nSend enquiries to customerservice@ipropertymedia.com. \nPurchase Your Ticket! \n 
URL:https://idcanada.org/fr/event/the-americas-property-awards/
LOCATION:Marriott Downtown at CF Toronto Eaton Centre
ORGANIZER;CN="International Property Awards":MAILTO:customerservice@ipropertymedia.com
END:VEVENT
BEGIN:VEVENT
DTSTART;TZID=America/Toronto:20230922T090000
DTEND;TZID=America/Toronto:20230922T100000
DTSTAMP:20260422T132456
CREATED:20230828T140418Z
LAST-MODIFIED:20230828T212628Z
UID:14985-1695373200-1695376800@idcanada.org
SUMMARY:IDS Vancouver Presentation: Sherwin-Williams Colour Forecast 2024 | Anthology Volume 1
DESCRIPTION:This course will take the participant on a visual journey with stimulating imagery\, factual statistics and perceptive research that supports the Residential 2024 forecast for colour and design trends. Elizabeth Raczkiewicz\, Designer Account Executive at Sherwin-Williams\, will explore the drivers influencing future colour and design trends that include global\, technological\, historical\, psychological\, and economic factors with specific insights into colour family directions for 2024 and beyond. \nNote: This session has been submitted for AIBC and IDCEC accreditation. \n\n\nREGISTER TODAY! \n\nEvent details:\nLocation: IDS Vancouver\, Vancouver Convention Centre\, Room 115\nDate: Friday\, September 22\, 2023\nTime: 9:00 a.m. – 10:00 a.m. ET
URL:https://idcanada.org/fr/event/ids-vancouver-presentation-sherwin-williams-colour-forecast-2024/
LOCATION:Vancouver Convention Centre
END:VEVENT
BEGIN:VEVENT
DTSTART;VALUE=DATE:20230926
DTEND;VALUE=DATE:20230930
DTSTAMP:20260422T132456
CREATED:20230126T183221Z
LAST-MODIFIED:20230126T183221Z
UID:12082-1695686400-1696031999@idcanada.org
SUMMARY:MARMOMAC 2023
DESCRIPTION:The global natural stone community will gather once again in Verona for an in-person event experience to discover the latest trends\, forge new business relationships and explore innovative products and solutions. MARMOMAC 2023 will occur between September 26 and 29 in Verona\, Italy at Verona Fiera. \n \nMARMOMAC 2023 is the most important world fair dedicated to the entire stone production chain\, from the quarry to the processed product\, from technologies and machinery to tools. Born in one of the main Italian districts for the extraction and processing of natural stone\, MARMORAC is today the main international hub of the sector’s protagonists\, an irreplaceable platform where business and professional development meet\, becoming a privileged place for innovation and training. \n \n\n\n\n\nThe fair will cover the following industry segments: Materials\, Machinery – Plant – Equipment\, Tools – Abrasives – Chemicals\, Architecture and design using agglomerates\, Architecture and design using natural stone\, and Projects. The trade fair will feature high-quality unhewn blocks\, slabs and processed stones of various kinds like quartz\, granite\, and more. The expo will also display equipment\, up to 700 cutting and quarrying machinery\, transportation equipment\, tools and chemicals. \n \nMARMOMAC 2023 trade visitors can attend live demonstrations\, product and services booths\, competitions\, award ceremonies\, practical workshops and informative lectures. Part of the trade show’s schedule will be the Italian Stone Theatre\, where professionals will address and discuss current topics in the sector\, covering the areas of architecture\, design and art. \n \nClick here for more information about MARMORAC 2023. \n\n\n\n\nApplications open in spring.
URL:https://idcanada.org/fr/event/marmomac-2023/
LOCATION:Verona Fiera\, Viale del Lavoro\, 8\, Verona\, 37135\, Italy
END:VEVENT
BEGIN:VEVENT
DTSTART;TZID=America/Toronto:20230927T100000
DTEND;TZID=America/Toronto:20230927T110000
DTSTAMP:20260422T132456
CREATED:20230828T151320Z
LAST-MODIFIED:20230828T212617Z
UID:14993-1695808800-1695812400@idcanada.org
SUMMARY:Toronto Presentation of Sherwin-Williams Colour Forecast 2024 | Anthology Volume 1
DESCRIPTION:This course will take the participant on a visual journey with stimulating imagery\, factual statistics and perceptive research that supports the Residential 2024 forecast for colour and design trends. Join Sherwin-Williams for an exploration of the drivers influencing future colour and design trends that include global\, technological\, historical\, psychological\, and economic factors with specific insights into colour family directions for 2024 and beyond. \nNote: This session has been submitted for AIBC and IDCEC accreditation. \nEvent details:\nLocation: JF Fabrics\, 126 Tycos Drive\, Toronto ON\nDate: Wednesday\, September 27\, 2023\nTime: 10:00 a.m. – 11:00 a.m. ET\n\n\n.\n\n\nRSVP: Emily Grundy\, Division Manager of Design\nSherwin-Williams Canada\n289-681-0357\nemily.t.grundy@sherwin.com
URL:https://idcanada.org/fr/event/toronto-presentation-of-sherwin-williams-colour-forecast-2024-anthology-volume-1/
LOCATION:JF Fabrics\, 126 Tycos Drive\, Toronto\, ON\, Canada
END:VEVENT
BEGIN:VEVENT
DTSTART;TZID=America/Toronto:20230927T150000
DTEND;TZID=America/Toronto:20230927T180000
DTSTAMP:20260422T132456
CREATED:20230911T190805Z
LAST-MODIFIED:20230912T165708Z
UID:15151-1695826800-1695837600@idcanada.org
SUMMARY:Design Forces Speaker Series: Building + Retaining a Diverse Design Team
DESCRIPTION:Join the Toronto International Design Centre (TIDC) for the third installment of their Design Forces Speaker Series – a meaningful and timely discussion that will assist your firm in implementing best practices for Building + Retaining a Diverse Design Team. \nJoin all-star panelists as they share how their organizations have overhauled hiring practices to build more diverse teams\, how they encourage and support those teams\, and how these initiatives have improved their businesses. Get the inside scoop and overview of current labour trends and how business owners can hire\, train\, and retain diverse teams for their design firms. \nThis session will: \n\nExamine the current lack of diversity in the Design Industry from education to the workforce.\nDive into what you can do as business leaders to remove unconscious biases and dismantle barriers to access for underserved communities.\nProvide you with actionable items and checklists for how to find and assess candidates.\nShare tips for improving company culture to create an encouraging and supportive environment.\nReveal the importance of diverse teams and how they make a positive impact on businesses.\n\nThis session is accredited for 1 IDCEC CEU Credit. \n\n\n\nModerator: \nAgnes Watkinson\, Co-Founder of NextGen Professional and NG Women \n\nPanelists: \nSharon Portelli\, CAE – Executive Director and Registrar of ARIDO \nNatalie Ramtahal\, PhD Student – Manager of Administration and Equity at the School of Interior Design\, Toronto Metropolitan University \nYasmien Fadl – Head of Workplace Design\, Experience & Change Management at TD Bank \n\n\n\n\nSponsor: JennAir Canada \n100% of ticket costs will benefit the Toronto Metropolitan University (TMU) Student Emergency Fund. \nYour $40 contribution will go directly to students in need. \nEmergency/Discretionary funding is intended to provide students with short-term assistance with severe financial need. It can cover payments such as\, but not limited to\, TTC monthly passes\, gift cards for grocery stores or drug stores\, funds for books\, class materials\, etc. \nThe School of Interior Design has seen a growing need for this type of funding. Within the first semester of the 2022-23 academic year\, we had a student (from an equity-deserving group) who needed financial support\, which the School could not provide. Supporting students is needed now more than ever and we’re so grateful for your generosity. \nRegister today. \nVisit www.DesignForces.ca for more information. \nEvent details:\nLocation: JennAir Experience Centre – 118 The Esplanade\, Toronto\, ON M5E 1A9\nDate: Wednesday\, September 27\, 2023\nTime: 3:00 p.m. – 6:00 p.m.
URL:https://idcanada.org/fr/event/design-forces-speaker-series-building-retaining-a-diverse-design-team/
LOCATION:JennAir Experience Centre\, 118 The Esplanade\, 2nd floor\, Toronto\, ON\, M5E 1A9\, Canada
END:VEVENT
BEGIN:VEVENT
DTSTART;TZID=America/Regina:20230928T090000
DTEND;TZID=America/Regina:20230928T193000
DTSTAMP:20260422T132456
CREATED:20230119T192859Z
LAST-MODIFIED:20230801T154509Z
UID:11872-1695891600-1695929400@idcanada.org
SUMMARY:IDAS Annual Tabletop Show
DESCRIPTION:REGISTER HERE\n\nAbout this event \nThe Interior Designers Association of Saskatchewan (IDAS) is pleased to announce the return of our Tabletop Show this fall! We are now accepting registrations to exhibit at the 2023 Fall Tabletop Trade Show which will be held in Saskatoon\, Saskatchewan at the beautiful The Barn at Wind’s Edge. \nThe main focus of the trade show is to showcase the latest products and services for commercial and residential suppliers to the Saskatchewan Interior Design community. This is an excellent opportunity to bring together the design community in an informal\, social atmosphere. \nEvent details: \nWhen: Thursday\, September 28\, 2023; 9:00 a.m. – 7:30 p.m. CST \nWhere: The Barn at Wind’s Edge Site 515\, Comp 13 RR5 STN MAIN Saskatoon\, SK S7K 3J8
URL:https://idcanada.org/fr/event/idas-tabletop-show/
LOCATION:The Barn at Wind’s Edge\, Site 515\, Comp 13 RR5 STN MAIN\, Saskatoon\, Saskatchewan\, S7K 3J8\, Canada
END:VEVENT
END:VCALENDAR