BEGIN:VCALENDAR
VERSION:2.0
PRODID:-//IDC - ECPv6.15.20//NONSGML v1.0//EN
CALSCALE:GREGORIAN
METHOD:PUBLISH
X-WR-CALNAME:IDC
X-ORIGINAL-URL:https://idcanada.org/fr/
X-WR-CALDESC:Évènements pour IDC
REFRESH-INTERVAL;VALUE=DURATION:PT1H
X-Robots-Tag:noindex
X-PUBLISHED-TTL:PT1H
BEGIN:VTIMEZONE
TZID:America/Toronto
BEGIN:DAYLIGHT
TZOFFSETFROM:-0500
TZOFFSETTO:-0400
TZNAME:EDT
DTSTART:20220313T070000
END:DAYLIGHT
BEGIN:STANDARD
TZOFFSETFROM:-0400
TZOFFSETTO:-0500
TZNAME:EST
DTSTART:20221106T060000
END:STANDARD
BEGIN:DAYLIGHT
TZOFFSETFROM:-0500
TZOFFSETTO:-0400
TZNAME:EDT
DTSTART:20230312T070000
END:DAYLIGHT
BEGIN:STANDARD
TZOFFSETFROM:-0400
TZOFFSETTO:-0500
TZNAME:EST
DTSTART:20231105T060000
END:STANDARD
BEGIN:DAYLIGHT
TZOFFSETFROM:-0500
TZOFFSETTO:-0400
TZNAME:EDT
DTSTART:20240310T070000
END:DAYLIGHT
BEGIN:STANDARD
TZOFFSETFROM:-0400
TZOFFSETTO:-0500
TZNAME:EST
DTSTART:20241103T060000
END:STANDARD
END:VTIMEZONE
BEGIN:VEVENT
DTSTART;TZID=America/Toronto:20230803T120000
DTEND;TZID=America/Toronto:20230803T130000
DTSTAMP:20260422T131610
CREATED:20230504T152630Z
LAST-MODIFIED:20230731T172717Z
UID:13618-1691064000-1691067600@idcanada.org
SUMMARY:CEU Webinar: Impostor Syndrome - The Silent Saboteur
DESCRIPTION:Presentation Summary: \nImpostor syndrome is the silent saboteur – learn its meaning\, its impact\, and a way through! \nImpostor Syndrome impacts 70% of highly-accomplished professionals at some point in their careers. Unable to internalize their achievements and success\, they fear being found out as the fakes they believe themselves to be. This includes interior designers. \nLearn about Impostor Syndrome and how it can sabotage creativity and confidence\, and contribute to self-doubt and procrastination. Find out how to move through impostor feelings to accepting yourself as the highly competent\, credible\, and trustworthy professional you are. \nSecure Your Spot\nPresenter: \nMarlene Cameron\nBusiness & Leadership Coach\nLeadership by Design \nAn award-winning business coach\, Marlene helps interior design business owners and leaders optimize their time\, talent\, and team performance. A former licensed interior designer\, she went on to study business\, finance\, and later psychology\, specializing in emotional well-being. She struggled with her own impostor feelings until being introduced to a new understanding of our psychology. She now shares this leading-edge perspective with interior designers to awaken their natural confidence\, deeper intelligence\, and innate well-being.
URL:https://idcanada.org/fr/event/ceu-webinar-impostor-syndrome-the-silent-saboteur/
CATEGORIES:Webinar
END:VEVENT
BEGIN:VEVENT
DTSTART;TZID=America/Toronto:20230817T120000
DTEND;TZID=America/Toronto:20230817T130000
DTSTAMP:20260422T131610
CREATED:20230504T152629Z
LAST-MODIFIED:20230815T155729Z
UID:13617-1692273600-1692277200@idcanada.org
SUMMARY:CEU Webinar: Colour and Paint in Environments for the Aging
DESCRIPTION:Presentation Summary: \nNot only are we living longer\, but senior citizens are the fastest-growing segment of the world’s population. The aging population faces problems with declining vision related to the disease and growing older. This webinar\, presented by Benjamin Moore & Co.\, discusses changes in colour perception among the elderly. It explains how appropriate colour use and application of low- or no-VOC\, durable\, high-quality paint facilitates quality of life in all environments for the aging. \nSecure Your Spot\nPresenter: \nGloria Rinaldi \nArchitectural & Design Representative \nBenjamin Moore & Co. \nGraduating from Ryerson University in Toronto\, Gloria worked in the fashion industry for 11 years\, prior to streamlining her career into interior design. She headed her own design firm for 15 years\, before transitioning to Benjamin Moore as their Architectural and Design representative since 2012. She holds certification as a LEED Green Associate as well as the designation of MPI II Architectural Coating Specialist. \nThis webinar is brought to you by: \n \n 
URL:https://idcanada.org/fr/event/ceu-webinar-colour-and-paint-in-environments-for-the-aging/
CATEGORIES:Webinar
END:VEVENT
BEGIN:VEVENT
DTSTART;TZID=America/Toronto:20230831T120000
DTEND;TZID=America/Toronto:20230831T130000
DTSTAMP:20260422T131610
CREATED:20230419T145133Z
LAST-MODIFIED:20230825T154402Z
UID:13240-1693483200-1693486800@idcanada.org
SUMMARY:CEU Webinar: Health\, Wellness\, and Sustainability
DESCRIPTION:Presentation Summary: \nTechnology is here to enhance the living space and encourage people to live longer\, healthier\, and better lives within their homes. \nWellness technology is about making indoor environments mimic nature and improve quality of life. Humans spend more of their time indoors than outdoors\, contrary to most of our history. Wellness technology encompasses principles of sustainability and applies the intelligence of automation systems so that designers can plan solutions that are the greatest fit for each client. They can then work with the client to implement simpler solutions or partner with a qualified home technology specialist for more intuitive solutions. \nPresented by Ci Partners\, this webinar discusses how\, advancements in home technology and environmental control have greatly improved the user-friendliness over the years\, making it easier than ever to control your environment\, even for those that say they are not tech-savvy. \nLearning Objectives: \n\nUnderstand why an integrator should be brought on early\, and have the ability to collaborate with other trades and specialists in wellness technology.\nIdentify the importance of a healthy home and the technology within – a cohesive unit for wellness & sustainability.\nExplain why automation & integration are paramount when implementing wellness technologies.\nUnderstand why traditional building practices need to be improved upon and updated.\nDescribe the impact of poor vs. good air & water quality for the inhabitants of the home.\n\nAccreditation: \nIDCEC – 0.1\nCEU AIA – 1.0 LU/HSW\nAIBD – 1.0 CEU\nNARI – 1.0 CEU \nSecure Your Spot\nPresenters: \nBrett Stenner\nOwner\nCi Partners \nBrett Stenner is the owner of Ci Partners and has over 23 years of experience in the residential electronics industry\, including 16 years as a product trainer and sales manager. As members of HAVAN\, BILD GTA\, IDC\, and HTA\, Ci Partners is focused on building bridges between the design and construction community and technology. In 2020 he became Well AP certified with a focus on spreading the Healthy Home and Living message and about the technology that makes a home well for humans. \nKevin Learmann\nSpecification Manager\nCi Partners \nKevin Learmann has 20 years of experience in the luxury residential and commercial automation technology industries\, including multiple control\, lighting\, security\, climate\, and window covering systems. He enjoys guiding designers\, builders\, and consumers through today’s rapidly evolving electronic system. \nThis webinar is presented by:
URL:https://idcanada.org/fr/event/ceu-webinar-health-wellness-and-sustainability/
CATEGORIES:Webinar
END:VEVENT
END:VCALENDAR