BEGIN:VCALENDAR
VERSION:2.0
PRODID:-//IDC - ECPv6.15.20//NONSGML v1.0//EN
CALSCALE:GREGORIAN
METHOD:PUBLISH
X-ORIGINAL-URL:https://idcanada.org/fr/
X-WR-CALDESC:Évènements pour IDC
REFRESH-INTERVAL;VALUE=DURATION:PT1H
X-Robots-Tag:noindex
X-PUBLISHED-TTL:PT1H
BEGIN:VTIMEZONE
TZID:America/Vancouver
BEGIN:DAYLIGHT
TZOFFSETFROM:-0800
TZOFFSETTO:-0700
TZNAME:PDT
DTSTART:20220313T100000
END:DAYLIGHT
BEGIN:STANDARD
TZOFFSETFROM:-0700
TZOFFSETTO:-0800
TZNAME:PST
DTSTART:20221106T090000
END:STANDARD
BEGIN:DAYLIGHT
TZOFFSETFROM:-0800
TZOFFSETTO:-0700
TZNAME:PDT
DTSTART:20230312T100000
END:DAYLIGHT
BEGIN:STANDARD
TZOFFSETFROM:-0700
TZOFFSETTO:-0800
TZNAME:PST
DTSTART:20231105T090000
END:STANDARD
BEGIN:DAYLIGHT
TZOFFSETFROM:-0800
TZOFFSETTO:-0700
TZNAME:PDT
DTSTART:20240310T100000
END:DAYLIGHT
BEGIN:STANDARD
TZOFFSETFROM:-0700
TZOFFSETTO:-0800
TZNAME:PST
DTSTART:20241103T090000
END:STANDARD
END:VTIMEZONE
BEGIN:VTIMEZONE
TZID:America/Toronto
BEGIN:DAYLIGHT
TZOFFSETFROM:-0500
TZOFFSETTO:-0400
TZNAME:EDT
DTSTART:20220313T070000
END:DAYLIGHT
BEGIN:STANDARD
TZOFFSETFROM:-0400
TZOFFSETTO:-0500
TZNAME:EST
DTSTART:20221106T060000
END:STANDARD
BEGIN:DAYLIGHT
TZOFFSETFROM:-0500
TZOFFSETTO:-0400
TZNAME:EDT
DTSTART:20230312T070000
END:DAYLIGHT
BEGIN:STANDARD
TZOFFSETFROM:-0400
TZOFFSETTO:-0500
TZNAME:EST
DTSTART:20231105T060000
END:STANDARD
BEGIN:DAYLIGHT
TZOFFSETFROM:-0500
TZOFFSETTO:-0400
TZNAME:EDT
DTSTART:20240310T070000
END:DAYLIGHT
BEGIN:STANDARD
TZOFFSETFROM:-0400
TZOFFSETTO:-0500
TZNAME:EST
DTSTART:20241103T060000
END:STANDARD
END:VTIMEZONE
BEGIN:VEVENT
DTSTART;TZID=America/Vancouver:20230413T073000
DTEND;TZID=America/Vancouver:20230413T110000
DTSTAMP:20260422T190148
CREATED:20230201T205749Z
LAST-MODIFIED:20230426T152953Z
UID:12293-1681371000-1681383600@idcanada.org
SUMMARY:2023 IDC/IIDA Leaders Breakfast Vancouver
DESCRIPTION:Co-presented by the Interior Designers of Canada (IDC) and the International Interior Design Association (IIDA)\, the Leaders Breakfast is an annual international event that celebrates design in the global marketplace by honouring individuals who are both the legacy and future of design. \nEvery year a chosen city hosts a breakfast that features a renowned keynote speaker and recognizes one city-selected honouree who has made significant contributions to the design industry. Don’t miss Vancouver’s IDC/IIDA Leaders Breakfast\, which will be hosted at the beautiful ocean-view Pan Pacific Vancouver hotel. \nView a full photo-recap of the event and hear Carol’s award acceptance speech. \nEvent Details: \nLocation: Pan Pacific Vancouver Hotel\, 300-999 Canada Place\, Vancouver\, BC\, V6C 3B5 \nDate: April 13\, 2023 \nTime: 7:30 a.m. – 11:00 a.m. PT \nSchedule: \n7:30 a.m.- Coffee Reception and Networking \n8:30 a.m. – Opening Remarks and Breakfast \n9:30 a.m. – Honouree Presentation \n9:50 a.m. – Keynote Presentation \n11:00 a.m. – Closing remarks \nHonouree\n Carol Jones \nRID\, CFM\, LEED AP\, FIDIBC\, FIDC\, FIIDA Emeritus\, D.Litt. \nBefore retiring from practice\, Carol was a Principal and Vice-President\, Interior Design\, at Kasian Architecture Interior Design and Planning Ltd\, and her professional experience has included practice in several Canadian cities as well as teaching appointments at two universities. \nWith more than 40 years of experience in planning and design\, Carol’s focus on design for the high-performance workplace for the both the private and public sector has earned her the title of expert on workplace programming and planning. She speaks and writes on professional development topics both nationally and internationally\, and projects under her leadership have been widely published and have received numerous awards. \nIn addition to her more than 40 years of experience in interior design\, Carol has had a parallel career as a volunteer on professional boards. These include President of IDC in 1991 and 2020 and Chair of the IDC Foundation\, President of IIDA in 1999 and Chair of the IIDA Foundation\, and service on the boards of CIDA and CIDQ. In 2010\, Carol was awarded an honorary Doctor of Letters (D.Litt) by Kwantlen Polytechnic University for her contributions to  the design profession. \nKeynote\nCheryl S. Durst\, HON. FIIDA \nExecutive Vice President and CEO\, IIDA \nAn exceptional communicator\, innovator\, and visionary leader\, Cheryl S. Durst has spurred progress\, driven change\, and encouraged the expansion of the interior design industry. As the Executive Vice President and CEO of the International Interior Design Association\, Cheryl is committed to achieving broad recognition for the value of design and its significant role in society. \nWith 15\,000 members across 58 countries\, Cheryl oversees the strategic direction of IIDA\, heading its International Board and setting an agenda that leads the industry in creating community\, advancing advocacy and continuing decades of work toward equity. Cheryl is a member of the International WELL Building Institute Governance Council; as well as a Trustee for Chicago’s Museum of Contemporary Art and the NYSID. She has been referred to by Interior Design magazine as “an ambassador for innovation and expansion\, and a visionary strategist.” Cheryl was inducted into the prestigious Interior Design Hall of Fame in 2016 as the recipient of its first-ever Leadership Award. She is the first African American woman to be inducted into the industry’s Hall of Fame. \nA lifelong knowledge enthusiast and voracious reader who has considered librarian\, astronaut and journalist as potential careers\, Cheryl never walks away from meeting someone without gleaning a bit of their story — a talent she currently employs on her monthly podcast\, The Skill Set\, which focuses on the intangible skills that make us good at what we do. \nCheryl’s keynote presentation is titled Design\, Leadership and Culture; Opportunities in a New Age\, an insightful exploration of how design thinking and intent are shaping the future of placemaking — a future in which design leads the way to deeper engagement and fresh context. As brand\, culture and “belonging” become marketplace imperatives\, how do new ways of living and working create key opportunities for the built environment? And why is the art and science of placemaking necessary to the human experience? \nThis keynote presentation will count towards 1 IDCEC hour. \n  \nTable Opportunities for Partners\n\n\n\nChampion Table – Partner (two tables available)\n$5\,000\n\n\n2 x VIP table location for 10 (20 seats)\nCompany name signage on table\nCompany logo on IDC website\nCompany logo on IDC communications tools (IDC Newsletter\, email event notices\, press releases\, etc.)\nCompany logo in Leaders Breakfast event on PowerPoint\nOpportunity to place company promotional item on each breakfast chair (approximately 300 items required)\nIncluded as a sponsor in the news release\n\n\n\n\nPatron – Partner (11 tables available)\n$3\,000\n\n\nPreferred table location for 10\nCompany name signage on table\nCompany logo on IDC website\nCompany logo on email event notices to all IDC members\nCompany logo in Leaders Breakfast event on PowerPoint\n\n\n\n\nTable of Ten – Partner (6 tables available)\n$2\,000\n\n\nSelect table location for 10\nCompany name signage on table\nCompany name on IDC website\nCompany name on email event notices to all IDC members\nCompany name in Leaders Breakfast event PowerPoint\n\n\n\n\n\nTo secure a table or ask any questions\, please contact: \nBarbora Krsiakova\, IDC Director\, Business Development \ne: bkrsiakova@idcanada.org \n \nInternational Benefactor:\n \nMedia Partner:\n \nChampion Sponsor:\n\n  \n\n  \nPatron Sponsor:\n \nTable Sponsors:\nCrown Surface Solutions \nHolmes & Brakel Business Interiors \nKasian Architecture Interior Design and Planning Ltd. \nMCM Interiors Ltd. \nSteelcase / Heritage Office Furnishings \nTeknion
URL:https://idcanada.org/fr/event/2023-idc-iida-leaders-breakfast-vancouver/
LOCATION:Pan Pacific Vancouver Hotel\, 300-999 Canada Place\, Vancouver\, BC\, V6C 3B5\, Canada
END:VEVENT
BEGIN:VEVENT
DTSTART;TZID=America/Vancouver:20230414T093000
DTEND;TZID=America/Vancouver:20230414T120000
DTSTAMP:20260422T190148
CREATED:20230302T184545Z
LAST-MODIFIED:20230524T160317Z
UID:12714-1681464600-1681473600@idcanada.org
SUMMARY:Industry Sales Professionals Course Vancouver (Part 2)
DESCRIPTION:Join us on Friday\, April 14 in Vancouver for the second offering of IDC’s celebrated Industry Sales Professional Course (ISPC). IDC offers a custom course\, tailored exclusively to meet the needs of architecture and design industry sales professionals\, and an opportunity to learn\, network and connect! \nThis practically-oriented Q&A session will feature two panels of registered interior designers drawn from boutique and large design firms serving the retail\, commercial\, healthcare\, hospitality\, and residential sectors. The discussion will focus on Industry and Designer interaction\, how firms are currently working\, the needs of the design community\, and ideas Industry members can use when working with designers. \nParticipants who join both scheduled Q&A sessions in Vancouver (March 8 and April 14) will receive an official ISPC certificate and LinkedIn designation. \nSecure Your Spot\n  \nLearn more about our March 8 ISPC offering \n  \nEvent details:\nLocation: 1000 – 675 W Hastings St\, Vancouver\, BC V6B 1N2\nDate: April 14\, 2023\nTimes:\nPanel one – Relationship Building with Designers in the Remote Era: Challenges and Solutions: 9:30 a.m. – 10:30 a.m. PT\nPanel two – Breakout session: 10:45 a.m. – 11:30 a.m. PT\, followed by networking \nEvent contact: bkrsiakova@idcanada.org \nPanelists:\nCheryl Broadhead\nPrincipal\nBYU Design  \nChristine Boultbee\nInterior Designer\nKasian Architecture\, Interior Design and Planning \nKathie Tupper\nDesign and Specifications Manager Western Canada\nFormations Inc Canada \n  \n\nSpecial thanks to our event host\,\nGlobal Furniture Group
URL:https://idcanada.org/fr/event/vancouver-ispc-april-14-2023/
CATEGORIES:Industry Course
END:VEVENT
BEGIN:VEVENT
DTSTART;VALUE=DATE:20230416
DTEND;VALUE=DATE:20230417
DTSTAMP:20260422T190148
CREATED:20230126T235748Z
LAST-MODIFIED:20230228T210511Z
UID:12171-1681603200-1681689599@idcanada.org
SUMMARY:Re-Imagining Residential Health for the Future
DESCRIPTION:Hear from IDC Board of Director member\, Christine Weber Craik\, at a panel discussion on « Re-Imagining Residential Health for the Future » at the Environments for Aging (EFA) Conference + Expo in Charlotte\, North Carolina! \nThis presentation will discuss issues and potential solutions\, and review U.S. and Canadian guidelines that embrace alternative care models and supportive environments. Speakers will provide examples of improved quality of life for residents\, staff\, family\, and community in inclusive environments. Additionally\, they’ll share global case studies and promising programming\, planning\, and design examples that support evidence-based\, person-centered design in residential care communities. \nAttendees will explore the evolving field of residential care\, address concerns\, present concepts that support positive change\, and see innovative future developments to enhance design and operations. Finally\, identify how interior design strategy enhances the implantation of best practices with supportive interior architecture. \nLearning Objectives: \n• Review relevant issues and concerns in providing a continuum of care for residents and families\, and supportive workplaces for care partners and staff.\n• Learn about resources and references that help inform best practices in residential healthcare.\n• Obtain examples of design innovation that can influence and improve the future of environments for aging\, including new technology.\n• Explore the evolution of environments for aging that support inclusivity\, access\, diversity\, and equity. \nSession Number: E03 \nWhen: Sunday\, April 16\, 2023: 10:45 p.m. – 11:45 p.m. \nWhere: Charlotte Convention Centre\, Charlotte\, NC \n \nEnvironments for Aging Conference + Expo is the ultimate networking\, education\, and product-sourcing event in senior living design. See the newest products from 100+ exhibitors and learn about the latest research\, trends\, and strategies to meet the needs of our aging population. Leave with new connections\, new ideas for current and future projects\, as well as CEUs. \nLearn more about attending or exhibiting at EFA.
URL:https://idcanada.org/fr/event/re-imagining-residential-health-for-the-future/
LOCATION:Charlotte Convention Center\, 501 S College St\, Charlotte\, NC\, 28202\, United States
END:VEVENT
BEGIN:VEVENT
DTSTART;VALUE=DATE:20230418
DTEND;VALUE=DATE:20230424
DTSTAMP:20260422T190148
CREATED:20230126T172507Z
LAST-MODIFIED:20230126T173210Z
UID:12068-1681776000-1682294399@idcanada.org
SUMMARY:Salone del Mobile Furniture Fair
DESCRIPTION:Launched in Milan in 1961 as a vehicle for promoting Italian exports of furnishing and accessories\, the Salone Internazionale del Mobile is the global benchmark event for the furnishing and design sector. \n \nOver 400\,000 professional visitors attend the fair each year\, from 188 other countries\, along with more than 5\,000 national and international journalists and around 27\,500 members of the public\, making the Salone del Mobile Milano the unmissable event for interior designers. \n \nClick here to learn more about Salone del Mobile.  \nApplications open in winter.
URL:https://idcanada.org/fr/event/salone-del-mobile-furniture-fair/
END:VEVENT
BEGIN:VEVENT
DTSTART;TZID=America/Toronto:20230427T120000
DTEND;TZID=America/Toronto:20230427T130000
DTSTAMP:20260422T190148
CREATED:20230417T152823Z
LAST-MODIFIED:20230504T160158Z
UID:13193-1682596800-1682600400@idcanada.org
SUMMARY:CEU Webinar: Paint 101
DESCRIPTION:Todays architectural paint coatings do so much more than protect a substrate and provide colour! Recent advancements have produced coatings that can also solve problems for commercial and residential interiors and exteriors. Today’s coatings must also meet the most stringent VOC regulations and offer material transparency for those seeking sustainable building certifications. \nThis webinar will provide you with the fundamentals of different paint coating systems and the latest technologies so that you can specify coatings that will provide the best outcome for your client. \nSecure Your Spot\nPresenter: \nVictoria Young\nDesigner Account Executive\nSherwin-Williams \nVictoria has spent 17 years in the paint and coatings industry in various roles\, most recently as the Designer Account Executive for Sherwin-Williams in GTA West\, SouthWest Ontario and Ottawa. She loves participating in industry events and networking with her peers. \nThis webinar is brought to you by:
URL:https://idcanada.org/fr/event/ceu-webinar-paint-101/
CATEGORIES:Webinar
END:VEVENT
END:VCALENDAR