BEGIN:VCALENDAR
VERSION:2.0
PRODID:-//IDC - ECPv6.15.20//NONSGML v1.0//EN
CALSCALE:GREGORIAN
METHOD:PUBLISH
X-WR-CALNAME:IDC
X-ORIGINAL-URL:https://idcanada.org/fr/
X-WR-CALDESC:Évènements pour IDC
REFRESH-INTERVAL;VALUE=DURATION:PT1H
X-Robots-Tag:noindex
X-PUBLISHED-TTL:PT1H
BEGIN:VTIMEZONE
TZID:America/Toronto
BEGIN:DAYLIGHT
TZOFFSETFROM:-0500
TZOFFSETTO:-0400
TZNAME:EDT
DTSTART:20210314T070000
END:DAYLIGHT
BEGIN:STANDARD
TZOFFSETFROM:-0400
TZOFFSETTO:-0500
TZNAME:EST
DTSTART:20211107T060000
END:STANDARD
BEGIN:DAYLIGHT
TZOFFSETFROM:-0500
TZOFFSETTO:-0400
TZNAME:EDT
DTSTART:20220313T070000
END:DAYLIGHT
BEGIN:STANDARD
TZOFFSETFROM:-0400
TZOFFSETTO:-0500
TZNAME:EST
DTSTART:20221106T060000
END:STANDARD
BEGIN:DAYLIGHT
TZOFFSETFROM:-0500
TZOFFSETTO:-0400
TZNAME:EDT
DTSTART:20230312T070000
END:DAYLIGHT
BEGIN:STANDARD
TZOFFSETFROM:-0400
TZOFFSETTO:-0500
TZNAME:EST
DTSTART:20231105T060000
END:STANDARD
END:VTIMEZONE
BEGIN:VTIMEZONE
TZID:America/Regina
BEGIN:STANDARD
TZOFFSETFROM:-0600
TZOFFSETTO:-0600
TZNAME:CST
DTSTART:20210101T000000
END:STANDARD
END:VTIMEZONE
BEGIN:VEVENT
DTSTART;VALUE=DATE:20220906
DTEND;VALUE=DATE:20221105
DTSTAMP:20260423T035514
CREATED:20221021T140352Z
LAST-MODIFIED:20221028T152745Z
UID:10913-1662422400-1667606399@idcanada.org
SUMMARY:Vancouver WorkBetterLab
DESCRIPTION:Steelcase and Heritage Office Furnishings\, leaders in office research\, furniture solutions\, culture and wellbeing\, are scheduled to open the prototype workplace of the future — Vancouver WorkBetterLab. \nComprised of diverse settings designed to support all modes of work\, the lab reimagines the office so people can work better\, emphasizing spaces for focus work as well as hybrid collaboration. The highly flexible space gives people more choice and control over where and how they work and features the latest products from Steelcase brands and partners. The Vancouver experience joins Toronto and Edmonton to preview the latest in workplace trends with more locations to come. \nJoin IDC\, Steelcase\, and Heritage Office Furnishings for a special panel discussion featuring leaders from the design industry that will discuss the topics of ‘back to people’\, ‘return to community’\, and the advantages of having people gather together in one space. \nLocated in downtown Vancouver at Two Bentall Centre\, 555 Burrard Street\, unit 120\, starting Sept. 6\, the pop-up experience is designed to help organizations understand workers’ changing needs and expectations and how to attract them back to the office. It will provide leaders\, architects\, designers and planners the opportunity to experience and explore innovative solutions that offer people greater control\, comfort and privacy. \nThe Vancouver WorkBetterLab will be open by appointment only. To request an appointment online\, please complete a form by clicking here. \nThe WorkBetterLab is a collaborative effort between Steelcase and Heritage Office Furnishings\, as well as their partners in workplace solutions including Blu Dot\, Bolia\, Carl Hansen & Sons\, Coalesse\, Established & Sons\, Extremis\, FLOS\, Logitech\, m.a.d.\, Mattiazzi\, Microsoft\, Moooi\, Orangebox\, Tom Dixon\, Viccarbe and West Elm. \n              \n 
URL:https://idcanada.org/fr/event/vancouver-workbetterlab/
LOCATION:WorkBetterLab Vancouver\, 555 Burrard Street\, unit 120\, Vancouver\, BC\, V7X 1M5\, Canada
END:VEVENT
BEGIN:VEVENT
DTSTART;VALUE=DATE:20221004
DTEND;VALUE=DATE:20221006
DTSTAMP:20260423T035514
CREATED:20220215T141145Z
LAST-MODIFIED:20220215T141145Z
UID:8419-1664841600-1665014399@idcanada.org
SUMMARY:LightSPEC Midwest
DESCRIPTION:LEDs Magazine and Endeavor Business Media introduce LightSPEC Midwest 2022\, an inaugural conference and exhibition showcasing inspiration and innovation in the architectural and commercial lighting markets. Featuring two days of information exchange and networking opportunities with lighting designers\, architects\, specifiers\, lighting manufacturers and others\, LightSPEC Midwest provides the Midwest with a lighting education and solutions platform for buyers and specifiers of commercial\, architectural and high-end decorative lighting products\, controls and technologies. \nIDC members can use promo code IDC22 to receive $50 off the conference rate during registration. \nView more information and register here: lightspecmidwest.com/ 
URL:https://idcanada.org/fr/event/lightspec-midwest/
LOCATION:Hyatt Regency Chicago\, Chicago
CATEGORIES:Third Party Event
END:VEVENT
BEGIN:VEVENT
DTSTART;TZID=America/Toronto:20221005T183000
DTEND;TZID=America/Toronto:20221005T220000
DTSTAMP:20260423T035514
CREATED:20220912T181410Z
LAST-MODIFIED:20220912T184136Z
UID:10442-1664994600-1665007200@idcanada.org
SUMMARY:Twelve Oaks and BoConcept's Fall Dinner Party
DESCRIPTION:Twelve Oaks and BoConcept cordially invite you to join them for a dinner party in Toronto\, ON on October 5\, 2022. Held at the gorgeous Maison Selby restaurant\, enjoy delicious French cuisine alongside fellow design and architecture professionals. \nPlease note that space is limited! \nTo RSVP\, please email Ambrose Price at a.price@twelveoaks.ca
URL:https://idcanada.org/fr/event/twelve-oaks-and-boconcept/
LOCATION:Maison Selby\, 592 Sherbourne Street\, Toronto\, ON\, L4J 8H1\, Canada
END:VEVENT
BEGIN:VEVENT
DTSTART;TZID=America/Regina:20221006T180000
DTEND;TZID=America/Regina:20221006T220000
DTSTAMP:20260423T035514
CREATED:20220901T211325Z
LAST-MODIFIED:20220930T141424Z
UID:10315-1665079200-1665093600@idcanada.org
SUMMARY:2022 masi Design Awards
DESCRIPTION:On October 6\, 2022\, join for a night of celebration! The Professional Interior Designers Institute of Manitoba (The PIDIM)\, Interior Designers of Alberta (IDA)\, and Interior Designers Association of Saskatchewan (IDAS) invite you to join them for the 2022 masi Design Awards! \nIDAS will be hosting this year’s live gala to celebrate the selected winners. Come celebrate Interior Design and all of the amazing work that has been completed by the members of the IDA\, IDAS\, and The PIDIM! \nThe Awards recognizes talented professionals in the Interior Design Industry from across Manitoba\, Alberta and Saskatchewan. Click here to learn more. \nRegister now!
URL:https://idcanada.org/fr/event/2022-masi-design-awards/
LOCATION:Saskatoon Inn & Conference Centre\, 2002 Airport Drive\, Saskatoon\, SK\, S7L 6M4\, Canada
END:VEVENT
BEGIN:VEVENT
DTSTART;VALUE=DATE:20221012
DTEND;VALUE=DATE:20221013
DTSTAMP:20260423T035514
CREATED:20220414T003811Z
LAST-MODIFIED:20220614T134016Z
UID:8973-1665532800-1665619199@idcanada.org
SUMMARY:GRANDS PRIX DU DESIGN - 1 Awards Gala Evening
DESCRIPTION:GRANDS PRIX DU DESIGN Award \nThe Gala of the GRANDS PRIX DU DESIGN Awards is a true celebration of excellence in design\, an annual event attended by the major players of the industry and their clients. \nWinners to be announced: \n■ Architecture \n■ Construction & Real Estate \n■ Landscape & Territories \n■ Art & Photography
URL:https://idcanada.org/fr/event/grands-prix-du-design-1-awards-gala-evening-2/
LOCATION:Cabaret du Casino de Montréal\, Pavillon du Québec\, 1 Ave du Casino\, Montréal\, QC\, H3C 4W7\, Canada
CATEGORIES:Third Party Event
END:VEVENT
BEGIN:VEVENT
DTSTART;TZID=America/Toronto:20221012T170000
DTEND;TZID=America/Toronto:20221012T200000
DTSTAMP:20260423T035514
CREATED:20220906T172930Z
LAST-MODIFIED:20220929T213158Z
UID:10367-1665594000-1665604800@idcanada.org
SUMMARY:RDI's 51st International Design Awards
DESCRIPTION:Join the New York Chapter live while the in-person event is simulcast throughout the Institute. The Institute’s coveted Innovation Awards\, including architecture\, concept and visual merchandising\, will also be announced. \nThe Retail Design Institute has named 19 finalists in its 51st annual design competition. The judging panel consisted of Professional members of the Institute representing its various Chapters. \nThese projects make up the Institute’s Class of 2021\, for retail projects opened in 2021 (January 1 through December 31)\, and represent design achievement in categories ranging from pop-up stores to fine dining. This year’s competition attracted submissions from over 50 retail teams around the globe. \nRegistration is limited for this exclusive event\, so act quickly to reserve your place! \nLight bites and beverages will be served. \nREGISTER NOW!
URL:https://idcanada.org/fr/event/celebrate-rdis-51st-international-design-awards/
LOCATION:Triad Theatre\, 158 W 72nd St\, New York\, NY\, 10023\, United States
END:VEVENT
BEGIN:VEVENT
DTSTART;VALUE=DATE:20221019
DTEND;VALUE=DATE:20221021
DTSTAMP:20260423T035514
CREATED:20220606T173754Z
LAST-MODIFIED:20221116T230407Z
UID:9429-1666137600-1666310399@idcanada.org
SUMMARY:IDC Design Symposium
DESCRIPTION:This year IDC celebrates 50 years as the advocacy association for interior designers in Canada and to mark the occasion\, the theme of this year’s design symposium is ‘Legacy of Design: Past\, Present and Future.’ \nThe design symposium is presented by Cosentino and will be held on Oct. 19 and 20\, 2022 at Cosentino City Toronto\, where the opening reception will also be hosted. \nThe two-day event features a program of in-depth education\, inspiring keynote presentations\, the PROpel Emerging Leaders program\, and an award presentation\, featuring the prestigious Value of Design Awards. This year we learn from the change-makers\, reflect on the issues facing designers today\, and seek solutions for a better future for the next generations of interior designers. \nParticipants can expect to attend design tours of notable member projects\, connect and network with peers\, collect IDCEC credits through panel discussions\, hear from incredible speakers\, participate in a design charette\, and cheer on their colleagues and friends at the IDC awards. \nREGISTER NOW! \nIDC is committed to supporting the diversity of individuals and organisations working to strengthen the interior design profession. The Coast-to-Coast Subsidy affords those IDC members who might otherwise not be able to attend\, the opportunity to represent their organization at IDC’s Design Symposium. It is IDC’s ongoing effort to subsidize every applicant through the Coast-to-Coast Subsidy program. \nAPPLY TODAY! \nTo view the full lineup of events and programming  and to registers for the two-day symposium\, visit: idcanada.org/symposium \nPresented by:\n \n  \n  \n\nMain Sponsors:\n\n\n\n\n\n\n\n\n  \nProgram Sponsors:\n\n\n\n\n\n\n\n\n\n\n\n\n\n\n\n\n\n\n\n\n\n\n\n\n  \nCoast-to-Coast Sponsors:\n\n\n\n\n\n\n\n\n\n\n\n\n\n\n\n\nDesign Firm Sponsors:\n\n\n\n\n\n\n\n\n\n\nSupporters:
URL:https://idcanada.org/fr/event/idc-design-symposium/
LOCATION:Cosentino\, 665 Caledonia Rd\, Toronto\, ON\, M6E 4V8\, Canada
END:VEVENT
BEGIN:VEVENT
DTSTART;TZID=America/Toronto:20221020T190000
DTEND;TZID=America/Toronto:20221020T230000
DTSTAMP:20260423T035514
CREATED:20220722T191848Z
LAST-MODIFIED:20221003T163340Z
UID:9884-1666292400-1666306800@idcanada.org
SUMMARY:IDC Awards Celebration 2022
DESCRIPTION:Join IDC on Thursday\, Oct. 20 at 7 p.m. ET at Malaparte in Toronto\, Ont. to celebrate and honour our members’ achievements at this year’s live and in-person awards celebration. The event will celebrate winners of the 2022 Value of Design Awards (VODA)\, recognize participants of the PROpel Emerging Leaders program\, winners of the Innovation in Design Thinking Student Competition\, and recipient of the Legacy Award for Distinguished Service. \n \nIDC’s Value of Design Awards (VODA) shine a spotlight on Canadian interior designers by providing a forum to showcase the benefits of design thinking: an empathetic\, inventive\, and iterative process focused on the human experience within interior spaces. These awards demonstrate the positive human and business impact of design thinking for the people and companies who hire a professional interior designer. By measuring the benefits and outcomes of design\, IDC is showcasing the true value of design across the country and beyond. \nTHIS EVENT IS NOW SOLD OUT \nLOCATION: \n350 King Street West \nTIFF Bell Lightbox\, Sixth Floor \nToronto\, ON M5V 3X5 \n \nIDC awards will be presented during a sit-down dinner. Dress code is business attire. \n  \nSPONSORS: \n\n\n\n\n\n\n\n\n\n\n  \n\n\n\n\n\n\n\n\n\n\n\n\n\n\n\n\n  \n\n\n\n\n\n\n 
URL:https://idcanada.org/fr/event/idc-awards-celebration-2022/
LOCATION:Malaparte\, 350 King Street West\, Toronto\, ON\, M5V 3X5
END:VEVENT
BEGIN:VEVENT
DTSTART;VALUE=DATE:20221021
DTEND;VALUE=DATE:20221024
DTSTAMP:20260423T035514
CREATED:20220720T010024Z
LAST-MODIFIED:20220914T194748Z
UID:9897-1666310400-1666569599@idcanada.org
SUMMARY:IACC Seminar 1\, Part 1: The Experience of Colour
DESCRIPTION:The first in a series of four six-day seminars in Applied Colour Theory for Architectural Environments \nSeminar 1\, Part 1 (Zoom session): Friday\, October 21 – Sunday\, October 23\, 2022 \nSeminar 1\, Part 2 (Zoom session): Friday\, October 28 – Sunday\, October 30\, 2022 \nSeminar Description: \nCome learn what you may or may not have been taught about colour when you studied architecture and interior design. \nThis is the English version of Seminar #1 from the IACC series on applied colour in architecture that has been taught in Salzburg\, Austria for decades. \nThis seminar is based in part on the Johannes Itten foundation colour course taught at the Bauhaus\, and on Itten’s book The Elements of Color\, which is the most widely applied foundation course in colour education. \nStarting at the beginning we will explore colour mixing. We will then identify the quality of colour\, and also identify different types of contrast\, composition and context in the application of colour theory in architectural environments. \nIn this seminar you will learn to compose balanced\, functional and beautiful colour solutions that specifically communicate and support the nature of your clients’ spaces and well-being. \nThis is the foundation course for all subsequent IACC seminars. \nJoin us at IACC Seminar #1 in October. Please see website for details: https://www.iacc-canada-seminars.com/upcoming-seminars \nTo register\, contact: \nCheryl Spina Dudley\nIACC Certified Colour Designer\nIDC\, ARIDO Registered Interior Designer\nPresident\, IACC Canada (International Association of Colour Consultants)\ncbsdudley@icloud.com\n613-728-6653 \nPlease note: registration closes on September 21\, 2022.  \nSeminar Presenters: \nEdda Mally\, M.A.\, Director\, Professional Colour Designer\, Director\, IACC Salzburg Seminars\nCheryl Spina Dudley\, IACC\, ARIDO\, IDC\, Architectural Colourist\, Interior Designer\, President-elect\, IACC Canada Seminars \n 
URL:https://idcanada.org/fr/event/iacc-seminar-1-part-1-the-experience-of-colour/
CATEGORIES:Third Party Event,Virtual Event
END:VEVENT
BEGIN:VEVENT
DTSTART;VALUE=DATE:20221028
DTEND;VALUE=DATE:20221031
DTSTAMP:20260423T035514
CREATED:20220729T003709Z
LAST-MODIFIED:20220729T003843Z
UID:9987-1666915200-1667174399@idcanada.org
SUMMARY:IACC Seminar 1\, Part 2: The Experience of Colour
DESCRIPTION:The first in a series of four six-day seminars in Applied Colour Theory for Architectural Environments \nSeminar 1\, Part 1 (Zoom session): Friday\, October 21 – Sunday\, October 23\, 2022 \nSeminar 1\, Part 2 (Zoom session): Friday\, October 28 – Sunday\, October 30\, 2022 \nSeminar Description: \nCome learn what you may or may not have been taught about colour when you studied architecture and interior design. \nThis is the English version of Seminar #1 from the IACC series on applied colour in architecture that has been taught in Salzburg\, Austria for decades. \nThis seminar is based in part on the Johannes Itten foundation colour course taught at the Bauhaus\, and on Itten’s book The Elements of Color\, which is the most widely applied foundation course in colour education. \nStarting at the beginning we will explore colour mixing. We will then identify the quality of colour\, and also identify different types of contrast\, composition and context in the application of colour theory in architectural environments. \nIn this seminar you will learn to compose balanced\, functional and beautiful colour solutions that specifically communicate and support the nature of your clients’ spaces and well-being. \nThis is the foundation course for all subsequent IACC seminars. \nJoin us at IACC Seminar #1 in October. Please see website for details: https://www.iacc-canada-seminars.com/upcoming-seminars \nTo register\, contact: \nCheryl Spina Dudley\nIACC Certified Colour Designer\nIDC\, ARIDO Registered Interior Designer\nPresident\, IACC Canada (International Association of Colour Consultants)\ncbsdudley@icloud.com\n613-728-6653 \nPlease note: registration closes on September 21\, 2022.  \nSeminar Presenters: \nEdda Mally\, M.A.\, Director\, Professional Colour Designer\, Director\, IACC Salzburg Seminars\nCheryl Spina Dudley\, IACC\, ARIDO\, IDC\, Architectural Colourist\, Interior Designer\, President-elect\, IACC Canada Seminars \n 
URL:https://idcanada.org/fr/event/iacc-seminar-1-part-2-the-experience-of-colour/
CATEGORIES:Third Party Event,Virtual Event
END:VEVENT
END:VCALENDAR