BEGIN:VCALENDAR
VERSION:2.0
PRODID:-//IDC - ECPv6.15.20//NONSGML v1.0//EN
CALSCALE:GREGORIAN
METHOD:PUBLISH
X-ORIGINAL-URL:https://idcanada.org/fr/
X-WR-CALDESC:Évènements pour IDC
REFRESH-INTERVAL;VALUE=DURATION:PT1H
X-Robots-Tag:noindex
X-PUBLISHED-TTL:PT1H
BEGIN:VTIMEZONE
TZID:America/Toronto
BEGIN:DAYLIGHT
TZOFFSETFROM:-0500
TZOFFSETTO:-0400
TZNAME:EDT
DTSTART:20210314T070000
END:DAYLIGHT
BEGIN:STANDARD
TZOFFSETFROM:-0400
TZOFFSETTO:-0500
TZNAME:EST
DTSTART:20211107T060000
END:STANDARD
BEGIN:DAYLIGHT
TZOFFSETFROM:-0500
TZOFFSETTO:-0400
TZNAME:EDT
DTSTART:20220313T070000
END:DAYLIGHT
BEGIN:STANDARD
TZOFFSETFROM:-0400
TZOFFSETTO:-0500
TZNAME:EST
DTSTART:20221106T060000
END:STANDARD
BEGIN:DAYLIGHT
TZOFFSETFROM:-0500
TZOFFSETTO:-0400
TZNAME:EDT
DTSTART:20230312T070000
END:DAYLIGHT
BEGIN:STANDARD
TZOFFSETFROM:-0400
TZOFFSETTO:-0500
TZNAME:EST
DTSTART:20231105T060000
END:STANDARD
END:VTIMEZONE
BEGIN:VEVENT
DTSTART;TZID=America/Toronto:20220816T113000
DTEND;TZID=America/Toronto:20220816T123000
DTSTAMP:20260423T073619
CREATED:20220811T012813Z
LAST-MODIFIED:20220811T012930Z
UID:10076-1660649400-1660653000@idcanada.org
SUMMARY:Marble Trend Poly Van Tour
DESCRIPTION:Attention local Designers & Architects! \nPolycor is hitting the road with their camper van and stopping at Marble Trend for an awesome training session experience.  \nEnjoy an exclusive training session covering all things STONE from Green Construction to the Environmental Impact of Stone\, straight out of the PolyVan! \nREGISTRATION IS REQUIRED \nWhen: August 16\, 2022 at 11:30am \nIncluded: Refreshments\, Lunch\, Raffle \nDuration: 30 min. presentation + questions\, mingling\, Marble Trend showroom & warehouse tour etc. \nWhere: Marble Trend Ltd. 310 Oakdale Rd\, Toronto\, ON\, M3N 1W5 \nREGISTER NOW\nLearn about the best North American quarried stones such as Canadian Saint Henry Black\, Cambrian Black and Kodiak Black and American Saint Clair\, White Cherokee and more.
URL:https://idcanada.org/fr/event/marble-trend-poly-van-tour/
LOCATION:Marble Trend\, 310 Oakdale Rd\, Toronto\, ON\, M3N 1W5\, Canada
CATEGORIES:Third Party Event
END:VEVENT
END:VCALENDAR