BEGIN:VCALENDAR
VERSION:2.0
PRODID:-//IDC - ECPv6.15.20//NONSGML v1.0//EN
CALSCALE:GREGORIAN
METHOD:PUBLISH
X-ORIGINAL-URL:https://idcanada.org/fr/
X-WR-CALDESC:Évènements pour IDC
REFRESH-INTERVAL;VALUE=DURATION:PT1H
X-Robots-Tag:noindex
X-PUBLISHED-TTL:PT1H
BEGIN:VTIMEZONE
TZID:America/Toronto
BEGIN:DAYLIGHT
TZOFFSETFROM:-0500
TZOFFSETTO:-0400
TZNAME:EDT
DTSTART:20210314T070000
END:DAYLIGHT
BEGIN:STANDARD
TZOFFSETFROM:-0400
TZOFFSETTO:-0500
TZNAME:EST
DTSTART:20211107T060000
END:STANDARD
BEGIN:DAYLIGHT
TZOFFSETFROM:-0500
TZOFFSETTO:-0400
TZNAME:EDT
DTSTART:20220313T070000
END:DAYLIGHT
BEGIN:STANDARD
TZOFFSETFROM:-0400
TZOFFSETTO:-0500
TZNAME:EST
DTSTART:20221106T060000
END:STANDARD
BEGIN:DAYLIGHT
TZOFFSETFROM:-0500
TZOFFSETTO:-0400
TZNAME:EDT
DTSTART:20230312T070000
END:DAYLIGHT
BEGIN:STANDARD
TZOFFSETFROM:-0400
TZOFFSETTO:-0500
TZNAME:EST
DTSTART:20231105T060000
END:STANDARD
END:VTIMEZONE
BEGIN:VEVENT
DTSTART;VALUE=DATE:20220511
DTEND;VALUE=DATE:20220516
DTSTAMP:20260423T102823
CREATED:20220512T164744Z
LAST-MODIFIED:20220512T170303Z
UID:9118-1652227200-1652659199@idcanada.org
SUMMARY:OCAD UNIVERSITY GRADEX 107
DESCRIPTION:OCAD University’s 107th Annual Graduate Exhibition is returning in person! Celebrate the work of OCAD U’s class of 2022 in person and online May 11- 15\, 2022.
URL:https://idcanada.org/fr/event/ocad-university-gradex-107/
CATEGORIES:Third Party Event
END:VEVENT
BEGIN:VEVENT
DTSTART;VALUE=DATE:20220513
DTEND;VALUE=DATE:20220516
DTSTAMP:20260423T102823
CREATED:20220512T165916Z
LAST-MODIFIED:20220512T170418Z
UID:9121-1652400000-1652659199@idcanada.org
SUMMARY:YEAR END SHOW
DESCRIPTION:Image source: NOW magazine \nJoin the School of Interior Design’s (SID) Year End Show on May 13 – 15\, 2022 for the student showcase\, networking\, and virtual events.
URL:https://idcanada.org/fr/event/year-end-show/
LOCATION:Toronto Metropolitan University\, 350 Victoria Street\, Toronto\, Ontario\, M5B 2K3\, Canada
CATEGORIES:Third Party Event
END:VEVENT
BEGIN:VEVENT
DTSTART;TZID=America/Toronto:20220519T140000
DTEND;TZID=America/Toronto:20220519T140000
DTSTAMP:20260423T102823
CREATED:20220421T201534Z
LAST-MODIFIED:20220506T002734Z
UID:9000-1652968800-1652968800@idcanada.org
SUMMARY:Future of Design – Panel Discussion
DESCRIPTION:Join IDC and a panel of experts in conversation about the future of design. This event is created with students\, interns\, and junior designers in mind to help them navigate the changing landscape of interior design today. \nThe speakers will discuss their career journeys and offer insight on pathways to success for emerging professionals. The panelists will take into consideration the portfolio review and current hiring processes at design firms\, and current needs within the industry. The attendees can expect to hear advice on how to best prepare for the workforce and how to succeed at your internship or first job. \nA Q&A portion will follow the panel discussion\, where participants can interact with speakers. \nThe event is sponsored by Sherwin Williams and will be held at Improve Canada on Thursday\, May 19\, 2022. The event will also be broadcast to online attendees. \nREGISTER NOW\nMeet the Panelists:\nShir Magen\, CEO\, HomeStars\nShir is an accomplished executive with deep expertise in customer acquisition\, scalable growth and retention strategies in technology companies both in Canada and abroad. She holds an MBA degree with a Bachelors in Interior Design. Read more. \nJeremy Vandermeij\, Executive Director\, DesignTO\, and Co-founder The Van Dads\nJeremy is a designer\, business strategist\, and marketer with over 15 years of experience. He currently works as one of the leaders at the nonprofit DesignTO\, and designs and builds campervans at The Van Dads. Read more. \nMarti Galluci\, Design Director\, Mason Studio\nMarti is a design director at Mason Studio leading local and international projects\, spanning from retail to exhibition to hospitality. She brings an understanding of the importance of spaces to create meaningful human experiences. Read more. \nStanley Sun\, Co-founder & Creative Director\, Mason Studio\nMason Studio is a dynamic and award-winning interior design firm in Toronto. Stanley’s design vision is informed by a unique blend of formal studies in human sciences\, fine arts and interior design. Read more. \nVictoria Young\, Designer Account Executive -Eastern Canada\, Sherwin Williams\nVictoria supports the residential interior designer and architectural market with colour and paint specifications\, she also provides continuing education for designers and industry partners. Read more. \n\nModerated by:\nTrevor Kruse\, IDC CEO\nTrevor has enjoyed a 35-year career as a professional interior designer along with nearly three decades of volunteer service on provincial\, national\, and international boards\, including ARIDO\, CIDA\, SBID\, and the IFI. Read more. \n\nSponsored by:
URL:https://idcanada.org/fr/event/future-of-design-panel-discussion/
LOCATION:Improve Canada\, 7250 Keele St.\, Concord\, ON\, L4K 1Z8
END:VEVENT
BEGIN:VEVENT
DTSTART;TZID=America/Toronto:20220524T120000
DTEND;TZID=America/Toronto:20220524T130000
DTSTAMP:20260423T102823
CREATED:20220302T211852Z
LAST-MODIFIED:20220303T182905Z
UID:8604-1653393600-1653397200@idcanada.org
SUMMARY:Webinar: Materials New and Now
DESCRIPTION:Presentation Description: \nThis webinar will explore new\, innovative\, and alternative materials that are emerging in the field of architecture\, interior design\, and industrial design. The course is intended to inspire\, delight\, and challenge every designer’s notion of what materials are available on the market and how they can be used on projects. Designers will see unique materials as well as familiar ones\, and learn how they can be used in unexpected ways\, as well as learn how to source\, utilize\, and combine them. These materials will be examined in the context of current trends in the global design industry as well as popular culture\, taking into account sustainability\, advances in technology\, globalism\, and human emotion. \n\n\n\nREGISTER NOW\n\n\n\nTo collect your credit\, please register here.  \nPresenter:\nMindy O’Gara \nDirector of Product and Learning Experience \nInterface \ninterface.com \nPresenter bio: \nWith a passion for design and learning\, Mindy O’Gara blends both of these talents into her daily role as Director of Product and Learning Experience at Interface\, a global commercial flooring company and leader in sustainability. After achieving a Bachelor of Interior Design and working as a commercial interior designer for several years\, Mindy joined Interface and served in various design and marketing related roles. Today\, Mindy is empowered by her previous expertise as a designer and marketer to manage her most valuable position to date. With a focus on stimulating excitement and establishing a connection to the learning process\, she educates both internal and external audiences on Interface’s product offering and its contribution to design.  At the junction between neuroscience and design\, Mindy demonstrates the significant role of material choice and its effects on how we experience three-dimensional space. \nWhen Mindy is not igniting the learning process at Interface\, she enjoys the outdoors and her garden\, where she learns from one of her greatest mentors – nature. \nThis webinar accounts for one IDCEC approved HSW hour. Participants will receive their certificates of completion via email following the webinar and will need to self-report their hours using the IDCEC Mobile Attendance App. \nThis webinar will be offered in English. Maximum capacity for this webinar is 500 participants. 
URL:https://idcanada.org/fr/event/webinar-materials-new-and-now/
CATEGORIES:Webinar
END:VEVENT
BEGIN:VEVENT
DTSTART;TZID=America/Toronto:20220524T180000
DTEND;TZID=America/Toronto:20220524T200000
DTSTAMP:20260423T102823
CREATED:20220517T163901Z
LAST-MODIFIED:20220520T163520Z
UID:9152-1653415200-1653422400@idcanada.org
SUMMARY:The Potential of Interior Design to Make Better
DESCRIPTION:Toronto Interior Design firm Mason Studio is hosting an upcoming event exploring the potential of design to make better in the world. The evening gathering is open to aspiring and established designers. Meet the co-founders of Mason Studio and other team members to discuss the impact that interior design has on people\, and our responsibility as professionals to contribute to social conversations. Together\, we celebrate the next generation of designers and our potential to contribute to a more ethical and responsible future. \nThis event is held in conjunction with the exhibition\, ‘The Passion Project’\, now on display at The Gallery at Mason Studio. \nDuring the fall semester of 2021\, Mason Studio led a course at The School of Interior Design at Toronto Metropolitan University. The course guided students to recognize the motivations of a community using design as a tool to empower\, enrich and contribute. On display are four students’ work from this course. \nRSVP info@masonstudio.com
URL:https://idcanada.org/fr/event/the-potential-of-interior-design-to-make-better/
LOCATION:Mason Studio\, 91 Pelham Ave.\, Toronto\, ON\, M6N 1A5\, Canada
END:VEVENT
BEGIN:VEVENT
DTSTART;TZID=America/Toronto:20220526T160000
DTEND;TZID=America/Toronto:20220526T160000
DTSTAMP:20260423T102824
CREATED:20220512T011224Z
LAST-MODIFIED:20220526T142956Z
UID:9098-1653580800-1653580800@idcanada.org
SUMMARY:Breaking Barriers Panel: Celebrating Asian Heritage Month
DESCRIPTION:Join IDC in celebrating Asian Heritage Month\, hosted by Mason Studio. This panel discussion will feature prominent Asian Canadian designers and will be moderated by IDC President\, Ian Rolston. \nIf you are planning to attend the event in person\, please RSVP by May 25\, 2022\, along with registering below. \nREGISTER NOW\nPanelists:\n  \nStanley Sun\, Co-founder & Creative Director\, Mason Studio\nMason Studio is a dynamic and award-winning interior design firm in Toronto. Stanley’s design vision is informed by a unique blend of formal studies in human sciences\, fine arts and interior design. Read more. \n\n  \nCasey Yuen\, Designer\, iN STUDIO\nCasey Yuen is a Toronto\, Ont. based Project Designer at iN STUDIO where she specializes in workplace environments for companies across the country. Read more. \n  \nPhil Wong\, Associate\, Senior Interior Designer\, Kasian Architecture\nPhil Wong recognizes the primary role that the Interior environment or spaces should contribute to the quality of everyday life. Read more. \n \n. \n  \nModerator:\nIan Rolston\, President\, IDC Board of Directors\nIan Rolston is a design director\, principal\, thought leader and speaker. He has worked with transformative firms in Canada and in the U.S. across multiple sectors such as hospitality\, education\, transportation\, retail\, corporate and residential. Read more. \n\n\n  \nSponsored by:
URL:https://idcanada.org/fr/event/save-the-date-breaking-barriers-panel-celebrating-asian-heritage-month/
LOCATION:Mason Studio\, 91 Pelham Ave.\, Toronto\, ON\, M6N 1A5\, Canada
END:VEVENT
BEGIN:VEVENT
DTSTART;TZID=America/Toronto:20220531T120000
DTEND;TZID=America/Toronto:20220531T120000
DTSTAMP:20260423T102824
CREATED:20220311T163020Z
LAST-MODIFIED:20220522T173813Z
UID:8774-1653998400-1653998400@idcanada.org
SUMMARY:Webinar: What's New in Functional Design
DESCRIPTION:Presentation Description: \nThis webinar aims to provide inspiration for optimizing beautiful and practical spaces by using unconventional applications of traditional furniture fittings. Quality of living is not only determined by design but also by convenience. High FUNctioning Design will provide you with hardware solutions for different work and living areas. Discover how to create perfect harmony where living spaces combine functionality and aesthetics. Through our ongoing research\, we are able to create solutions that help to improve the everyday experience of our customers. Learn how to increase customer satisfaction and their needs by incorporating smart and innovative solutions in the home. The presenter will share tips on how to plan unique or difficult areas which will allow you to create additional space to live and work and explore new ways to use furniture fittings that will enable you to think beyond traditional spaces and make every room in the home a functional space. \nREGISTER NOW\n  \nPresenter:  \nLucy Traetto \nSales and Marketing Representative \nBlum Canada Ltd \nwww.blum.com \nPresenter bio:  \nLucy is a Sales and Marketing Representative at Blum Canada Ltd. and has been with the company for 22 years. Lucy dedicates her time educating manufacturers\, designers\, architects\, students\, and end consumers on Blum’s innovative products and functional solutions. In addition\, she provides an in-depth analysis of Blum’s Research and Development which focuses on improving ergonomics and optimizing storage space in the home. Her ‘Aging in Place’ presentation will enlighten you on some of the changes that occur as we age. Demonstrations with Blum’s AGE EXPLORER suit compliment her ‘Inspirations and Aging in Place’ seminars which allows her audience to experience first-hand what movement restrictions can occur over time and let people “Know TODAY what will be needed TOMORROW!” \nThis webinar accounts for one non-IDCEC hour. Participants will receive their certificates of completion via email following the webinar and will need to self report their hours. \nThis webinar will be offered in English. 
URL:https://idcanada.org/fr/event/webinar-whats-new-in-functional-design/
CATEGORIES:Webinar
END:VEVENT
END:VCALENDAR