BEGIN:VCALENDAR
VERSION:2.0
PRODID:-//IDC - ECPv6.15.20//NONSGML v1.0//EN
CALSCALE:GREGORIAN
METHOD:PUBLISH
X-WR-CALNAME:IDC
X-ORIGINAL-URL:https://idcanada.org/fr/
X-WR-CALDESC:Évènements pour IDC
REFRESH-INTERVAL;VALUE=DURATION:PT1H
X-Robots-Tag:noindex
X-PUBLISHED-TTL:PT1H
BEGIN:VTIMEZONE
TZID:America/Toronto
BEGIN:DAYLIGHT
TZOFFSETFROM:-0500
TZOFFSETTO:-0400
TZNAME:EDT
DTSTART:20210314T070000
END:DAYLIGHT
BEGIN:STANDARD
TZOFFSETFROM:-0400
TZOFFSETTO:-0500
TZNAME:EST
DTSTART:20211107T060000
END:STANDARD
BEGIN:DAYLIGHT
TZOFFSETFROM:-0500
TZOFFSETTO:-0400
TZNAME:EDT
DTSTART:20220313T070000
END:DAYLIGHT
BEGIN:STANDARD
TZOFFSETFROM:-0400
TZOFFSETTO:-0500
TZNAME:EST
DTSTART:20221106T060000
END:STANDARD
BEGIN:DAYLIGHT
TZOFFSETFROM:-0500
TZOFFSETTO:-0400
TZNAME:EDT
DTSTART:20230312T070000
END:DAYLIGHT
BEGIN:STANDARD
TZOFFSETFROM:-0400
TZOFFSETTO:-0500
TZNAME:EST
DTSTART:20231105T060000
END:STANDARD
END:VTIMEZONE
BEGIN:VTIMEZONE
TZID:America/Winnipeg
BEGIN:DAYLIGHT
TZOFFSETFROM:-0600
TZOFFSETTO:-0500
TZNAME:CDT
DTSTART:20210314T080000
END:DAYLIGHT
BEGIN:STANDARD
TZOFFSETFROM:-0500
TZOFFSETTO:-0600
TZNAME:CST
DTSTART:20211107T070000
END:STANDARD
BEGIN:DAYLIGHT
TZOFFSETFROM:-0600
TZOFFSETTO:-0500
TZNAME:CDT
DTSTART:20220313T080000
END:DAYLIGHT
BEGIN:STANDARD
TZOFFSETFROM:-0500
TZOFFSETTO:-0600
TZNAME:CST
DTSTART:20221106T070000
END:STANDARD
BEGIN:DAYLIGHT
TZOFFSETFROM:-0600
TZOFFSETTO:-0500
TZNAME:CDT
DTSTART:20230312T080000
END:DAYLIGHT
BEGIN:STANDARD
TZOFFSETFROM:-0500
TZOFFSETTO:-0600
TZNAME:CST
DTSTART:20231105T070000
END:STANDARD
END:VTIMEZONE
BEGIN:VEVENT
DTSTART;TZID=America/Toronto:20220405T120000
DTEND;TZID=America/Toronto:20220405T130000
DTSTAMP:20260423T114435
CREATED:20220302T211958Z
LAST-MODIFIED:20220302T211958Z
UID:8569-1649160000-1649163600@idcanada.org
SUMMARY:Webinar: Light and Wellness
DESCRIPTION:Presentation Description: \nThis webinar covers several topics surrounding the design ramifications of circadian lighting in the built environment including the human evolution of circadian rhythm\, the health implication of circadian disruption\, and how light impacts the circadian system. The presenters will also go into detail by providing evidence based metrics\, design considerations\, and the conceptual discussion of applications. \nThe learning objectives of this course include defining circadian rhythm and how it impacts the human body’s sleep/wake cycle\, identifying the five controllable lighting parameters that have a circadian impact\, differentiating between the two primary circadian metrics\, and using the Circadian Stimulus calculator to determine successful design for circadian entrainment\, as well as how to execute four lighting design techniques to create a circadian focused solution. \n\n\n\nREGISTER NOW\n\n\n\n  \nPresenter:\nBrett Stenner \nFounder \nCi Partners \ncipartners.ca \nPresenter bio: \nBrett Stenner\, the owner of Ci Partners and has over 23 years of experience in the residential electronics industry\, including 16 years as a product trainer and sales manager. As members of HAVAN\, BILD GTA\, IDC\, and HTA\, Ci Partners is focused on building bridges between the design and construction community and technology. In 2020 he became Well AP certified with a focus on spreading the Healthy Home and Living message and about the technology that makes a home well for humans. \nKevin Learmann \nSpecification Manager \nCi Partners \ncipartners.ca \nPresenter bio: \nKevin Learmann has 20 years of experience in the luxury residential and commercial automation technology industries\, including multiple control\, lighting\, security\, climate\, and window covering systems. He enjoys guiding designers\, builders\, and consumers through today’s rapidly evolving electronic systems possibilities. \nThis webinar accounts for one non-IDCEC hour. Participants will receive their certificates of completion via email following the webinar and will need to self-report their hours using the IDCEC Mobile Attendance App. \nThis webinar will be offered in English. Maximum capacity for this webinar is 500 participants. 
URL:https://idcanada.org/fr/event/webinar-light-and-wellness/
CATEGORIES:Webinar
END:VEVENT
BEGIN:VEVENT
DTSTART;TZID=America/Winnipeg:20220406T100000
DTEND;TZID=America/Winnipeg:20220408T130000
DTSTAMP:20260423T114435
CREATED:20220209T203547Z
LAST-MODIFIED:20220215T214455Z
UID:8379-1649239200-1649422800@idcanada.org
SUMMARY:2022 IDAS CEU Day\, Annual General Meeting and Tabletop Tradeshow
DESCRIPTION:Reunited\, and it feels so good! We are making up for lost time and are happy to announce the upcoming spring events that IDAS has in the works. Join us for the 2022 CEU day\, Annual General Meeting and the rescheduled tabletop tradeshow! \nThis is a great opportunity to get five CEU credits and get informed about what’s new and exciting with IDAS. We look forward to seeing you there! \n\nAgenda\nThursday\, April 7th: \n10:00-10:30am: Registration and coffee\n11:00-12:00pm CEU #1 (1 IDCEC credit)\n12:00-1:30pm Lunch\n1:30-2:00pm IDAS Member Discussion\n2:00-2:15pm: Coffee break\n2:30-3:30pm: CEU #2 (1 IDCEC credit)\n3:30-7:30pm: Tabletop Show (1 non-IDCEC credit) \nFriday\, April 8th: \n8:00-9:00am: Breakfast\n9:00-10:00am: Bear Pit Session (1 non-IDCEC credit)\n10:00-10:30am: Coffee Break\n10:30-12:30pm: AGM (1 non-IDCEC credit) \nRegistration is OPEN! Please remember to RSVP to the AGM if you plan to attend in person or virtually. \nhttps://www.eventbrite.ca/e/idas-annual-general-meeting-and-ceu-day-2022-tickets-264933211367 \nIf you’re traveling to Saskatoon\, the hotel has set aside a block of rooms – click here to reserve. \n 
URL:https://idcanada.org/fr/event/2022-idas-ceu-day-annual-general-meeting-and-tabletop-tradeshow/
LOCATION:Sheraton Cavalier Hotel\, Saskatoon\, Canada
END:VEVENT
BEGIN:VEVENT
DTSTART;TZID=America/Toronto:20220407T090000
DTEND;TZID=America/Toronto:20220410T180000
DTSTAMP:20260423T114435
CREATED:20220321T190635Z
LAST-MODIFIED:20220323T160302Z
UID:8868-1649322000-1649613600@idcanada.org
SUMMARY:Visit Blum at IDS22 Toronto
DESCRIPTION:Visit Blum at IDS Toronto – Booth #1514\nLet us be your inspiration! \n 
URL:https://idcanada.org/fr/event/visit-blum-at-ids22-toronto/
LOCATION:Metro Convention Centre\, South Building Halls D & E\, 222 Bremner Boulevard\, Toronto\, ON\, M5V 3L9\, Canada
END:VEVENT
BEGIN:VEVENT
DTSTART;VALUE=DATE:20220420
DTEND;VALUE=DATE:20220422
DTSTAMP:20260423T114435
CREATED:20220414T001531Z
LAST-MODIFIED:20220414T001531Z
UID:8956-1650412800-1650585599@idcanada.org
SUMMARY:4th Livable Design Summit: Health + Wellbeing Transforming the Home
DESCRIPTION:WELCOME to the LivABLE Design Summit \n\n2 Days\n30+ Industry Expert Speakers\nInfluential Attendees\nNetworking\n\nCEU accredited & ConED Structured Credits Apply \nThe 4th bi-annual LivABLE Design Summit is a virtual event taking place April 20-21\, 2022. \nJoin us as we present new perspectives and explore best practices around improving residential design. \nThis April we explore Health + Wellbeing: Transforming the Home\, with industry experts and global influencers as they come together to share their knowledge and expertise. We’re building community within the trades by inspiring change in the residential space with wellness design\, living in place\, and accessibility as key drivers. \nLearn how your business can thrive in this massive growing sector of home modification and wellness real estate! Discover solutions and new products for your residential projects. Connect with like-minded professionals. Expand your business offerings and define your marketing message. \nClick here for more information and to purchase tickets. 
URL:https://idcanada.org/fr/event/4th-livable-design-summit-health-wellbeing-transforming-the-home/
ORGANIZER;CN="Livable Canada":MAILTO:linda@livablecanada.com
END:VEVENT
BEGIN:VEVENT
DTSTART;TZID=America/Toronto:20220420T120000
DTEND;TZID=America/Toronto:20220420T130000
DTSTAMP:20260423T114435
CREATED:20220302T211933Z
LAST-MODIFIED:20220302T211933Z
UID:8585-1650456000-1650459600@idcanada.org
SUMMARY:Webinar: The Power of Colour
DESCRIPTION:Presentation Description: \nThis presentation takes us on a journey of colour exploration and how it relates to our moods\, emotions\, and innate reactions to a space. Further\, we learn how various factors impact colour forecasting\, including the influences of world events\, advances in technology\, cultural landscape and social climate\, among others. This overview will help designers understand the colour selection process\, and the meaning behind each colour. \n\n\n\nREGISTER NOW\n\n\n\n  \nPresenter:\nGloria Rinaldi \nArchitectural & Design Representative \nBenjamin Moore & Co. \nbenjaminmoore.com \nPresenter bio: \nGraduating from Ryerson University in Toronto\, Gloria worked in the fashion industry for 11 years\, prior to streamlining her career into interior design. She headed her own design firm for 15 years\, before transitioning to Benjamin Moore as their Architectural and Design representative since 2012. She holds certification as a LEED Green Associate as well as the designation of MPI II Architectural Coating Specialist. \nThis webinar accounts for one IDCEC hour. Participants will receive their certificates of completion via email following the webinar and will need to self-report their hours using the IDCEC Mobile Attendance App. \nThis webinar will be offered in English. Maximum capacity for this webinar is 500 participants. 
URL:https://idcanada.org/fr/event/webinar-the-power-of-colour/
CATEGORIES:Webinar
END:VEVENT
BEGIN:VEVENT
DTSTART;TZID=America/Toronto:20220426T120000
DTEND;TZID=America/Toronto:20220426T130000
DTSTAMP:20260423T114435
CREATED:20220302T212004Z
LAST-MODIFIED:20220422T003924Z
UID:8594-1650974400-1650978000@idcanada.org
SUMMARY:Webinar: Mastering Architectural Acoustics in Flexible Spaces
DESCRIPTION:Presentation Description: \nIn this webinar\, design professionals\, general contractors\, and owners or facility managers will gain a thorough understanding of architectural acoustics (sometimes called “invisible architecture”). Attendees will learn about acoustics in the built environment (invisible architecture) and the effects on well-being\, health\, and safety including an overview on the Well Building Institute’s acoustical comfort recommendations. \nOther learning objectives include gaining an understanding of what sound is\, how it behaves in an interior environment and how building materials are classified for their sound control capabilities\, and exploring acoustical challenges in flexible space and how best to control sound including those acoustical challenges with operable partitions. \nREGISTER NOW\n  \nPresenter: \nBob Villeneuve \nRegional Sales Manager \nSkyfold Inc. \nhttps://skyfold.com \nPresenter bio: \nBob Villeneuve has been an employee of Skyfold’s Parent company since 2001 and has been a Skyfold Regional Sales Manager since 2009. He has many years of experience in the architectural product market. He has a Certificate of Business Studies from Concordia University and studied Communications at John Abbott College\, both in Montreal. \nThis webinar accounts for one IDCEC hour. Participants will receive their certificates of completion via email following the webinar and will need to self report their hours using the new IDCEC Mobile Attendance App. Learn more. \nThis webinar will be offered in English. 
URL:https://idcanada.org/fr/event/webinar-mastering-architectural-acoustics-in-flexible-spaces/
CATEGORIES:Webinar
END:VEVENT
END:VCALENDAR