BEGIN:VCALENDAR
VERSION:2.0
PRODID:-//IDC - ECPv6.15.20//NONSGML v1.0//EN
CALSCALE:GREGORIAN
METHOD:PUBLISH
X-ORIGINAL-URL:https://idcanada.org/fr/
X-WR-CALDESC:Évènements pour IDC
REFRESH-INTERVAL;VALUE=DURATION:PT1H
X-Robots-Tag:noindex
X-PUBLISHED-TTL:PT1H
BEGIN:VTIMEZONE
TZID:America/Toronto
BEGIN:DAYLIGHT
TZOFFSETFROM:-0500
TZOFFSETTO:-0400
TZNAME:EDT
DTSTART:20200308T070000
END:DAYLIGHT
BEGIN:STANDARD
TZOFFSETFROM:-0400
TZOFFSETTO:-0500
TZNAME:EST
DTSTART:20201101T060000
END:STANDARD
BEGIN:DAYLIGHT
TZOFFSETFROM:-0500
TZOFFSETTO:-0400
TZNAME:EDT
DTSTART:20210314T070000
END:DAYLIGHT
BEGIN:STANDARD
TZOFFSETFROM:-0400
TZOFFSETTO:-0500
TZNAME:EST
DTSTART:20211107T060000
END:STANDARD
BEGIN:DAYLIGHT
TZOFFSETFROM:-0500
TZOFFSETTO:-0400
TZNAME:EDT
DTSTART:20220313T070000
END:DAYLIGHT
BEGIN:STANDARD
TZOFFSETFROM:-0400
TZOFFSETTO:-0500
TZNAME:EST
DTSTART:20221106T060000
END:STANDARD
BEGIN:DAYLIGHT
TZOFFSETFROM:-0500
TZOFFSETTO:-0400
TZNAME:EDT
DTSTART:20230312T070000
END:DAYLIGHT
BEGIN:STANDARD
TZOFFSETFROM:-0400
TZOFFSETTO:-0500
TZNAME:EST
DTSTART:20231105T060000
END:STANDARD
END:VTIMEZONE
BEGIN:VEVENT
DTSTART;VALUE=DATE:20211225
DTEND;VALUE=DATE:20220106
DTSTAMP:20260423T155145
CREATED:20211101T191409Z
LAST-MODIFIED:20211117T172644Z
UID:7789-1640390400-1641427199@idcanada.org
SUMMARY:IDC Holiday Office Closure
DESCRIPTION:
URL:https://idcanada.org/fr/event/idc-holiday-office-closure/
END:VEVENT
BEGIN:VEVENT
DTSTART;TZID=America/Toronto:20220113T120000
DTEND;TZID=America/Toronto:20220113T130000
DTSTAMP:20260423T155145
CREATED:20211216T205208Z
LAST-MODIFIED:20211221T195957Z
UID:8050-1642075200-1642078800@idcanada.org
SUMMARY:President's Webinar: Welcome to new year\, 2022!
DESCRIPTION:On January 13\, 2022\, IDC President\, Ian Rolston and IDC CEO\, Trevor Kruse will host the latest free webinar for members in which they will provide an overview of IDC events and programs for the new year. \nSign up today for this ideal opportunity to further your engagement with IDC and to better understand the functions of your national association. \nThese webinars will be offered in English only; however\, a French version of the PowerPoint presentation will be made available upon request. \nRegister Here\nView past President’s Webinars \nThis webinar accounts for one non-IDCEC hour. Participants will receive their certificates of completion via email following the webinar and will need to self-report their hours.
URL:https://idcanada.org/fr/event/presidents-webinar-welcome-to-new-year-2022/
CATEGORIES:Webinar
END:VEVENT
BEGIN:VEVENT
DTSTART;TZID=America/Toronto:20220122T140000
DTEND;TZID=America/Toronto:20220122T150000
DTSTAMP:20260423T155145
CREATED:20220114T193604Z
LAST-MODIFIED:20220114T193747Z
UID:8122-1642860000-1642863600@idcanada.org
SUMMARY:Danish Desire: Sustainable Methods in Architecture & Design
DESCRIPTION:Join TORP and thought leaders from the Danish and Canadian design communities for Danish Desire: Sustainable Methods in Architecture & Design\, a live virtual panel discussion on the integral role of architecture\, design and furniture design in creating a greener future\, Saturday\, January 22 from 2pm-3pm EST\, part of the DesignTO 2022 Festival. \nIn Denmark\, robustly funded research & development in green technology\, design and production helps to create jobs and contributes to building a strong economy. Eco-certified buildings within socially conscious\, green cities offer bold new approaches to urban renewal that are inspiring new projects globally. In Danish furniture production\, methods are continually updated to further reduce the carbon footprint\, with elegant\, functional designs that last generations. \nOur panelists will explore the green wave’s impact on design for a better future and uncover: \n\nWhat can we learn from Denmark’s sustainable design initiatives?\nWhat are the economic advantages\, if any\, to investing in green design?\nHow has increased awareness of climate change inspired architects and designers?\nHow do green buildings and cities benefit the health of individuals and communities?\nAre students of design today learning fresh approaches to sustainable design?\n\nExploring how design plays a key role in fighting climate change\, we have some exciting guests this year: Louis Becker of Henning Larsen Architects in Denmark; Katja Aga Thom of Agathom Architects\, Toronto; Lene Tanggaard of Kolding Design School\, Denmark; and Kasper Holst Pedersen of PP Møbler\, renowned furniture maker in Denmark. \nPlease RSVP to attend by registering here. \nFor more details\, visit: https://www.torpinc.com/dd22 or https://designto.org/event/danish-desire-2022/ \nThis free event is hosted by TORP\, the Danish Consulate General in Toronto\, is a feature of the Nordic Bridges initiative at Harbourfront Centre\, and is part of the DesignTO Festival.
URL:https://idcanada.org/fr/event/danish-desire-sustainable-methods-in-architecture-design/
CATEGORIES:Third Party Event,Virtual Event
END:VEVENT
END:VCALENDAR