BEGIN:VCALENDAR
VERSION:2.0
PRODID:-//IDC - ECPv6.15.20//NONSGML v1.0//EN
CALSCALE:GREGORIAN
METHOD:PUBLISH
X-ORIGINAL-URL:https://idcanada.org/fr/
X-WR-CALDESC:Évènements pour IDC
REFRESH-INTERVAL;VALUE=DURATION:PT1H
X-Robots-Tag:noindex
X-PUBLISHED-TTL:PT1H
BEGIN:VTIMEZONE
TZID:America/Toronto
BEGIN:DAYLIGHT
TZOFFSETFROM:-0500
TZOFFSETTO:-0400
TZNAME:EDT
DTSTART:20200308T070000
END:DAYLIGHT
BEGIN:STANDARD
TZOFFSETFROM:-0400
TZOFFSETTO:-0500
TZNAME:EST
DTSTART:20201101T060000
END:STANDARD
BEGIN:DAYLIGHT
TZOFFSETFROM:-0500
TZOFFSETTO:-0400
TZNAME:EDT
DTSTART:20210314T070000
END:DAYLIGHT
BEGIN:STANDARD
TZOFFSETFROM:-0400
TZOFFSETTO:-0500
TZNAME:EST
DTSTART:20211107T060000
END:STANDARD
BEGIN:DAYLIGHT
TZOFFSETFROM:-0500
TZOFFSETTO:-0400
TZNAME:EDT
DTSTART:20220313T070000
END:DAYLIGHT
BEGIN:STANDARD
TZOFFSETFROM:-0400
TZOFFSETTO:-0500
TZNAME:EST
DTSTART:20221106T060000
END:STANDARD
BEGIN:DAYLIGHT
TZOFFSETFROM:-0500
TZOFFSETTO:-0400
TZNAME:EDT
DTSTART:20230312T070000
END:DAYLIGHT
BEGIN:STANDARD
TZOFFSETFROM:-0400
TZOFFSETTO:-0500
TZNAME:EST
DTSTART:20231105T060000
END:STANDARD
END:VTIMEZONE
BEGIN:VEVENT
DTSTART;TZID=America/Toronto:20211201T120000
DTEND;TZID=America/Toronto:20211201T130000
DTSTAMP:20260423T172430
CREATED:20211118T155831Z
LAST-MODIFIED:20211118T204748Z
UID:7949-1638360000-1638363600@idcanada.org
SUMMARY:IDC’s Industry Sales Professionals Course: Large Design & Architectural Firms
DESCRIPTION:IDC’s popular Industry Sales Professionals Course (ISPC) series has returned and will be held in a hybrid format\, offering limited in-person participation to IDC members – interior designers\, students\, and interns for a chance to network and connect at Midgley Tecnica Ltd. in their showroom in Toronto. This panel will also be virtually broadcast to everyone who registers for the online course. \nTailored exclusively to meet the needs of architecture and design industry sales professionals\, this practically-oriented course will feature several Q & A sessions with panels of registered interior designers and architects\, drawn from boutique and large design firms serving the retail\, commercial\, healthcare\, hospitality\, and residential sectors. \nThe series will run monthly from October to early December. Participants who attend three or more panels will receive an official ISPC certificate and LinkedIn designation. A certificate of completion will be issued to all registrants in attendance for each panel. \nLarge Design and Architectural Firms \nDuring the Q & A session\, “Large Design and Architectural Firms”\, hear from senior interior designers about what they need from sales professionals\, and how best to go about working with them in order to become a trusted resource. Learn about this unique design sector and the expectations of designers. Additionally\, the panel addresses post-COVID-19 industry\, and how firms are working\, particularly with Industry partners. Firms have new policies and procedures when working with Industry representatives. These changes are discussed\, and give Industry representatives valuable information moving forward. \nPanelists\n\nAlison McNeil\nPrincipal\, Design at DIALOG \n\n  \n \nAnnie Bergeron\nDesign Director\, Principal at Gensler \n\n  \n \nSue Bennett\nPrincipal/CEO at Bennett Design Associates Inc. \n  \n \nSusan Chang\nPrincipal\, Director of Consulting at HOK \n\n\n  \nFees\nMember: $49/attendee/panel +HST\nNon-Member: $98/attendee/panel +HST \n\n \nEvent Contact: communications@idcanada.org  \n\nThis course will be offered in English. Maximum capacity for this course is 40 participants.  \nModerator\nGlen Brewer is President\, and Managing Partner of Midgley Tecnica\, a distributor in the porcelain tile sector. He is a current IDC board member\, representing manufacturers and suppliers. Glen is also IDC’s industry committee chair and leads and moderates IDC’s Sales Professionals Training Course. Glen is a strong advocate for designers and the design community\, he is a past winner of IDC’s Legacy Award for Distinguished Service\, the most prestigious individual award presented by IDC. Glen currently sits on a variety of additional boards and committees\, including The Retail Design Institute\, Sheridan College\, and DDA. Glen is also an author and presenter for IDCEC CEUs. He is an active participant in IDC’s national DesignEX shows\, as both a speaker/presenter and table-top attendee. His company is a strong advocate of IDC as an Industry Partner member. \nTestimonials\n“The industry sales professional course held in Calgary was a great opportunity to network with local designers. I would recommend this course to any sales professionals that are new to calling on the architect and design community.” – Christine Beer-Carl\, Residential Sales Manager at Western Canada Lutron Electronics Canada Inc. \n“Thank you for the opportunity to participate in such an informative and thought provoking event. I look forward to the next one!” – Joanna Tiffin\, National Architectural and Design Representative at Schluter Systems Canada Inc. \n“The sessions were extremely informative and it was great to spend the day with key industry professionals in our marketplace.” – Matthew Ruscica\, Regional Sales Manager at Global Furniture Group
URL:https://idcanada.org/fr/event/idcs-industry-sales-professionals-course-large-design-architectural-firms/
CATEGORIES:Industry Course
ORGANIZER;CN="Interior Designers of Canada":MAILTO:communications@idcanada.org
END:VEVENT
BEGIN:VEVENT
DTSTART;VALUE=DATE:20211210
DTEND;VALUE=DATE:20211227
DTSTAMP:20260423T172430
CREATED:20211210T173703Z
LAST-MODIFIED:20211210T193830Z
UID:8031-1639094400-1640563199@idcanada.org
SUMMARY:Sketching Christmas Interiors Inspired by Home Alone
DESCRIPTION:This Christmas you have an opportunity to complete an extra festive and extra effective interior sketching course here at BehindCanvas Academy. Want to start impressing your clients with quick freehand sketching skills\, but you still think you’re not artistic enough? Sketching Christmas Interiors course inspired by our all-time favourite movie Home Alone is now available to purchase for only £27.99! All you need is 1 hour of your time\, a pen and a sketchbook. No sketchbook? Grab a napkin! No prior drawing experience is necessary\, so no excuses this time! \nFollow this link to start this course today: https://academy.bcanvas.art/p/sketching-christmas-interiors-inspired-by-home-alone  \nSign up today and complete later! You get 6 months access to this course after purchase. \nPlease note that this is course is on sale only until Boxing Day\, the 26th of December 2021. Hurry whilst it’s still available!
URL:https://idcanada.org/fr/event/sketching-christmas-interiors-inspired-by-home-alone/
CATEGORIES:Virtual Event,Webinar
END:VEVENT
BEGIN:VEVENT
DTSTART;VALUE=DATE:20211225
DTEND;VALUE=DATE:20220106
DTSTAMP:20260423T172430
CREATED:20211101T191409Z
LAST-MODIFIED:20211117T172644Z
UID:7789-1640390400-1641427199@idcanada.org
SUMMARY:IDC Holiday Office Closure
DESCRIPTION:
URL:https://idcanada.org/fr/event/idc-holiday-office-closure/
END:VEVENT
END:VCALENDAR