BEGIN:VCALENDAR
VERSION:2.0
PRODID:-//IDC - ECPv6.15.20//NONSGML v1.0//EN
CALSCALE:GREGORIAN
METHOD:PUBLISH
X-ORIGINAL-URL:https://idcanada.org/fr/
X-WR-CALDESC:Évènements pour IDC
REFRESH-INTERVAL;VALUE=DURATION:PT1H
X-Robots-Tag:noindex
X-PUBLISHED-TTL:PT1H
BEGIN:VTIMEZONE
TZID:America/Toronto
BEGIN:DAYLIGHT
TZOFFSETFROM:-0500
TZOFFSETTO:-0400
TZNAME:EDT
DTSTART:20200308T070000
END:DAYLIGHT
BEGIN:STANDARD
TZOFFSETFROM:-0400
TZOFFSETTO:-0500
TZNAME:EST
DTSTART:20201101T060000
END:STANDARD
BEGIN:DAYLIGHT
TZOFFSETFROM:-0500
TZOFFSETTO:-0400
TZNAME:EDT
DTSTART:20210314T070000
END:DAYLIGHT
BEGIN:STANDARD
TZOFFSETFROM:-0400
TZOFFSETTO:-0500
TZNAME:EST
DTSTART:20211107T060000
END:STANDARD
BEGIN:DAYLIGHT
TZOFFSETFROM:-0500
TZOFFSETTO:-0400
TZNAME:EDT
DTSTART:20220313T070000
END:DAYLIGHT
BEGIN:STANDARD
TZOFFSETFROM:-0400
TZOFFSETTO:-0500
TZNAME:EST
DTSTART:20221106T060000
END:STANDARD
END:VTIMEZONE
BEGIN:VEVENT
DTSTART;VALUE=DATE:20211025
DTEND;VALUE=DATE:20211105
DTSTAMP:20260423T185707
CREATED:20211013T014302Z
LAST-MODIFIED:20211013T014344Z
UID:7663-1635120000-1636070399@idcanada.org
SUMMARY:Rick Hansen Foundation Accessibility Certification™ Training
DESCRIPTION:The Rick Hansen Foundation Accessibility Certification™ (RHFAC) is a national rating system that measures and certifies the level of meaningful access of buildings and sites. The RHFAC is offered as a training course that allows individuals to become certified accessibility assessors and helps them to better understand physical accessibility\, how they can improve\, and identify barriers for their community\, customers\, or employees. \nThis training course is highly recommended for individuals who are involved in assessing\, designing\, constructing\, commissioning\, or maintaining buildings or their surroundings. \nAs the need for increased accessibility in all communities continues to grow\, the RHFAC Training is a great opportunity for IDC members to enhance their skills and ensure everyone can access and use the spaces they’re designing\, building\, or managing in a meaningful way. I kindly request that you share the RHFAC Training course with your members\, either by forwarding this email\, or if applicable\, adding the course to your association’s event calendar or professional development listing. \nThe RHFAC Training is held twice throughout the year\, and we are currently accepting registrations for fall 2021 and spring 2022. The training course is delivered online through Carleton University’s READ (Research\, Education\, Accessibility\, and Design) Initiative. \nThe deadline to register for the fall 2021 course is October 7\, 2021. The online course will include both synchronous (real-time classes with an instructor via Zoom) and asynchronous (offline activities) segments. The course will run for eight days over two weeks. Registrants must be available for the full course: \nWeek 1: Monday October 25 – Thursday October 28\, 2021 \nWeek 2: November 1 – Thursday November 4\, 2021 \nSpace is limited. Interested individuals can register for the Fall 2021 RHFAC Training via READ’s online form. \nFor additional information\, including prerequisites\, learning outcomes\, course cost\, and spring 2022 dates\, please visit Carleton University’s READ website. \nFor questions about the Rick Hansen Foundation Accessibility Certification™ Training\, please email read.initative@carleton.ca.
URL:https://idcanada.org/fr/event/rick-hansen-foundation-accessibility-certification-training/
CATEGORIES:Third Party Event
END:VEVENT
BEGIN:VEVENT
DTSTART;TZID=America/Toronto:20211110T140000
DTEND;TZID=America/Toronto:20211110T150000
DTSTAMP:20260423T185708
CREATED:20211019T213724Z
LAST-MODIFIED:20211020T013101Z
UID:7725-1636552800-1636556400@idcanada.org
SUMMARY:IDC’S 49TH Annual General Meeting
DESCRIPTION:The 2021 Annual Meeting for Interior Designers of Canada will be a hybrid in-person and virtual event on Nov. 10\, 2021. \nJoin fellow members from across Canada and hear a report on IDC’s activities over the past year. This is your chance to connect with IDC CEO\, Trevor Kruse and the 2021-22 Board of Directors. \nIf you are interested in attending the event in person at the Midgley Tecnica showroom in Toronto\, please contact Trevor Kruse at tkruse@idcanada.org. \nAGENDA ITEMS: \n\nApproval of Minutes from the 2020 Annual Meeting\nApproval of Financial Statements\nAppointment of Auditor\nNominating Committee Report and Approval of a slate of three new Directors\n\nWe look forward to seeing you at the meeting.\nPlease contact communications@idcanada.org for all other questions or concerns. \nREGISTER NOW\n 
URL:https://idcanada.org/fr/event/idcs-49th-annual-general-meeting/
LOCATION:Midgley Tecnica\, 117 Tycos Drive\, Unit B\, North York\, Ontario\, M6B 1W3\, Canada
ORGANIZER;CN="Interior Designers of Canada":MAILTO:communications@idcanada.org
END:VEVENT
END:VCALENDAR