BEGIN:VCALENDAR
VERSION:2.0
PRODID:-//IDC - ECPv6.15.20//NONSGML v1.0//EN
CALSCALE:GREGORIAN
METHOD:PUBLISH
X-WR-CALNAME:IDC
X-ORIGINAL-URL:https://idcanada.org/fr/
X-WR-CALDESC:Évènements pour IDC
REFRESH-INTERVAL;VALUE=DURATION:PT1H
X-Robots-Tag:noindex
X-PUBLISHED-TTL:PT1H
BEGIN:VTIMEZONE
TZID:America/Toronto
BEGIN:DAYLIGHT
TZOFFSETFROM:-0500
TZOFFSETTO:-0400
TZNAME:EDT
DTSTART:20200308T070000
END:DAYLIGHT
BEGIN:STANDARD
TZOFFSETFROM:-0400
TZOFFSETTO:-0500
TZNAME:EST
DTSTART:20201101T060000
END:STANDARD
BEGIN:DAYLIGHT
TZOFFSETFROM:-0500
TZOFFSETTO:-0400
TZNAME:EDT
DTSTART:20210314T070000
END:DAYLIGHT
BEGIN:STANDARD
TZOFFSETFROM:-0400
TZOFFSETTO:-0500
TZNAME:EST
DTSTART:20211107T060000
END:STANDARD
BEGIN:DAYLIGHT
TZOFFSETFROM:-0500
TZOFFSETTO:-0400
TZNAME:EDT
DTSTART:20220313T070000
END:DAYLIGHT
BEGIN:STANDARD
TZOFFSETFROM:-0400
TZOFFSETTO:-0500
TZNAME:EST
DTSTART:20221106T060000
END:STANDARD
END:VTIMEZONE
BEGIN:VEVENT
DTSTART;TZID=America/Toronto:20210708T120000
DTEND;TZID=America/Toronto:20210708T130000
DTSTAMP:20260423T233946
CREATED:20201127T210157Z
LAST-MODIFIED:20210623T143202Z
UID:5376-1625745600-1625749200@idcanada.org
SUMMARY:President's Webinar: Save the Date for IDC's Design Symposium
DESCRIPTION:On July 8\, 2021\, IDC President\, Deborah Rutherford and IDC CEO\, Trevor Kruse will host the latest free webinar for members in which they will announce the date and programming for this year’s virtual Design Symposium\, and discuss the latest updates on IDC events and programs. \nSign up today for this ideal opportunity to further your engagement with IDC and to better understand the functions of your national association. \nThese webinars will be offered in English only; however\, a French version of the PowerPoint presentation will be made available upon request. \nRegister Here\nView past President’s Webinars \nThis webinar accounts for one non-IDCEC hour. Participants will receive their certificates of completion via email following the webinar and will need to self report their hours.
URL:https://idcanada.org/fr/event/presidents-webinar-save-the-date-for-idcs-design-symposium/
CATEGORIES:Webinar
END:VEVENT
END:VCALENDAR