BEGIN:VCALENDAR
VERSION:2.0
PRODID:-//IDC - ECPv6.15.20//NONSGML v1.0//EN
CALSCALE:GREGORIAN
METHOD:PUBLISH
X-WR-CALNAME:IDC
X-ORIGINAL-URL:https://idcanada.org/fr/
X-WR-CALDESC:Évènements pour IDC
REFRESH-INTERVAL;VALUE=DURATION:PT1H
X-Robots-Tag:noindex
X-PUBLISHED-TTL:PT1H
BEGIN:VTIMEZONE
TZID:America/Toronto
BEGIN:DAYLIGHT
TZOFFSETFROM:-0500
TZOFFSETTO:-0400
TZNAME:EDT
DTSTART:20190310T070000
END:DAYLIGHT
BEGIN:STANDARD
TZOFFSETFROM:-0400
TZOFFSETTO:-0500
TZNAME:EST
DTSTART:20191103T060000
END:STANDARD
BEGIN:DAYLIGHT
TZOFFSETFROM:-0500
TZOFFSETTO:-0400
TZNAME:EDT
DTSTART:20200308T070000
END:DAYLIGHT
BEGIN:STANDARD
TZOFFSETFROM:-0400
TZOFFSETTO:-0500
TZNAME:EST
DTSTART:20201101T060000
END:STANDARD
BEGIN:DAYLIGHT
TZOFFSETFROM:-0500
TZOFFSETTO:-0400
TZNAME:EDT
DTSTART:20210314T070000
END:DAYLIGHT
BEGIN:STANDARD
TZOFFSETFROM:-0400
TZOFFSETTO:-0500
TZNAME:EST
DTSTART:20211107T060000
END:STANDARD
END:VTIMEZONE
BEGIN:VEVENT
DTSTART;VALUE=DATE:20201208
DTEND;VALUE=DATE:20201211
DTSTAMP:20260424T090916
CREATED:20201130T211545Z
LAST-MODIFIED:20201201T201050Z
UID:5382-1607385600-1607644799@idcanada.org
SUMMARY:RAIC 2020 Virtual Awards Week 
DESCRIPTION:About the RAIC 2020 Virtual Awards Week   \n\n\n\nJoin the RAIC from December 8–10 as we celebrate our 2020 awards winners! Throughout the three evenings\, hear from the teams behind the awarded projects\, and celebrate excellence in Canadian architecture. The schedule for the week is as follows: \nDecember 8th\, 6:00 p.m. to 7:00 p.m. ET \nGovernor General’s Medals in Architecture and Governor General’s Medal in Landscape Architecture \nDecember 9th\, 6:00 p.m. to 7:00 p.m. ET \nNational Urban Design Awards \nDecember 10th\, 6:00 p.m. to 7:00 p.m. ET \nRAIC Annual Awards Presentation
URL:https://idcanada.org/fr/event/raic-2020-virtual-awards-week/
CATEGORIES:Third Party Event,Virtual Event
END:VEVENT
BEGIN:VEVENT
DTSTART;TZID=America/Toronto:20201210T130000
DTEND;TZID=America/Toronto:20201210T143000
DTSTAMP:20260424T090916
CREATED:20201123T150011Z
LAST-MODIFIED:20201204T174422Z
UID:5305-1607605200-1607610600@idcanada.org
SUMMARY:Panel #3 - Future of Design: Practical field guide to safety in the workplace
DESCRIPTION:IDC’s National Panel Discussion will help identify issues in the interior design industry and discuss possible solutions for the future of the industry\, during and after COVID-19. The virtual program delivery will allow IDC members to share ideas\, and connect and learn together across the country. \nExperienced planners Andrew Farah and Kåre Stokholm Poulsgaard will share insight into strategies for planning safety in the workplace. This panel will also include global perspectives on how to contribute to safer work environments and ongoing learning throughout COVID-19. \nMembers can use promo code ‘PANEL3’ to receive $10 off registration.   \nThis panel accounts for one non-IDCEC hour. Participants will receive their certificates of completion via email following the panel and will need to self report their hours. \nREGISTER NOW\n\nPanelists\n \nAndrew Farah                                               Kåre Stokholm Poulsgaard\nCEO\, Density                                                 Head of Innovation\, GXN \nModerator\n \n  \n  \nTracy D. Wymer\nVP Workplace\nKnoll Inc. \n\n\n\n\n\n\n\n\n\n\n\nSponsored by:\n \n  \n 
URL:https://idcanada.org/fr/event/panel-3-future-of-design-practical-field-guide-to-safety-in-the-workplace/
CATEGORIES:Webinar
ORGANIZER;CN="Interior Designers of Canada":MAILTO:communications@idcanada.org
END:VEVENT
END:VCALENDAR