BEGIN:VCALENDAR
VERSION:2.0
PRODID:-//IDC - ECPv6.15.20//NONSGML v1.0//EN
CALSCALE:GREGORIAN
METHOD:PUBLISH
X-WR-CALNAME:IDC
X-ORIGINAL-URL:https://idcanada.org/fr/
X-WR-CALDESC:Évènements pour IDC
REFRESH-INTERVAL;VALUE=DURATION:PT1H
X-Robots-Tag:noindex
X-PUBLISHED-TTL:PT1H
BEGIN:VTIMEZONE
TZID:America/Toronto
BEGIN:DAYLIGHT
TZOFFSETFROM:-0500
TZOFFSETTO:-0400
TZNAME:EDT
DTSTART:20190310T070000
END:DAYLIGHT
BEGIN:STANDARD
TZOFFSETFROM:-0400
TZOFFSETTO:-0500
TZNAME:EST
DTSTART:20191103T060000
END:STANDARD
BEGIN:DAYLIGHT
TZOFFSETFROM:-0500
TZOFFSETTO:-0400
TZNAME:EDT
DTSTART:20200308T070000
END:DAYLIGHT
BEGIN:STANDARD
TZOFFSETFROM:-0400
TZOFFSETTO:-0500
TZNAME:EST
DTSTART:20201101T060000
END:STANDARD
BEGIN:DAYLIGHT
TZOFFSETFROM:-0500
TZOFFSETTO:-0400
TZNAME:EDT
DTSTART:20210314T070000
END:DAYLIGHT
BEGIN:STANDARD
TZOFFSETFROM:-0400
TZOFFSETTO:-0500
TZNAME:EST
DTSTART:20211107T060000
END:STANDARD
END:VTIMEZONE
BEGIN:VEVENT
DTSTART;VALUE=DATE:20201102
DTEND;VALUE=DATE:20201103
DTSTAMP:20260424T101925
CREATED:20201007T224019Z
LAST-MODIFIED:20201007T224102Z
UID:5083-1604275200-1604361599@idcanada.org
SUMMARY:RAIC 2020 Industry Knowledge Hub
DESCRIPTION:About the RAIC 2020 Industry Knowledge Hub \nThe Industry Knowledge Hub is a resource for companies in the profession to share innovative and educational information to architects. The Hub will be in an on-demand format\, as well as live sessions\, where architects can gain knowledge on products\, learn more about innovative ideas\, and earn continuing education credits. Participants can access the Hub from November 2 to 30\, 2020 through RAIC’s Learning Management System platform. There will be additional opportunities to engage with each other through discussion boards and Q&A sessions. \nThe Hub will be available through an on-demand format that participants can access from November 2 to November 30\, 2020. There will also be additional opportunities to engage with other participants and the instructors through discussion boards and Q&A periods. Certificates of completion will be offered by select companies. \nThe Industry Knowledge Hub is free for RAIC members. \nRegister—and learn more—here
URL:https://idcanada.org/fr/event/raic-2020-industry-knowledge-hub/
CATEGORIES:Third Party Event,Virtual Event
END:VEVENT
BEGIN:VEVENT
DTSTART;VALUE=DATE:20201109
DTEND;VALUE=DATE:20201121
DTSTAMP:20260424T101925
CREATED:20200911T191353Z
LAST-MODIFIED:20200911T191353Z
UID:4821-1604880000-1605916799@idcanada.org
SUMMARY:DesignThinkers 2020 Virtual
DESCRIPTION:DesignThinkers is Canada’s largest annual graphic design conference\, connecting designers from around the world. For the first time in the conference’s 20-year history\, the RGD is hosting the event online over two weeks with additional lead-up programming. This new format means more: more accessibility\, more learning\, more voices\, more intentional connection. \nRegistration grants access to live\, recorded and interactive programming; recordings of all sessions for 3 months after the event; access to a Slack Workspace with other event participants\, speakers and panelists and a digital goodie bag. \nJoin the RGD at DesignThinkers Virtual this November to discuss the trends and work that are shaping the design industry. \nConfirmed Speakers: \nCey Adams — Visual Artist\, Graphic Designer & Author \nFarah Assir —  VP\, Design & Strategy at Meetup \nJD Beltran —  Founder & Director\, Center for Creative Sustainability \nSean Carney —  Chief Design Officer for Philips and Philips Consumer Lifestyle \nAndy Chen & Waqas Jawaid —  Partners at Isometric Studio \nChris Do —  CEO & Chief Strategist\, Blind/Founder of the Futur \nChristopher Doyle —  Founder\, Christopher Doyle & Co. \nSagi Haviv —  Partner & Designer at Chermayeff & Geismar & Haviv \nBlake Howard — Co-founder & Creative Director at Matchstic \nMeg Lewis —  Founder of Ghostly Ferns & CD at DarnGood \nBobby C. Martin & Jennifer Kinon —  Founding Partners\, Original Champions of Design \nAlice Rawthstorn — Award-winning Design Critic & Author \nSnask —  Fredrik Ost\, Founder & Erik Kockum\, Partner \nLeta Sobierajski & Wade Jeffree —  Designers & Art Directors \nSusan Mavor —  Founding Partner of PUBLIC \nErin Sarofsky — Owner & Executive Creative Director of Sarofsky Corp. \nFor more information\, visit the DesignThinkers website.
URL:https://idcanada.org/fr/event/designthinkers-2020-virtual/
CATEGORIES:Third Party Event,Virtual Event
END:VEVENT
BEGIN:VEVENT
DTSTART;TZID=America/Toronto:20201119T170000
DTEND;TZID=America/Toronto:20201119T183000
DTSTAMP:20260424T101925
CREATED:20201104T142040Z
LAST-MODIFIED:20201106T175043Z
UID:5218-1605805200-1605810600@idcanada.org
SUMMARY:Panel #2 - Design and Mental Health: Helping people feel safe at work
DESCRIPTION:IDC’s National Panel Discussion will help identify issues in the interior design industry and discuss possible solutions for the future of the industry\, during and after COVID-19. The virtual program delivery will allow IDC members to share ideas\, and connect and learn together across the country. \nPanelists will be discussing how the evaluation of emotional health and basic human need for safety cannot happen without refuge in times of health and infinitely more so in times of stress. \nMembers can use promo code ‘PANEL2’ to receive $10 off registration.   \nThis panel accounts for one non-IDCEC hour. Participants will receive their certificates of completion via email following the panel and will need to self report their hours. \nREGISTER NOW\n  \nPanelists\n \n\n\n\n\nHolly O’Driscoll\nFounder and CEO of Ampersand\, LLC \n\n\nDr. Katy Kamkar\, Ph.D.\, C. Psych.\nClinical Psychologist at the Centre for Addiction and Mental Health (CAMH) \n\n\n\n\nModerator\n \n  \n  \nTracy D. Wymer\nVP Workplace\nKnoll Inc. \n\n\n\n\n\n\n\n\n\n\n\nSponsored by:\n \n  \n 
URL:https://idcanada.org/fr/event/panel-2-design-and-mental-health-helping-people-feel-safe-at-work/
CATEGORIES:Webinar
ORGANIZER;CN="Interior Designers of Canada":MAILTO:communications@idcanada.org
END:VEVENT
BEGIN:VEVENT
DTSTART;TZID=America/Toronto:20201126T120000
DTEND;TZID=America/Toronto:20201126T130000
DTSTAMP:20260424T101925
CREATED:20201116T175136Z
LAST-MODIFIED:20201116T175136Z
UID:5291-1606392000-1606395600@idcanada.org
SUMMARY:President's Webinar: Welcome New President - Deborah Rutherford
DESCRIPTION:On November 26\, 2020 IDC’s new President\, Deborah Rutherford and IDC CEO\, Trevor Kruse will host the latest free webinar for members in which they will provide an update on IDC membership and discuss plans for upcoming advocacy initiatives. \nSign up today for this ideal opportunity to further your engagement with IDC and to better understand the functions of your national association. \nThese webinars will be offered in English only; however\, a French version of the PowerPoint presentation will be made available upon request. \nRegister Here\nView past President’s Webinars \nThis webinar accounts for one non-IDCEC hour. Participants will receive their certificates of completion via email following the webinar and will need to self report their hours.
URL:https://idcanada.org/fr/event/presidents-webinar-welcome-new-president-deborah-rutherford/
CATEGORIES:Webinar
END:VEVENT
END:VCALENDAR