BEGIN:VCALENDAR
VERSION:2.0
PRODID:-//IDC - ECPv6.15.20//NONSGML v1.0//EN
CALSCALE:GREGORIAN
METHOD:PUBLISH
X-ORIGINAL-URL:https://idcanada.org/fr/
X-WR-CALDESC:Évènements pour IDC
REFRESH-INTERVAL;VALUE=DURATION:PT1H
X-Robots-Tag:noindex
X-PUBLISHED-TTL:PT1H
BEGIN:VTIMEZONE
TZID:America/Toronto
BEGIN:DAYLIGHT
TZOFFSETFROM:-0500
TZOFFSETTO:-0400
TZNAME:EDT
DTSTART:20190310T070000
END:DAYLIGHT
BEGIN:STANDARD
TZOFFSETFROM:-0400
TZOFFSETTO:-0500
TZNAME:EST
DTSTART:20191103T060000
END:STANDARD
BEGIN:DAYLIGHT
TZOFFSETFROM:-0500
TZOFFSETTO:-0400
TZNAME:EDT
DTSTART:20200308T070000
END:DAYLIGHT
BEGIN:STANDARD
TZOFFSETFROM:-0400
TZOFFSETTO:-0500
TZNAME:EST
DTSTART:20201101T060000
END:STANDARD
BEGIN:DAYLIGHT
TZOFFSETFROM:-0500
TZOFFSETTO:-0400
TZNAME:EDT
DTSTART:20210314T070000
END:DAYLIGHT
BEGIN:STANDARD
TZOFFSETFROM:-0400
TZOFFSETTO:-0500
TZNAME:EST
DTSTART:20211107T060000
END:STANDARD
END:VTIMEZONE
BEGIN:VEVENT
DTSTART;VALUE=DATE:20201003
DTEND;VALUE=DATE:20201004
DTSTAMP:20260424T113839
CREATED:20200311T172327Z
LAST-MODIFIED:20200722T195201Z
UID:3225-1601683200-1601769599@idcanada.org
SUMMARY:IPAX USA\, Canada & Americas Property Expo
DESCRIPTION:IPAX USA\, Canada & Americas Property Expo in association with The Interior Designers of Canada takes place on 23rd September at the Fairmont Royal York Hotel\, Toronto. \nOver 65% of attendees are CEO or managing director personnel attending to collect their Dubai\, Africa & Arabia Property Awards from the region’s finest interior design\, architecture\, property development and real estate companies. Guaranteeing suppliers\, a captive audience and cost effective\, measurable ROI. \nIPAX Key Benefits: \nLow competitor ratio \nIndustry specific target audience \nFriendly relaxed atmosphere \nLow Cost \nTo find out more about exhibition space availability or to discuss sponsorship/keynote speaker opportunities: \nPlease contact Paul Wright – Director of Operations paul@ipropertymedia.com
URL:https://idcanada.org/fr/event/ipax-usa-canada-americas-property-expo/
LOCATION:Fairmont Royal York Hotel\, 100 Front St W\, Toronto\, ON\, M5J 1E3\, Canada
CATEGORIES:Third Party Event
END:VEVENT
BEGIN:VEVENT
DTSTART;TZID=America/Toronto:20201007T140000
DTEND;TZID=America/Toronto:20201007T150000
DTSTAMP:20260424T113839
CREATED:20200804T151417Z
LAST-MODIFIED:20200929T181446Z
UID:4448-1602079200-1602082800@idcanada.org
SUMMARY:IDC’S 48TH ANNUAL MEETING
DESCRIPTION:Join us for a virtual meeting with fellow members from across Canada and hear a report on IDC’s activities over the past year. This is your chance to connect with our new CEO\, Trevor Kruse\, the 2020-21 Board of Management and learn what we have in store for the coming year. \nITEMS FOR MEMBER CONSIDERATION: \n\nApproval of Minutes from the 2019 Annual Meeting\nApproval of Financial Statements\nApproval of Bylaw Amendment\nAppointment of Auditor\nNominating Committee Report and Approval of a slate of three new Directors\n\nWe look forward to seeing you at the meeting. \nREGISTER NOW\n 
URL:https://idcanada.org/fr/event/idcs-48th-annual-meeting/
ORGANIZER;CN="Interior Designers of Canada":MAILTO:communications@idcanada.org
END:VEVENT
BEGIN:VEVENT
DTSTART;VALUE=DATE:20201014
DTEND;VALUE=DATE:20201017
DTSTAMP:20260424T113839
CREATED:20200819T190101Z
LAST-MODIFIED:20201016T150446Z
UID:4700-1602633600-1602892799@idcanada.org
SUMMARY:2020 Green Building Festival
DESCRIPTION:The 2020 Green Building Festival will be a virtual event taking place online this October 14 – 16. \nWhile the format has been adapted to prioritize the health of the Sustainable Building Canada community\, the high quality Festival programming remains. \nA Digital Delegate pass costs only $50\, and qualifies for 7 continuing education hours for GBCI\, OAA\, AIA\, OALA\, OPPI\, IDC and the PEO. \nAs always\, we’re excited to present both local experts and esteemed speakers from around the world who reflect some of the most current and cutting edge practices about the integration of BIO: Ecological Principles in Buildings and Cities. Read more about GBF20 programming that literally starts from the ground up\, exploring the best bioregional practices\, “growing” building materials with negative carbon footprints\, bio-transformational design and building principles\, Integrated Project Delivery for green credentials\, and the biomorphic Future City. \nRegister today for only $50 and join us October 14 – 16 from 10 am to noon Eastern. We look forward to seeing you in the chat box\, at the digital Expo Hall or on the virtual Networking zoom call!
URL:https://idcanada.org/fr/event/2020-green-building-festival/
CATEGORIES:Third Party Event
END:VEVENT
BEGIN:VEVENT
DTSTART;TZID=America/Toronto:20201015T140000
DTEND;TZID=America/Toronto:20201015T150000
DTSTAMP:20260424T113839
CREATED:20201007T174817Z
LAST-MODIFIED:20201013T154805Z
UID:5039-1602770400-1602774000@idcanada.org
SUMMARY:Behind Closed Doors: Racial Disparities in Design – Part 2
DESCRIPTION:Tune in for a candid conversation between Ian Rolston\, Owner and Director of Decanthropy\, and Michael Lee Poy\, Assistant Professor of Design at OCAD University\, on the topic of racial disparities within Canada’s interior design industry in IDC’s second town hall on racial disparities. \nThe discussion will focus on how education\, professional practice and advocacy work can begin to address structural racism with established practices within the industry. \n  \nIan Rolston is a creative soul\, inspired by connecting humanity to what matters most. As a design director\, principal\, thought leader and speaker\, Rolston has worked with transformative firms in Canada and in the U.S. across multiple sectors such as Hospitality\, Education\, Transportation\, Retail\, Corporate and Residential. Rolston has collaborated with leaders of industry across three continents. \nNow collaborating with Decanthropy\, a platform for new thinking in the inclusive design space\, Rolston develops content that transforms the creative process for people\, organizations and businesses. As “Lead Decanthropist\,” Rolston helps leadership teams innovate with clarity\, passion and consideration to distinguish collaborators’ spaces in the marketplace. Rolston is passionate about compelling stories\, architectural discipline\, and innovation. His personal mandate is to inspire and support collaborators to create solutions that make a difference. \n \nMichael Lee Poy is an Afro-Caribbean artist-activist and architect in Trinidad and Tobago. His practice and interests are centered on post-colonial Caribbean design and fabrication in the festival arts – especially Carnival. A graduate of Pratt Institute of Technology in architecture (B. Arch.) and the Yale Graduate School of Architecture\, Environmental Design (MED)\, Michael aims to use interdisciplinarity to augment the innovative\, creative\, and collaborative process of design. \nSince 2015\, Michael has been teaching the Hero’s Journey process as a design curriculum for graduate students in the Creative Design Entrepreneurship (CDEN) program in the Department of Creative and Festival Arts (DCFA) at the University of the West Indies (UWI)\, St. Augustine campus. By introducing the class to familiar and unfamiliar local icons\, Michael actively decolonizes learning\, and deconstructs the “expert” paradigm. He does this in order to generate and inspire new and sovereign knowledge – allowing students from various backgrounds and disciplines to delve into both their historical and creative psyches. \nFor the past five years\, Michael has been incubating the Moko Jumbie Mas Camp workshops for children aged 7-17. The masquerade (mas) camps were designed and implemented as socially conscious design/build and fabrication/studio/lab workshops. They operate like a small design incubator/facilitator – just like typical Carnival mas camps. The students learn leadership training\, team building\, and balance and acrobatics. Eventually\, the older students become experts and mentors for the younger ones. \nMichael’s architectural and design portfolio includes two buildings at the UWI\, St. Augustine campus\, the Trinidad Hilton Conference Centre port cochère\, in addition to numerous commercial interiors throughout the island. He was co-chair of the UWI Ministry of Design: From Cottage Industry to State Enterprise Symposium (2015); and his work has been featured in Caribbean Beat Magazine (January 2018). \nMichael is currently an assistant Professor of Design at Ontario College of Design University (OCAD U) in the Environmental and Industrial Design programs. He recently joined the Society for Experiential Graphic Designs (SEGD) professional organization as a member of the Academic Task Force team. \nREGISTER NOW\n  \n 
URL:https://idcanada.org/fr/event/behind-closed-doors-racial-disparities-in-design-part-2/
CATEGORIES:Webinar
ORGANIZER;CN="Interior Designers of Canada":MAILTO:communications@idcanada.org
END:VEVENT
BEGIN:VEVENT
DTSTART;TZID=America/Toronto:20201020T110000
DTEND;TZID=America/Toronto:20201020T121500
DTSTAMP:20260424T113839
CREATED:20200710T210029Z
LAST-MODIFIED:20201001T172415Z
UID:4137-1603191600-1603196100@idcanada.org
SUMMARY:IDC’s Industry Sales Professional Course: Boutique Design Firms Round Table
DESCRIPTION:IDC’s popular Industry Sales Professionals Course (ISPC) series is going virtual! Register today for this online course\, tailored exclusively to meet the needs of architecture and design industry sales professionals. This practically-oriented course will feature several Q & A sessions with panels of registered interior designers and architects\, drawn from boutique and large design firms serving the retail\, commercial\, healthcare\, hospitality and residential sectors. \nThe series will run twice a month from August 18\, 2020 until October. Participants who attend three or more panels of the six offered\, will receive an official ISPC certificate and LinkedIn designation attendance. A certificate of completion will be issued to all registrants in attendance for each panel. \nBoutique Design Firms Round Table\nWhat are some of the most effective tips about building lasting\, mutually-beneficial working relationships with registered interior designers? What are designers looking for when they receive a visit from an industry sales representative? What are their main pressures and how can industry representatives help to solve those issues to deliver added value? What sales efforts do designers appreciate\, and what completely turns them off? These questions and more\, will be answered during this session. The panel will also address the current challenges\, and the evolving relationship between designers and industry. \nPanelists\n \nErika McCarthy\, ARIDO\, IDC\, NCIDQ\nPartner at Baudit Interior Design \n  \n \nKara MacGregor\, BAAID\, Fellow IDC\, IDNS\, NCIDQ\, LEED AP\nPrincipal at MAC Interior Design Inc. \n  \n \nSuzanne Fast\, ARIDO\, IDC\, LEED Green Associate\nDesigner at Suzanne Fast Design \n\n\n  \n\nFees\nMember: $49/attendee/panel +HST\nNon-Member: $98/attendee/panel +HST \nDiscounted rates for multiple panels:  \nMember: $129/attendee/3 panels +HST\nNon-Member: $258/attendee/3 panels +HST \nGroup rates (member only): \nGroup rate of 2: $88/attendee/panel +HST\nGroup rate of 2: $232/attendee/3 panels +HST\nGroup rate of 3: $132/attendee/panel +HST\nGroup rate of 3: $348/attendee/3 panels +HST \n\n \nEvent Contact: Barbora Krsiakova\, bkrsiakova@idcanada.org \n\nThis course will be offered in English. Maximum capacity for this course is 40 participants.  \nModerator\nGlen Brewer is an executive with over 25 years experience in the design and construction industries\, He is a current IDC board member\, representing manufacturers and suppliers. Glen is also IDC’s industry committee chair and leads IDC’s Sales Professionals Training Courses. Glen is a strong advocate for designers and the design community as an author\, teacher\, and presenter for IDCEC CEUs. He is an active participant in IDC’s national DesignEX shows as both a speaker/presenter and table-top attendee. Glen also mentors and speaks to many emerging design professionals. As President of Midgley Tecnica\, Glen\, along with the support of his company\, is a strong advocate of IDC as an Industry Partner member. \nTestimonials\n« I highly encourage anyone in A&D sales to partake in this valuable seminar. This event was a great opportunity to listen to the industry experts and get a better understanding of their needs from the planning phase to the completion of the project. It was great to network with industry professionals and hear feedback from everyone. Looking forward to the next event. » – Stephanie Ingram Cruikshank\, Architect & Design Sales Manager at Cosentino \n“An excellent group of panelists and very informative.” – Michelle Beaver\, Sales and Specification Specialist at\nTrustek Sales Inc. \n“Great event and a valuable investment of time!” – Kevin Smith\, WELL AP\, LEED AP\, Business Furniture Consultant at Teknion Furniture Systems
URL:https://idcanada.org/fr/event/idcs-industry-sales-professional-course-boutique-design-firms-round-table/
CATEGORIES:Industry Course
ORGANIZER;CN="Interior Designers of Canada":MAILTO:communications@idcanada.org
END:VEVENT
BEGIN:VEVENT
DTSTART;TZID=America/Toronto:20201022T170000
DTEND;TZID=America/Toronto:20201022T183000
DTSTAMP:20260424T113839
CREATED:20200921T183336Z
LAST-MODIFIED:20201021T165401Z
UID:4851-1603386000-1603391400@idcanada.org
SUMMARY:Panel #1 - Future of Work: Re-defining a human-centered purpose of the workplace
DESCRIPTION:IDC’s National Panel Discussion will help identify issues in the interior design industry and discuss possible solutions for the future of the industry\, during and after COVID-19. The virtual program delivery will allow IDC members to share ideas\, and connect and learn together across the country. \nThis first panel will focus on the culture of social connectedness and issues of safety in the workplace during and after COVID-19. \nThis panel accounts for one non-IDCEC hour. Participants will receive their certificates of completion via email following the panel and will need to self report their hours. \nPanelists\n \n\n\n\n\n\n  \n\n\n\n\nAllan J. Hamilton\nMD\, FACS\, FAANS\nRegents Professor of Neurosurgery\nat the University of Arizona \n\n\nJoel Sanders\nPrincipal\, RA\, FAIA\, JSA and MIXdesign \n\n\n\n\nModerator\n \n  \n  \nTracy D. Wymer\nVP Workplace\nKnoll Inc. \n\n\n\n\n\n\n\n\n\n\n\nSponsored by:\n \nREGISTER NOW\n 
URL:https://idcanada.org/fr/event/panel-1-future-of-work-re-defining-a-human-centered-purpose-of-the-workplace/
CATEGORIES:Webinar
END:VEVENT
BEGIN:VEVENT
DTSTART;TZID=America/Toronto:20201027T110000
DTEND;TZID=America/Toronto:20201027T121500
DTSTAMP:20260424T113839
CREATED:20200715T135141Z
LAST-MODIFIED:20201026T205410Z
UID:4165-1603796400-1603800900@idcanada.org
SUMMARY:IDC’s Industry Sales Professional Course: National Account Managers Round Table
DESCRIPTION:IDC’s popular Industry Sales Professionals Course (ISPC) series is going virtual! Register today for this online course\, tailored exclusively to meet the needs of architecture and design industry sales professionals. This practically-oriented course will feature several Q & A sessions with panels of registered interior designers and architects\, drawn from boutique and large design firms serving the retail\, commercial\, healthcare\, hospitality and residential sectors. \nThe series will run twice a month from August 18\, 2020 until October. Participants who attend three or more panels of the six offered\, will receive an official ISPC certificate and LinkedIn designation attendance. A certificate of completion will be issued to all registrants in attendance for each panel. \nNational Account Managers Round Table\nArchitecture and interior design firms share many of the same client\, budget and space planning challenges\, but they also experience pressures and nuances that are distinct to each profession. During this session\, learn about a few of those key pressures\, and what architecture firms need from their relationships with supply partners. The panel will also address the current challenges and the evolving relationship between designers and industry. \nPanelists (more info to come)\n \nAnthony Joseph\, Store Design Specialist at Staples Canada  \n  \n \nDonna Lawson\, Senior Designer\, Starbucks Coffee Canada \n  \n \nHeather Singh\, Design and Construction Professional \n\n\n\n\n\n\n\n\n\nFees\nMember: $49/attendee/panel +HST\nNon-Member: $98/attendee/panel +HST \nDiscounted rates for multiple panels:  \nMember: $129/attendee/3 panels +HST\nNon-Member: $258/attendee/3 panels +HST \nGroup rates (member only): \nGroup rate of 2: $88/attendee/panel +HST\nGroup rate of 2: $232/attendee/3 panels +HST\nGroup rate of 3: $132/attendee/panel +HST\nGroup rate of 3: $348/attendee/3 panels +HST \n\n \nEvent Contact: Barbora Krsiakova\, bkrsiakova@idcanada.org \n\nThis course will be offered in English. Maximum capacity for this course is 40 participants.  \nModerator\nGlen Brewer is an executive with over 25 years experience in the design and construction industries\, He is a current IDC board member\, representing manufacturers and suppliers. Glen is also IDC’s industry committee chair and leads IDC’s Sales Professionals Training Courses. Glen is a strong advocate for designers and the design community as an author\, teacher\, and presenter for IDCEC CEUs. He is an active participant in IDC’s national DesignEX shows as both a speaker/presenter and table-top attendee. Glen also mentors and speaks to many emerging design professionals. As President of Midgley Tecnica\, Glen\, along with the support of his company\, is a strong advocate of IDC as an Industry Partner member. \nTestimonials\n« I attended this course in May in Calgary. We had the great opportunity to interact directly with architects and designers in my territory. Around lunch time we had the chance to network and create relationships that may have taken more time if I tried to go directly to the firm. I am really looking forward for the next course!\nThanks Barbora Krsiakova and the IDC team for the warm welcoming. » – Léa El Jawad\, Architect and Designer Sales\nManager at Cosentino \n« I highly encourage anyone in A&D sales to partake in this valuable seminar. This event was a great opportunity to listen to the industry experts and get a better understanding of their needs from the planning phase to the completion of the project. It was great to network with industry professionals and hear feedback from everyone. Looking forward to the next event. » – Stephanie Ingram Cruikshank\, Architect & Design Sales Manager at Cosentino \n“An excellent group of panelists and very informative.” – Michelle Beaver\, Sales and Specification Specialist at\nTrustek Sales Inc.
URL:https://idcanada.org/fr/event/idcs-industry-sales-professional-course-national-account-managers-round-table-2/
CATEGORIES:Industry Course
ORGANIZER;CN="Interior Designers of Canada":MAILTO:communications@idcanada.org
END:VEVENT
BEGIN:VEVENT
DTSTART;VALUE=DATE:20201028
DTEND;VALUE=DATE:20201031
DTSTAMP:20260424T113839
CREATED:20201015T141934Z
LAST-MODIFIED:20201015T142215Z
UID:5097-1603843200-1604102399@idcanada.org
SUMMARY:LivABLE Environment Virtual Conference
DESCRIPTION:WELCOME to the LivABLE Environment Virtual Conference.\n• 3 Virtual Days\n• 30+ Industry Speakers\n• Innovative Products\n• Networking and live breakout rooms \nHighlights include: \n• Speaker on Neuro Aesthetics and How Designers Impact Health\n• Canada’s First Wellness Condo\n• Panel Discussions on The Air We Breathe: Global and In Our Homes\n• Case Study: Dementia Village from NORD Architects\, Denmark\n• Case Study: First Well Seniors Residence\, Well Building Standards\nCEU accredited & 6 ConED Structured Credits Apply. All presentations are downloadable for attendees\nThe much-awaited LivABLE Environment Conference is a fully-virtual event that will take place from October 28 to 30. Join us as we explore fresh perspectives on how to improve practices around residential design. This year’s focus is on the core elements of what it takes to design healthy\, inclusive residential spaces where people of all ages and abilities can thrive. A gathering of like-minded industry leaders and influencers from across the globe\, the LivABLE Environment Conference has a comprehensive lineup of keynote speakers\, accomplished educational presenters and panel forums. \nWhat Attendees Can Expect\nThree days filled with information\, networking and inspiration—a giant meet-and-greet in a TED Talk format with multiple industry expert speaker sessions\, a curated product expo and the opportunity to advance your skill set as a trade professional and curate your own agenda through five educational tracks: Business\, Design\, Accessibility\, Technology/Science and Wellness. Attendees will receive access to all the recorded sessions\, so they can build their own resource library along with adding contacts to their database of suppliers. \nExplore. Connect. Share Ideas.\nThis new virtual platform offers a greater opportunity for trade professionals from the built environment to have access to world-class education\, expert insights\, valuable content and networking. Find answers to your questions about products in real time. \nBe part of the LivABLE change and get ready to learn\, be inspired and supercharge your business for 2021.\nIDC Members: use promo code IDCMember for your $99 ticket (67% savings off $299 reg) \n 
URL:https://idcanada.org/fr/event/livable-environment-virtual-conference/
CATEGORIES:Third Party Event,Virtual Event
END:VEVENT
END:VCALENDAR