BEGIN:VCALENDAR
VERSION:2.0
PRODID:-//IDC - ECPv6.15.20//NONSGML v1.0//EN
CALSCALE:GREGORIAN
METHOD:PUBLISH
X-ORIGINAL-URL:https://idcanada.org/fr/
X-WR-CALDESC:Évènements pour IDC
REFRESH-INTERVAL;VALUE=DURATION:PT1H
X-Robots-Tag:noindex
X-PUBLISHED-TTL:PT1H
BEGIN:VTIMEZONE
TZID:America/Toronto
BEGIN:DAYLIGHT
TZOFFSETFROM:-0500
TZOFFSETTO:-0400
TZNAME:EDT
DTSTART:20190310T070000
END:DAYLIGHT
BEGIN:STANDARD
TZOFFSETFROM:-0400
TZOFFSETTO:-0500
TZNAME:EST
DTSTART:20191103T060000
END:STANDARD
BEGIN:DAYLIGHT
TZOFFSETFROM:-0500
TZOFFSETTO:-0400
TZNAME:EDT
DTSTART:20200308T070000
END:DAYLIGHT
BEGIN:STANDARD
TZOFFSETFROM:-0400
TZOFFSETTO:-0500
TZNAME:EST
DTSTART:20201101T060000
END:STANDARD
BEGIN:DAYLIGHT
TZOFFSETFROM:-0500
TZOFFSETTO:-0400
TZNAME:EDT
DTSTART:20210314T070000
END:DAYLIGHT
BEGIN:STANDARD
TZOFFSETFROM:-0400
TZOFFSETTO:-0500
TZNAME:EST
DTSTART:20211107T060000
END:STANDARD
END:VTIMEZONE
BEGIN:VEVENT
DTSTART;TZID=America/Toronto:20200806T120000
DTEND;TZID=America/Toronto:20200806T130000
DTSTAMP:20260424T140259
CREATED:20200727T205720Z
LAST-MODIFIED:20200804T205419Z
UID:4421-1596715200-1596718800@idcanada.org
SUMMARY:Webinar: The Art of Easy Organization
DESCRIPTION:Presentation Description: \nThe art of storage organization is based on the three F’s: form\, fit\, and function. This course will take you through current remodeling trends\, changes in consumers\, design personalization\, and how to imaginatively add accessories\, such as storage organization and profits to your designs. The discussion will focus on the nuances of various cabinet constructions and their effect as an added accessory\, how to think outside of the box when it comes to placement applications\, and how current trends affect placement. \nRev-A-Shelf will draw one lucky attendee to win a $50 Visa gift card following the webinar. \nPresenter:  \nAngie Nellis \nEastern Canada Sales Representative \nRev-A-Shelf \nhttps://rev-a-shelf.com/ \n  \nPresenter bio:  \nAngie Nellis is currently Rev-A-Shelf’s Eastern Canada Sales Representative. Angie has over 15 years of experience in architecture and design and builder sales. Previously\, she has worked for Kaycan\, Uniboard\, and Cosentino. She received her Bachelor of Commerce certification from Concordia University and a Tourism degree from LaSalle College. She is an active member of the National Kitchen & Bath Association: Ottawa Chapter and serves as secretary for the Montreal Chapter of Construction Specification Canada. She is also fluent in both French and Italian. \n  \nREGISTER NOW\nThis webinar accounts for one IDCEC approved HSW hour. Participants will receive their certificates of completion via email following the webinar\, and will need to self report their hours. \nThis webinar will be offered in English. Maximum capacity for this webinar is 100 participants. 
URL:https://idcanada.org/fr/event/webinar-the-art-of-easy-organization/
CATEGORIES:Webinar
END:VEVENT
BEGIN:VEVENT
DTSTART;TZID=America/Toronto:20200811T120000
DTEND;TZID=America/Toronto:20200811T130000
DTSTAMP:20260424T140259
CREATED:20200710T182817Z
LAST-MODIFIED:20200720T145055Z
UID:4088-1597147200-1597150800@idcanada.org
SUMMARY:Webinar: Evaluating Kitchen Surfaces
DESCRIPTION:Presentation Description: \nThe webinar will discuss the trends of kitchen design in terms of functionality and surfacing options\, go over the design and performance benefits of quartz surfacing\, explain the innovative use of quartz to transform kitchen design and describe the application possibilities of quartz surfacing beyond the kitchen. \nCaesarstone will draw one lucky attendee to win a Caesarstone bluetooth speaker following the webinar. \nPresenter: \nElizabeth Margles \nVice President Marketing\, North America \nCaesarstone Canada \nhttps://www.caesarstone.ca/ \n  \nPresenter bio: \nElizabeth (Liz) Margles has worked in the design\, fashion\, and retail space for over 20 years. Starting on the PR and advertising agency side in Toronto\, Liz has launched\, grown\, and extended brands across apparel\, décor\, and CPG industries. She launched the PC Home décor and Joe Fresh Style fashion brands in 2005 and\, as VP Marketing for the Loblaw Companies\, grew Joe Fresh to close to a billion- dollar brand within five years. Previously\, Liz was head of marketing for luxury retailer Holt Renfrew where visual merchandising\, loyalty\, and customer segmentation functions also reported to her. At Holts\, Liz launched a new website and an e-commerce platform. She has been at Caesarstone for almost five years and was recently named as VP Marketing for Canada\, the U.S. and head of Sales and Marketing for Latin America. Liz divides her time between Toronto and Charlotte\, North Carolina. \n  \nREGISTER NOW\nThis webinar accounts for one IDCEC hour. Participants will receive their certificates of completion via email following the webinar\, and will need to self report their hours. \nThis webinar will be offered in English. Maximum capacity for this webinar is 100 participants.
URL:https://idcanada.org/fr/event/webinar-evaluating-kitchen-surfaces/
CATEGORIES:Webinar
END:VEVENT
BEGIN:VEVENT
DTSTART;TZID=America/Toronto:20200812T120000
DTEND;TZID=America/Toronto:20200812T130000
DTSTAMP:20260424T140259
CREATED:20200805T130908Z
LAST-MODIFIED:20200805T131306Z
UID:4489-1597233600-1597237200@idcanada.org
SUMMARY:President's Webinar: Upcoming Events and Programs
DESCRIPTION:On August 12\, 2020\, IDC’s President\, Carol Jones will host the latest free webinar for members in which she will provide an update on IDC’s upcoming events and programs. \nSign up today for this ideal opportunity to further your engagement with IDC and to better understand the functions of your national association. \nThese webinars will be offered in English only; however\, a French version of the PowerPoint presentation will be made available upon request. \nMaximum capacity: 100 attendees \nRegister Here\nView past President’s Webinars \nThis webinar accounts for one non-IDCEC hour. Participants will receive their certificates of completion via email following the webinar and will need to self report their hours.
URL:https://idcanada.org/fr/event/presidents-webinar-upcoming-events-and-programs-2/
CATEGORIES:Webinar
END:VEVENT
BEGIN:VEVENT
DTSTART;TZID=America/Toronto:20200813T120000
DTEND;TZID=America/Toronto:20200813T130000
DTSTAMP:20260424T140259
CREATED:20200805T182130Z
LAST-MODIFIED:20200807T182737Z
UID:4431-1597320000-1597323600@idcanada.org
SUMMARY:Webinar: Ceiling Systems for High Performing Schools
DESCRIPTION:Presentation Description: \nThe informed specification of ceiling systems can contribute to high speech intelligibility\, minimal noise\, a naturally lit environment\, and good air quality. This leads to better behavior and an enhanced learning process. This course demonstrates the importance of ceiling systems to a high-performing school\, and therefore to the development of high-performing students\, and to the well being of educators and administrators. Attendees can look forward to a discussion on acoustically superior solutions for various educational spaces\, identify the benefits of natural day-lighting and how ceiling systems contribute\, and define operations and maintenance factors in ceiling system specifications. \nRockfon will draw one lucky attendee to win a $100 Amazon gift card following the webinar. \n \nPresenter:  \nDiana Hart \nManager\, Business Development and Architectural Development \nRockfon North America \nhttps://www.rockfon.com/ \n  \nPresenter bio:  \nDiana Hart is the Manager of Business Development and Architectural Development for Rockfon in North America. She brings over 25 years of experience in acoustical ceilings and is passionate about the impact ceilings can have in education\, healthcare and office spaces. She is a strong advocate for occupant well-being\, from good acoustics that can dramatically improve healing\, productivity and learning\, to using safe products with no chemicals and fire safety. Diana travels across the country meeting with architects\, designers\, facilities and end users discussing the benefits of Rockfon and stone wool ceilings. \n  \nREGISTER NOW\nThis webinar accounts for one IDCEC approved HSW hour. Participants will receive their certificates of completion via email following the webinar\, and will need to self report their hours. \nThis webinar will be offered in English. Maximum capacity for this webinar is 100 participants. 
URL:https://idcanada.org/fr/event/webinar-ceiling-systems-for-high-performing-schools/
CATEGORIES:Webinar
END:VEVENT
BEGIN:VEVENT
DTSTART;TZID=America/Toronto:20200818T110000
DTEND;TZID=America/Toronto:20200818T121500
DTSTAMP:20260424T140259
CREATED:20200710T143502Z
LAST-MODIFIED:20200805T200214Z
UID:4103-1597748400-1597752900@idcanada.org
SUMMARY:IDC’s Industry Sales Professional Course: Large Design Firms Round Table and Architectural Firms
DESCRIPTION:IDC’s popular Industry Sales Professionals Course (ISPC) series is going virtual! Register today for this online course\, tailored exclusively to meet the needs of architecture and design industry sales professionals. This practically-oriented course will feature several Q & A sessions with panels of registered interior designers and architects\, drawn from boutique and large design firms serving the retail\, commercial\, healthcare\, hospitality and residential sectors. \nThe series will run twice a month from August 18\, 2020 until October. Participants who attend three or more panels of the six offered\, will receive an official ISPC certificate and LinkedIn designation attendance. A certificate of completion will be issued to all registrants in attendance for each panel. \nLarge Design Firms Round Table and Architectural Firms\nDuring this Q & A panel session\, hear from senior interior designers about what they need from sales professionals\, and how best to go about working with them in order to become a trusted resource.  Additionally\, the panel addresses post-COVID-19 industry and how firms are working\, particularly with Industry partners. \nPanelists\n \nAlison McNeil\, Principal\, Interiors at DIALOG \n  \n\nJoe Pettipas\, Global Director\, Interior Design at IBI Group \n  \n\nMardi Najafi\, Director\, Retail Design at Figure3 \n\n\n\n\nFees\nMember: $49/attendee/panel +HST\nNon-Member: $98/attendee/panel +HST \nDiscounted rates for multiple panels:  \nMember: $129/attendee/3 panels +HST\nNon-Member: $258/attendee/3 panels +HST \nGroup rates (member only): \nGroup rate of 2: $88/attendee/panel +HST\nGroup rate of 2: $232/attendee/3 panels +HST\nGroup rate of 3: $132/attendee/panel +HST\nGroup rate of 3: $348/attendee/3 panels +HST \nDeadline to register is August 11\, 2020. \nEvent Contact: Barbora Krsiakova\, bkrsiakova@idcanada.org \n\nThis course will be offered in English. Maximum capacity for this course is 40 participants.  \nModerator\nGlen Brewer is an executive with over 25 years experience in the design and construction industries\, He is a current IDC board member\, representing manufacturers and suppliers. Glen is also IDC’s industry committee chair and leads IDC’s Sales Professionals Training Courses. Glen is a strong advocate for designers and the design community as an author\, teacher\, and presenter for IDCEC CEUs. He is an active participant in IDC’s national DesignEX shows as both a speaker/presenter and table-top attendee. Glen also mentors and speaks to many emerging design professionals. As President of Midgley Tecnica\, Glen\, along with the support of his company\, is a strong advocate of IDC as an Industry Partner member. \nTestimonials\n“The industry sales professional course held in Calgary was a great opportunity to network with local designers. I would recommend this course to any sales professionals that are new to calling on the architect and design community.” – Christine Beer-Carl\, Residential Sales Manager at Western Canada Lutron Electronics Canada Inc. \n“Thank you for the opportunity to participate in such an informative and thought provoking event. I look forward to the next one!” – Joanna Tiffin\, National Architectural and Design Representative at Schluter Systems Canada Inc. \n“The sessions were extremely informative and it was great to spend the day with key industry professionals in our marketplace.” – Matthew Ruscica\, Regional Sales Manager at Global Furniture Group
URL:https://idcanada.org/fr/event/idcs-industry-sales-professional-course/
CATEGORIES:Industry Course
ORGANIZER;CN="Interior Designers of Canada":MAILTO:communications@idcanada.org
END:VEVENT
BEGIN:VEVENT
DTSTART;TZID=America/Toronto:20200820T120000
DTEND;TZID=America/Toronto:20200820T130000
DTSTAMP:20260424T140259
CREATED:20200720T142548Z
LAST-MODIFIED:20200731T160058Z
UID:4208-1597924800-1597928400@idcanada.org
SUMMARY:Webinar: Colour's Impact on Mind and Body in the Interior Environment
DESCRIPTION:Presentation Description: \nThis presentation will teach members to recognize how the human eye perceives colour and its three basic characteristics: hue\, value\, and chroma. The discussion will focus on how colour affects emotions both positively and negatively and be able to recognize the significant psychological and physiological effect color can have in design for various environments\, such as healing environments\, environments for the aging\, and commercial and residential applications. In addition\, it will also cover the importance of age\, gender\, and culture in the perception and health impact of colour in design. \n \n  \nCambria will draw one lucky attendee to win a charcuterie board following the webinar. \n  \nPresenter: \nMegan MacKenzie \nCommercial Market Representative \nCambria \nhttps://www.cambriausa.com/ \nPresenter bio: \nGraduating from St. Clair College with a diploma in Interior Design\, Megan made the decision early on to start a career in sales. With an outgoing personality\, focus to learn and a great report within the design community\, Megan has just over 12 years of experience in the sales industry. With a strong background in furniture sales\, in 2013\, she changed direction and started with Cambria\, educating and promoting to the A&D community through continuing education presentations\, project support and new business development. Megan has a great love for design\, wine and social gathering with friends and family. \nREGISTER NOW\nThis webinar accounts for one IDCEC approved HSW hour. Participants will receive their certificates of completion via email following the webinar\, and will need to self report their hours. \nThis webinar will be offered in English. Maximum capacity for this webinar is 100 participants.
URL:https://idcanada.org/fr/event/webinar-colours-impact-on-mind-and-body-in-interior-environment/
CATEGORIES:Webinar
END:VEVENT
BEGIN:VEVENT
DTSTART;TZID=America/Toronto:20200825T110000
DTEND;TZID=America/Toronto:20200825T121500
DTSTAMP:20260424T140259
CREATED:20200710T210755Z
LAST-MODIFIED:20200811T190719Z
UID:4135-1598353200-1598357700@idcanada.org
SUMMARY:IDC’s Industry Sales Professional Course: Boutique Design Firms Round Table
DESCRIPTION:IDC’s popular Industry Sales Professionals Course (ISPC) series is going virtual! Register today for this online course\, tailored exclusively to meet the needs of architecture and design industry sales professionals. This practically-oriented course will feature several Q & A sessions with panels of registered interior designers and architects\, drawn from boutique and large design firms serving the retail\, commercial\, healthcare\, hospitality and residential sectors. \nThe series will run twice a month from August 18\, 2020 until October. Participants who attend three or more panels of the six offered\, will receive an official ISPC certificate and LinkedIn designation attendance. A certificate of completion will be issued to all registrants in attendance for each panel. \nBoutique Design Firms Round Table\nWhat are some of the most effective tips about building lasting\, mutually-beneficial working relationships with registered interior designers? What are designers looking for when they receive a visit from an industry sales representative? What are their main pressures and how can industry representatives help to solve those issues to deliver added value? What sales efforts do designers appreciate\, and what completely turns them off? These questions and more\, will be answered during this session. The panel will also address the current new challenges\, and the evolving relationship between designers and industry. \nPanelists\n \nLinda Makins\, Principal at Makinsachange Creative Environments Inc. \n  \n \nSiavash Madani\, Interior Designer at Ædifica \n  \n \nTheo West-Parks\, Principal/Creative Director at Westparks + Associates Inc. \n\nFees\nMember: $49/attendee/panel +HST\nNon-Member: $98/attendee/panel +HST \nDiscounted rates for multiple panels:  \nMember: $129/attendee/3 panels +HST\nNon-Member: $258/attendee/3 panels +HST \nGroup rates (member only): \nGroup rate of 2: $88/attendee/panel +HST\nGroup rate of 2: $232/attendee/3 panels +HST\nGroup rate of 3: $132/attendee/panel +HST\nGroup rate of 3: $348/attendee/3 panels +HST \n\n \nEvent Contact: Barbora Krsiakova\, bkrsiakova@idcanada.org \n\nThis course will be offered in English. Maximum capacity for this course is 40 participants.  \nModerator\nGlen Brewer is an executive with over 25 years experience in the design and construction industries\, He is a current IDC board member\, representing manufacturers and suppliers. Glen is also IDC’s industry committee chair and leads IDC’s Sales Professionals Training Courses. Glen is a strong advocate for designers and the design community as an author\, teacher\, and presenter for IDCEC CEUs. He is an active participant in IDC’s national DesignEX shows as both a speaker/presenter and table-top attendee. Glen also mentors and speaks to many emerging design professionals. As President of Midgley Tecnica\, Glen\, along with the support of his company\, is a strong advocate of IDC as an Industry Partner member. \nTestimonials\n“The event started some great conversations that I expect will continue. It was great to get a glimpse of inquiries and perspective from the sales side that has me continuing to think about how to better assist from within our firm.” – Kara MacGregor\, Principal at MAC Interior Design Inc. \n“An excellent group of panelists and very informative.” – Michelle Beaver\, Sales and Specification Specialist at\nTrustek Sales Inc. \n“Great event and a valuable investment of time!” – Kevin Smith\, WELL AP\, LEED AP\, Business Furniture Consultant at Teknion Furniture Systems
URL:https://idcanada.org/fr/event/idcs-industry-sales-professional-course-boutique-design-firms-round-table-2/
CATEGORIES:Industry Course
ORGANIZER;CN="Interior Designers of Canada":MAILTO:communications@idcanada.org
END:VEVENT
BEGIN:VEVENT
DTSTART;TZID=America/Toronto:20200827T120000
DTEND;TZID=America/Toronto:20200827T130000
DTSTAMP:20260424T140259
CREATED:20200809T210500Z
LAST-MODIFIED:20200817T180838Z
UID:4557-1598529600-1598533200@idcanada.org
SUMMARY:Webinar: Barrier Free - Accessible Design for the Built Environment
DESCRIPTION:Presentation Description: \nThis webinar will examine ways in which barrier-free environments can be customized to include various design elements while remaining compliant for accessibility. It will also address why bonded waterproofing technology lends itself to the construction requirements of barrier-free design. \nSchluter Systems will draw one lucky attendee to win a $100 Visa gift card following the webinar. \n  \nPresenter: \nJen Metcalfe \nArchitectural Manager\, Alberta\, Saskatchewan\, Manitoba \nSchluter Systems (Canada) Inc. \nhttps://www.schluter.ca \nPresenter bio: \nJen has been in the tile industry for 13 years and has been with Schluter for two years. Jen loves being able to provide CEU’s and education to the design and architectural community on how to enhance their installation practices using the best products on the market. \n  \nREGISTER NOW\nThis webinar accounts for one IDCEC approved HSW hour. Participants will receive their certificates of completion via email following the webinar\, and will need to self report their hours. \nThis webinar will be offered in English. Maximum capacity for this webinar is 100 participants.
URL:https://idcanada.org/fr/event/webinar-barrier-free-accessible-design-for-the-built-environment/
CATEGORIES:Webinar
END:VEVENT
END:VCALENDAR