BEGIN:VCALENDAR
VERSION:2.0
PRODID:-//IDC - ECPv6.15.20//NONSGML v1.0//EN
CALSCALE:GREGORIAN
METHOD:PUBLISH
X-WR-CALNAME:IDC
X-ORIGINAL-URL:https://idcanada.org/fr/
X-WR-CALDESC:Évènements pour IDC
REFRESH-INTERVAL;VALUE=DURATION:PT1H
X-Robots-Tag:noindex
X-PUBLISHED-TTL:PT1H
BEGIN:VTIMEZONE
TZID:America/Toronto
BEGIN:DAYLIGHT
TZOFFSETFROM:-0500
TZOFFSETTO:-0400
TZNAME:EDT
DTSTART:20190310T070000
END:DAYLIGHT
BEGIN:STANDARD
TZOFFSETFROM:-0400
TZOFFSETTO:-0500
TZNAME:EST
DTSTART:20191103T060000
END:STANDARD
BEGIN:DAYLIGHT
TZOFFSETFROM:-0500
TZOFFSETTO:-0400
TZNAME:EDT
DTSTART:20200308T070000
END:DAYLIGHT
BEGIN:STANDARD
TZOFFSETFROM:-0400
TZOFFSETTO:-0500
TZNAME:EST
DTSTART:20201101T060000
END:STANDARD
BEGIN:DAYLIGHT
TZOFFSETFROM:-0500
TZOFFSETTO:-0400
TZNAME:EDT
DTSTART:20210314T070000
END:DAYLIGHT
BEGIN:STANDARD
TZOFFSETFROM:-0400
TZOFFSETTO:-0500
TZNAME:EST
DTSTART:20211107T060000
END:STANDARD
END:VTIMEZONE
BEGIN:VEVENT
DTSTART;TZID=America/Toronto:20200211T110000
DTEND;TZID=America/Toronto:20200211T140000
DTSTAMP:20260424T230048
CREATED:20200203T155658Z
LAST-MODIFIED:20200203T155658Z
UID:2899-1581418800-1581429600@idcanada.org
SUMMARY:New Looks on the Block Party
DESCRIPTION:Explore fabulous new looks\, new showrooms including Alfemo\, Big Ass Fans\, Leftbank\, Masonal Stone\, Roberta Schilling\, Winward Canada and more! \n11-2pm Lunch\, fun block action and prizes!
URL:https://idcanada.org/fr/event/new-looks-on-the-block-party/
LOCATION:6900 Airport Rd Mississauga\, ON L4V 1E8\, 6900 Airport Rd\, Mississauga\, ON\, L4V 1E8\, Canada
CATEGORIES:Third Party Event
END:VEVENT
BEGIN:VEVENT
DTSTART;TZID=America/Toronto:20200212T120000
DTEND;TZID=America/Toronto:20200212T130000
DTSTAMP:20260424T230048
CREATED:20190927T183157Z
LAST-MODIFIED:20200115T154408Z
UID:1540-1581508800-1581512400@idcanada.org
SUMMARY:Webinar: Why Professional Liability Insurance is Essential
DESCRIPTION:This one-hour webinar\, offered by PROLINK\, will help members gain a better understanding of how liability insurance protection plays an essential role in the strength and vitality of their business. By knowing how and when your coverage responds to lawsuits\, the resulting financial devastation can be reduced or even prevented. Attendees will gain awareness of the types of exposure they face as design professionals. Understanding the exposures and proper risk management techniques will enable members to exercise better business practices in order to minimize the risk of experiencing claims\, and the resulting damage to their reputation and business operations. PROLINK was appointed as the manager of the IDC professional liability insurance program in 2012. \nPRESENTER: Derrick Leue\, President of PROLINK Ltd. \nDerrick is a registered insurance broker with an Honours’ Bachelors of Commerce degree from McMaster University. Derrick’s experience in business development\, risk management\, and national association account management has helped develop PROLINK into a national leader in managing professional association affinity insurance programs. Derrick’s risk management expertise is focused on business owners and professional service providers. As the national team leader for the IDC professional liability insurance program\, Derrick has facilitated seminars and webinars for hundreds of IDC members from across Canada. \nRegister Here\n  \nThis webinar accounts for one non-IDCEC hour. Participants will receive their certificates of completion via email following the webinar\, and will need to self report their hours. \nThis webinar will be offered in English. Please note modules subject to change.
URL:https://idcanada.org/fr/event/webinar-why-professional-liability-insurance-is-essential/
CATEGORIES:Webinar
END:VEVENT
BEGIN:VEVENT
DTSTART;TZID=America/Toronto:20200220T120000
DTEND;TZID=America/Toronto:20200220T130000
DTSTAMP:20260424T230048
CREATED:20200107T201626Z
LAST-MODIFIED:20200218T214632Z
UID:2635-1582200000-1582203600@idcanada.org
SUMMARY:Webinar: Commercial Space Planning
DESCRIPTION:During this one hour webinar\, you will develop an overview of primary egress and fire protection requirements\, based on the 2015 National Building Code of Canada (NBC) and the 2012 Ontario Building Code (OBC). Familiarize yourself with the common application requirements for multiple tenant floor areas focusing on office occupancies\, as well as pertinent definitions of NBC terms. Brush up your knowledge of fire separations\, public corridors\, suite egress\, travel distance\, cross-over provisions\, mag-locks\, and barrier-free protection on floor areas. \nPresenter: Lisa Miller-Way\, LRI Engineering Inc. \nLisa Miller-Way is the Director\, Project Management with LRI –the largest wholly-Canadian owned engineering firm specializing exclusively in fire protection engineering\, building and fire code consulting\, and emergency planning services. She is a graduate of Conestoga College (Architecture Construction Engineering Technology)\, a member of the Ontario Association of Certified Engineering Technicians and Technologists [OACETT] and a member of Professional Engineers of Ontario (PEO). In addition to over 17 years of expertise in Building Code and fire protection engineering gained on a wide variety of complex building projects\, Lisa serves on the Ontario Building Code Commission. \nWebinar Date: Feb 20\, 2020 | 12 – 1 p.m. ET\nDeadline to Register: Feb 17\, 2020 \nCost: $30 CDN for IDC Members | $50 CDN for Non-IDC Members \nREGISTER\n 
URL:https://idcanada.org/fr/event/webinar-commercial-space-planning/
CATEGORIES:Webinar
END:VEVENT
BEGIN:VEVENT
DTSTART;VALUE=DATE:20200221
DTEND;VALUE=DATE:20200224
DTSTAMP:20260424T230048
CREATED:20191127T202638Z
LAST-MODIFIED:20191217T150522Z
UID:2371-1582243200-1582502399@idcanada.org
SUMMARY:2020 SCALE: The ASID National Student Summit
DESCRIPTION:  \nSCALE: The ASID National Student Summit is THE must attend event of the year for interior design students who want to move ahead of the competition and toward a successful career. Your Future Needs SCALE. \nEXPLORE what it’s really like to live like a designer while learning from a mind-blowing cast of speakers — all in support of landing that first professional job. \nEXPERIENCE your future career through tours of top Seattle design firms and projects. \nLEARN by engaging with successful professionals in your field. An amazing group of speakers will share their personal stories and inspire you to make your career aspirations realities. \nINTERVIEW for internships and entry-level positions at The ASID National Student Career Fair. Bring your resume\, portfolio\, business attire\, and most importantly\, your talent\, and take a giant step forward in your career. \nLEARN MORE\nNote for IDC Student Members\nApply for a chance to be selected for a FREE trip to 2020 SCALE! Deadline to apply is January 6\, 2020. Applicants must be an IDC member. APPLY NOW  \nIDC student members also receive a discounted rate of $199 USD per registration. Enter discount code IDCStudent at check out.
URL:https://idcanada.org/fr/event/2020-scale-the-asid-national-student-summit/
LOCATION:Motif Seattle\, 1415 5th Ave\, Seattle\, WA\, United States
CATEGORIES:Third Party Event
END:VEVENT
BEGIN:VEVENT
DTSTART;TZID=America/Toronto:20200225T120000
DTEND;TZID=America/Toronto:20200225T130000
DTSTAMP:20260424T230048
CREATED:20190927T185017Z
LAST-MODIFIED:20200115T154501Z
UID:1546-1582632000-1582635600@idcanada.org
SUMMARY:Webinar: How to Report Your IDCEC Hours
DESCRIPTION:All your reporting-related questions will be answered! This free\, one-hour webinar offered by IDCEC\, will help members understand the CEU requirements and how to log them. You will walk through the process of logging your hours and gain a better understanding of how to use the IDCEC reporting system. \n\n\nPlease note this webinar will strictly address how to use the registry and compliance questions will not be addressed. \n\nFREE for IDC Members!\n\nPRESENTER: \nBRYNELL D’MELLO\, EXECUTIVE DIRECTOR\, IDCEC\n\n\n  \nABOUT IDCEC\n\nThe Interior Design Continuing Education Council (IDCEC) administers the CEU tracking system on their website and approves education\, whether seminars or webinars\, to ensure quality and relevance. IDCEC inspires and guides providers of continuing education programs to deliver high-quality\, lifelong learning activities for interior design practitioners.\n\nRegister Here\n  \nThis webinar accounts for one non-IDCEC hour. Participants will receive their certificates of completion via email following the webinar\, and will need to self report their hours.
URL:https://idcanada.org/fr/event/webinar-how-to-report-your-hours-with-idcec/
CATEGORIES:Webinar
END:VEVENT
END:VCALENDAR