BEGIN:VCALENDAR
VERSION:2.0
PRODID:-//IDC - ECPv6.15.20//NONSGML v1.0//EN
CALSCALE:GREGORIAN
METHOD:PUBLISH
X-WR-CALNAME:IDC
X-ORIGINAL-URL:https://idcanada.org/fr/
X-WR-CALDESC:Évènements pour IDC
REFRESH-INTERVAL;VALUE=DURATION:PT1H
X-Robots-Tag:noindex
X-PUBLISHED-TTL:PT1H
BEGIN:VTIMEZONE
TZID:America/Toronto
BEGIN:DAYLIGHT
TZOFFSETFROM:-0500
TZOFFSETTO:-0400
TZNAME:EDT
DTSTART:20250309T070000
END:DAYLIGHT
BEGIN:STANDARD
TZOFFSETFROM:-0400
TZOFFSETTO:-0500
TZNAME:EST
DTSTART:20251102T060000
END:STANDARD
BEGIN:DAYLIGHT
TZOFFSETFROM:-0500
TZOFFSETTO:-0400
TZNAME:EDT
DTSTART:20260308T070000
END:DAYLIGHT
BEGIN:STANDARD
TZOFFSETFROM:-0400
TZOFFSETTO:-0500
TZNAME:EST
DTSTART:20261101T060000
END:STANDARD
BEGIN:DAYLIGHT
TZOFFSETFROM:-0500
TZOFFSETTO:-0400
TZNAME:EDT
DTSTART:20270314T070000
END:DAYLIGHT
BEGIN:STANDARD
TZOFFSETFROM:-0400
TZOFFSETTO:-0500
TZNAME:EST
DTSTART:20271107T060000
END:STANDARD
END:VTIMEZONE
BEGIN:VEVENT
DTSTART;TZID=America/Toronto:20260421T173000
DTEND;TZID=America/Toronto:20260421T193000
DTSTAMP:20260421T053933
CREATED:20260410T221846Z
LAST-MODIFIED:20260413T180348Z
UID:23988-1776792600-1776799800@idcanada.org
SUMMARY:Design Your Impact Panel (Happy Hour): Sustainability in Action
DESCRIPTION:Material Bank is thrilled to host our Design Your Impact CEU Series: Toronto edition with Gensler. \nSustainability isn’t the headline anymore. It’s the expectation. But how?\nThe real question in 2026: who’s actually executing? \nThe goals are clear. The friction is real. And most firms are somewhere between “we’ve started” and “we’re stuck.” Architectural and Design teams are navigating embodied and operational carbon\, material health\, transparency\, circularity\, budgets and client pressure – all at once. This session cuts through theory and gets into what’s actually working on commercial projects right now. \nStructured as a dynamic panel discussion\, this event brings together leaders from architecture\, design\, ownership\, and construction to unpack: \n\nHow teams are reducing carbon without blowing up budgets\nWhere implementation still breaks down\nHow to align internal teams and external partners\nWhat small\, repeatable actions are compounding into measurable impact\n\nExpect practical insight\, honest conversation\, and tangible takeaways you can apply immediately to active projects. \nIf you’re tired of sustainability sounding good in theory but feeling messy in practice — this is your event. \nRegister for a FREE Material Bank account by clicking here. \nPanel Moderator — \nRebecca Best\, EVP Sustainability; Material Bank \nPanelists — \n\nPhil Galway Witham\, Resilience Leader & Architect\, Senior Associate\, Gensler\nSusan Tienhaara\, Quality Manager\, Govan Brown & Associates\nAlexander Josephson\, Founder\, PARTISANS\nSara Dagovic\, Design Director\, Workplace Design Advisory\, JLL\n\nClick here to RSVP.
URL:https://idcanada.org/fr/event/design-your-impact-panel-happy-hour-sustainability-in-action/
LOCATION:Gensler\, 150 King St W Suite 1400\, Toronto\, ON\, M5H 1J9\, Canada
END:VEVENT
END:VCALENDAR