BEGIN:VCALENDAR
VERSION:2.0
PRODID:-//IDC - ECPv6.15.20//NONSGML v1.0//EN
CALSCALE:GREGORIAN
METHOD:PUBLISH
X-ORIGINAL-URL:https://idcanada.org
X-WR-CALDESC:Events for IDC
REFRESH-INTERVAL;VALUE=DURATION:PT1H
X-Robots-Tag:noindex
X-PUBLISHED-TTL:PT1H
BEGIN:VTIMEZONE
TZID:America/Toronto
BEGIN:DAYLIGHT
TZOFFSETFROM:-0500
TZOFFSETTO:-0400
TZNAME:EDT
DTSTART:20190310T070000
END:DAYLIGHT
BEGIN:STANDARD
TZOFFSETFROM:-0400
TZOFFSETTO:-0500
TZNAME:EST
DTSTART:20191103T060000
END:STANDARD
BEGIN:DAYLIGHT
TZOFFSETFROM:-0500
TZOFFSETTO:-0400
TZNAME:EDT
DTSTART:20200308T070000
END:DAYLIGHT
BEGIN:STANDARD
TZOFFSETFROM:-0400
TZOFFSETTO:-0500
TZNAME:EST
DTSTART:20201101T060000
END:STANDARD
BEGIN:DAYLIGHT
TZOFFSETFROM:-0500
TZOFFSETTO:-0400
TZNAME:EDT
DTSTART:20210314T070000
END:DAYLIGHT
BEGIN:STANDARD
TZOFFSETFROM:-0400
TZOFFSETTO:-0500
TZNAME:EST
DTSTART:20211107T060000
END:STANDARD
END:VTIMEZONE
BEGIN:VEVENT
DTSTART;VALUE=DATE:20200609
DTEND;VALUE=DATE:20200611
DTSTAMP:20260421T050058
CREATED:20200603T174549Z
LAST-MODIFIED:20200603T175351Z
UID:3836-1591660800-1591833599@idcanada.org
SUMMARY:Knoll Design Days
DESCRIPTION:Exploring Opportunities for Change \nJoin Knoll for a holistic\, research-driven point-of-view and insights from today’s top thinkers. Learn how the most successful workplaces adapt to change through good design. Learn more. \nTuesday\, June 9 \n12:00–12:30 PM ET \nk.talk \nReimagine the Workplace \nHear from Knoll vice president\, workplace Tracy Wymer and senior research director Kylie Roth as they discuss the evolution of the workplace in relation to our latest thinking on planning spaces that balance comfort and humanity. \n12:45–1:30 PM ET \nk.talk \nLooking Ahead – The Art of Working \nLearn what makes an engaging workplace from Antenna Design principals Sigi Moeslinger and Masamichi Udagawa; David Rockwell\, Founder and President\, Rockwell Group; and Knoll design director Benjamin Pardo. \n1:45–2:45 PM ET \nFresh Thinking \nWorkplace Planning for Individuals and Teams \nFocus on Workstations and Private Offices \nPlan. Create. Furnish. What are the themes and solutions driving workplace planning? Find out from the Knoll design and product team. \n3:00 – 3:45 PM ET \nWomen in Design \nWhat Makes Modern \nExplore perspectives on modern design for the way we work and live with Zoë Ryan\, the Art Institute of Chicago’s John H. Bryan Chair and Curator of Architecture and Design\, who invites architects Sharon Johnston\, Johnston Marklee & Associates\, and India Madhavi to discuss their work. \n4:00 – 5:00 PM ET \nFresh Thinking \nMaterials in Times of Change \nTextiles\, Felt and More \nWhat makes up the perfect blend of workplace materials and sustainable design? Interior Design editor-in-chief Cindy Allen brings together Copenhagen-based designer Nina Bruun\, KnollTextiles creative director Dorothy Cosonas and Kim Yao\, principal ARO Architecture Research Office\, to shed light on color and texture. \n5:15 – 6:00 PM ET \nCocktails and Tea Together\, Apart \nHappy Hour with Knoll Design Director Benjamin Pardo and Friends \nJoin Benjamin\, Milan-based designer Piero Lissoni and friends for design insights. Complimentary cocktail recipe (and favorite teas); bring your own beverage. \nWednesday\, June 10 \n12:00 – 12:45 PM ET \nk.talk \nStudio Visit with Thomas Bentzen \nMeet Thomas Bentzen in his Copenhagen\, Denmark studio and explore his perspective on form\, function and materials with Spencer Bailey\, co-host of the Time Sensitive and At a Distance podcasts\, as he presents his designs for Muuto. \n1:00- 2:15 PM ET \nFresh Thinking \nWorkplace Planning for Individuals and Teams \nFocus on Soft Architecture\, Tables and Seating \nPlan. Create. Furnish. What are the themes driving the planning of group spaces? Find out from the Knoll design and product team with insights from designers Edward Barber\, Dan Grabowski\, Marc Krusin and Jay Osgerby that inform planning meeting areas\, training rooms and casual spaces. \n2:30 – 3:15 PM ET \nWomen in Design \nColor and Wellbeing \nLearn how the elements around us have an impact on how we feel with Zoë Ryan\, the Art Institute of Chicago’s John H. Bryan Chair and Curator of Architecture; Marie Hesseldahl\, Muuto product design manager; and Susan Magsamen\, Founder and Executive Director of the International Arts + Mind Lab\, Johns Hopkins University. \n3:30 – 4:30 PM ET \nFresh Thinking \nHigher Education Design \nHear about practical strategies for higher education design with Knoll Vice President for Education/Healthcare Carol Crane who leads a discussion with campus planners about how colleges and universities are reimagining facilities and programs to adapt to the realities of bringing students\, faculty and staff back to campus. Panelists include Ryan Swanson\, Associate Vice President\, University of Nebraska Campus Planning and Facility Management; Margaret Carney\, Campus Architect\, Cornell University; and Anne Gazzaniga\, Senior VP and University Planner\, Arizona State University. \n4:45 – 5:30 PM ET \nCocktails and Tea Together\, Apart \nHappy Hour with Knoll Design Director Benjamin Pardo and Friends \nJoin Benjamin\, London-based designers Edward Barber and Jay Osgerby and friends for design insights. Complimentary cocktail recipe (and favorite teas); bring your own beverage. \n 
URL:https://idcanada.org/event/knoll-design-days/
CATEGORIES:Third Party Event
END:VEVENT
END:VCALENDAR