BEGIN:VCALENDAR
VERSION:2.0
PRODID:-//IDC - ECPv6.15.20//NONSGML v1.0//EN
CALSCALE:GREGORIAN
METHOD:PUBLISH
X-ORIGINAL-URL:https://idcanada.org
X-WR-CALDESC:Events for IDC
REFRESH-INTERVAL;VALUE=DURATION:PT1H
X-Robots-Tag:noindex
X-PUBLISHED-TTL:PT1H
BEGIN:VTIMEZONE
TZID:America/Toronto
BEGIN:DAYLIGHT
TZOFFSETFROM:-0500
TZOFFSETTO:-0400
TZNAME:EDT
DTSTART:20190310T070000
END:DAYLIGHT
BEGIN:STANDARD
TZOFFSETFROM:-0400
TZOFFSETTO:-0500
TZNAME:EST
DTSTART:20191103T060000
END:STANDARD
BEGIN:DAYLIGHT
TZOFFSETFROM:-0500
TZOFFSETTO:-0400
TZNAME:EDT
DTSTART:20200308T070000
END:DAYLIGHT
BEGIN:STANDARD
TZOFFSETFROM:-0400
TZOFFSETTO:-0500
TZNAME:EST
DTSTART:20201101T060000
END:STANDARD
BEGIN:DAYLIGHT
TZOFFSETFROM:-0500
TZOFFSETTO:-0400
TZNAME:EDT
DTSTART:20210314T070000
END:DAYLIGHT
BEGIN:STANDARD
TZOFFSETFROM:-0400
TZOFFSETTO:-0500
TZNAME:EST
DTSTART:20211107T060000
END:STANDARD
END:VTIMEZONE
BEGIN:VEVENT
DTSTART;TZID=America/Toronto:20200506T120000
DTEND;TZID=America/Toronto:20200506T130000
DTSTAMP:20260421T062648
CREATED:20200430T202331Z
LAST-MODIFIED:20200430T202708Z
UID:3432-1588766400-1588770000@idcanada.org
SUMMARY:Lutron Webinar: Fabrics and Tapestries
DESCRIPTION:This course will teach participants how to choose the best solar protection for windows. This course is targeted towards specifiers and members of the design community to help better educate them on the basics of how fabrics are composed and woven. Today’s modern building trend of glass facades and curtain walls presents a challenge of proper and effective daylight management. However\, while shading motor technology is cutting edge\, the shade is only as efficient as the fabric selected. Attendees will learn how to identify fabrics by composition\, structure\, and properties. In addition\, participants will learn how all these factors can affect a fabric’s performance and have an introduction to making the selection based on the project priorities and the information presented.  \nAfter registering\, you will receive a confirmation email containing information about joining the webinar. \nView System Requirements  \nRegister Here
URL:https://idcanada.org/event/lutron-webinar-fabrics-and-tapestries/
CATEGORIES:Third Party Event,Webinar
END:VEVENT
END:VCALENDAR