BEGIN:VCALENDAR
VERSION:2.0
PRODID:-//IDC - ECPv6.15.20//NONSGML v1.0//EN
CALSCALE:GREGORIAN
METHOD:PUBLISH
X-WR-CALNAME:IDC
X-ORIGINAL-URL:https://idcanada.org
X-WR-CALDESC:Events for IDC
REFRESH-INTERVAL;VALUE=DURATION:PT1H
X-Robots-Tag:noindex
X-PUBLISHED-TTL:PT1H
BEGIN:VTIMEZONE
TZID:America/Toronto
BEGIN:DAYLIGHT
TZOFFSETFROM:-0500
TZOFFSETTO:-0400
TZNAME:EDT
DTSTART:20250309T070000
END:DAYLIGHT
BEGIN:STANDARD
TZOFFSETFROM:-0400
TZOFFSETTO:-0500
TZNAME:EST
DTSTART:20251102T060000
END:STANDARD
BEGIN:DAYLIGHT
TZOFFSETFROM:-0500
TZOFFSETTO:-0400
TZNAME:EDT
DTSTART:20260308T070000
END:DAYLIGHT
BEGIN:STANDARD
TZOFFSETFROM:-0400
TZOFFSETTO:-0500
TZNAME:EST
DTSTART:20261101T060000
END:STANDARD
BEGIN:DAYLIGHT
TZOFFSETFROM:-0500
TZOFFSETTO:-0400
TZNAME:EDT
DTSTART:20270314T070000
END:DAYLIGHT
BEGIN:STANDARD
TZOFFSETFROM:-0400
TZOFFSETTO:-0500
TZNAME:EST
DTSTART:20271107T060000
END:STANDARD
END:VTIMEZONE
BEGIN:VEVENT
DTSTART;VALUE=DATE:20260422
DTEND;VALUE=DATE:20260424
DTSTAMP:20260422T054020
CREATED:20260317T133156Z
LAST-MODIFIED:20260317T133157Z
UID:23858-1776816000-1776988799@idcanada.org
SUMMARY:KPU Wilson School of Design 2026 Grad Show
DESCRIPTION:See website for details.
URL:https://idcanada.org/event/2026-kpu-interior-design-grad-show/
LOCATION:KPU Wilson School of Design Campus\, 5600 Kwantlen St\, Richmond\, British Columbia\, Canada
CATEGORIES:Third Party Event
END:VEVENT
END:VCALENDAR